{"text_format":"1","workbook":"xlsx","n_sheets":2,"sheets":["Sheet3","Sheet1"],"not_rendered":{"charts":0,"images":0,"macros":1,"external_links":1,"defined_names":0,"comments":1,"pivot_tables":0},"unopened":[],"bounds":{"document_bytes":16777216,"sheet_cells":100000,"rows_first":2000,"rows_last":500,"rows_between":2000,"halvings":0,"cell_chars":16384,"cell_head_chars":4096},"cells_cut":0,"cells_raw":0,"read":"whole","date_system":"1900"}

{"sheet":"Sheet3","index":0,"n_rows":671,"n_cols":20,"rows_kept":671,"cut":false,"hidden":false,"merged":[[1,0,7,0],[8,0,14,0],[17,0,22,0],[27,0,31,0],[23,0,26,0],[37,0,41,0],[32,0,36,0],[48,0,49,0],[42,0,47,0],[56,0,58,0],[54,0,55,0],[52,0,53,0],[50,0,51,0],[68,0,69,0],[66,0,67,0],[64,0,65,0],[62,0,63,0],[59,0,61,0],[70,0,77,0],[78,0,83,0],[93,0,95,0],[84,0,89,0],[105,0,106,0],[103,0,104,0],[96,0,102,0],[107,0,112,0],[113,0,118,0],[124,0,128,0],[119,0,123,0],[138,0,139,0],[135,0,137,0],[129,0,134,0],[146,0,148,0],[143,0,145,0],[140,0,142,0],[156,0,160,0],[149,0,155,0],[170,0,174,0],[162,0,166,0],[184,0,187,0],[177,0,183,0],[192,0,195,0],[188,0,190,0],[202,0,203,0],[199,0,201,0],[196,0,198,0],[204,0,209,0],[215,0,218,0],[210,0,214,0],[227,0,228,0],[225,0,226,0],[222,0,224,0],[219,0,221,0],[229,0,236,0],[238,0,243,0],[245,0,256,0],[257,0,263,0],[264,0,269,0],[270,0,275,0],[289,0,290,0],[279,0,288,0],[291,0,298,0],[304,0,308,0],[299,0,303,0],[309,0,315,0],[316,0,323,0],[331,0,332,0],[329,0,330,0],[327,0,328,0],[324,0,326,0],[348,0,353,0],[360,0,363,0],[354,0,359,0],[368,0,371,0],[364,0,367,0],[372,0,378,0],[393,0,394,0],[387,0,390,0],[379,0,386,0],[397,0,402,0],[408,0,409,0],[403,0,407,0],[410,0,415,0],[416,0,424,0],[436,0,437,0],[425,0,432,0],[449,0,452,0],[440,0,446,0],[453,0,458,0],[459,0,465,0],[474,0,475,0],[472,0,473,0],[470,0,471,0],[468,0,469,0],[466,0,467,0],[476,0,481,0],[487,0,491,0],[482,0,486,0],[497,0,501,0],[492,0,496,0],[507,0,511,0],[502,0,506,0],[517,0,518,0],[512,0,516,0],[525,0,527,0],[523,0,524,0],[521,0,522,0],[519,0,520,0],[532,0,536,0],[528,0,531,0],[537,0,543,0],[544,0,550,0],[562,0,564,0],[559,0,561,0],[551,0,557,0],[568,0,571,0],[565,0,567,0],[578,0,579,0],[576,0,577,0],[572,0,575,0],[339,0,345,0],[333,0,338,0]]}
["成品编码","产品名称","部件编码","部件名称","颜色","包/套内数量","单位","包装编码","安全库存","最高库存","库位","单价","进仓","系列","备注",null,"成品编码","产品名称","部件编码","部件名称"]
["305010001","柱天下主管桌   FLO-D2-2318 2300*1800*760   ",305010002,"主台面板=1、","OF-0721S暖白浮雕MF",1,"包","6-1",0,"15",607,null,{"$f":"VLOOKUP(A:A,[1]进仓汇总!A$1:G$65536,7,0)","v":{"$error":"#N/A"}},"柱天下",null,null,null,{"$f":"look(#REF!,A$1:D$671,2,ROW(#REF!))","v":{"$error":"#NAME?"}},{"$f":"look(#REF!,A$1:D$671,3,ROW(#REF!))","v":{"$error":"#NAME?"}},{"$f":"+look(#REF!,A$1:D$671,4,ROW(#REF!))","v":{"$error":"#NAME?"}}]
[null,"柱天下主管桌   FLO-D2-2318 2300*1800*760   ",305010003,"附台面板=1，       异型面板=1  ","OF-0721S暖白浮雕MF",1,"包","6-2",0,"15",607,null,{"$f":"VLOOKUP(A:A,[1]进仓汇总!A$1:G$65536,7,0)","v":{"$error":"#N/A"}},"柱天下",null,null,null,{"$f":"look(#REF!,A$1:D$671,2,ROW(A2))","v":{"$error":"#NAME?"}},{"$f":"look(#REF!,A$1:D$671,3,ROW(A2))","v":{"$error":"#NAME?"}},{"$f":"+look(#REF!,A$1:D$671,4,ROW(A2))","v":{"$error":"#NAME?"}}]
[null,"柱天下主管桌   FLO-D2-2318 2300*1800*760   ","399880001-51","固定柜=1","暖白/铁灰",1,"包","6-3",0,"15",607,null,{"$f":"VLOOKUP(A:A,[1]进仓汇总!A$1:G$65536,7,0)","v":{"$error":"#N/A"}},"柱天下",null,null,null,{"$f":"look(#REF!,A$1:D$671,2,ROW(A3))","v":{"$error":"#NAME?"}},{"$f":"look(#REF!,A$1:D$671,3,ROW(A3))","v":{"$error":"#NAME?"}},{"$f":"+look(#REF!,A$1:D$671,4,ROW(A3))","v":{"$error":"#NAME?"}}]
[null,"柱天下主管桌   FLO-D2-2318 2300*1800*760   ",305010004,"D168梅花柱脚=4     托臂=8","氧化+闪银",1,"包","6-4",0,"15",607,null,{"$f":"VLOOKUP(A:A,[1]进仓汇总!A$1:G$65536,7,0)","v":{"$error":"#N/A"}},"柱天下",null,null,null,{"$f":"look(#REF!,A$1:D$671,2,ROW(A4))","v":{"$error":"#NAME?"}},{"$f":"look(#REF!,A$1:D$671,3,ROW(A4))","v":{"$error":"#NAME?"}},{"$f":"+look(#REF!,A$1:D$671,4,ROW(A4))","v":{"$error":"#NAME?"}}]
[null,"柱天下主管桌   FLO-D2-2318 2300*1800*760   ",305010005,"钢制档板=1         ","闪银",1,"包","6-5",0,"15",607,null,{"$f":"VLOOKUP(A:A,[1]进仓汇总!A$1:G$65536,7,0)","v":{"$error":"#N/A"}},"柱天下",null,null,null,{"$f":"look(#REF!,A$1:D$671,2,ROW(A5))","v":{"$error":"#NAME?"}},{"$f":"look(#REF!,A$1:D$671,3,ROW(A5))","v":{"$error":"#NAME?"}},{"$f":"+look(#REF!,A$1:D$671,4,ROW(A5))","v":{"$error":"#NAME?"}}]
[null,"柱天下主管桌   FLO-D2-2318 2300*1800*760   ",305010006,"支撑钢架=1","闪银","1","包","6-6",0,"15",607,null,{"$f":"VLOOKUP(A:A,[1]进仓汇总!A$1:G$65536,7,0)","v":{"$error":"#N/A"}},"柱天下",null,null,null,{"$f":"look(#REF!,A$1:D$671,2,ROW(A6))","v":{"$error":"#NAME?"}},{"$f":"look(#REF!,A$1:D$671,3,ROW(A6))","v":{"$error":"#NAME?"}},{"$f":"+look(#REF!,A$1:D$671,4,ROW(A6))","v":{"$error":"#NAME?"}}]
[null,"柱天下主管桌   FLO-D2-2318 2300*1800*760   ",305010007,"主机架=1 （可选）","暖白/闪银","1","包","7-7",0,"15",607,null,{"$f":"VLOOKUP(A:A,[1]进仓汇总!A$1:G$65536,7,0)","v":{"$error":"#N/A"}},"柱天下",null,null,null,{"$f":"look(#REF!,A$1:D$671,2,ROW(A7))","v":{"$error":"#NAME?"}},{"$f":"look(#REF!,A$1:D$671,3,ROW(A7))","v":{"$error":"#NAME?"}},{"$f":"+look(#REF!,A$1:D$671,4,ROW(A7))","v":{"$error":"#NAME?"}}]
["305040001","柱天下四人位 FLO-W1-2814  2800*1400*760 ",305040002,"台面板=4  ","OF-0722S暖白浮雕MF","2","包","12-1,2",0,"10","608a",null,{"$f":"VLOOKUP(A:A,[1]进仓汇总!A$1:G$65536,7,0)","v":{"$error":"#N/A"}},"柱天下",null,null,null,{"$f":"look(#REF!,A$1:D$671,2,ROW(#REF!))","v":{"$error":"#NAME?"}},{"$f":"look(#REF!,A$1:D$671,3,ROW(#REF!))","v":{"$error":"#NAME?"}},{"$f":"+look(#REF!,A$1:D$671,4,ROW(#REF!))","v":{"$error":"#NAME?"}}]
[null,"柱天下四人位 FLO-W1-2814  2800*1400*760 ","399880003-31","活动柜","暖白/铁灰","4","包","12-3,4.5.6",0,"10","C2区",null,{"$f":"VLOOKUP(A:A,[1]进仓汇总!A$1:G$65536,7,0)","v":{"$error":"#N/A"}},"柱天下",null,null,null,{"$f":"look(#REF!,A$1:D$671,2,ROW(A9))","v":{"$error":"#NAME?"}},{"$f":"look(#REF!,A$1:D$671,3,ROW(A9))","v":{"$error":"#NAME?"}},{"$f":"+look(#REF!,A$1:D$671,4,ROW(A9))","v":{"$error":"#NAME?"}}]
[null,"柱天下四人位 FLO-W1-2814  2800*1400*760 ",305040004,"D168屏风A=2","铁灰/树纹","1","包","12-7",0,"10",608,null,{"$f":"VLOOKUP(A:A,[1]进仓汇总!A$1:G$65536,7,0)","v":{"$error":"#N/A"}},"柱天下",null,null,null,{"$f":"look(#REF!,A$1:D$671,2,ROW(A10))","v":{"$error":"#NAME?"}},{"$f":"look(#REF!,A$1:D$671,3,ROW(A10))","v":{"$error":"#NAME?"}},{"$f":"+look(#REF!,A$1:D$671,4,ROW(A10))","v":{"$error":"#NAME?"}}]
[null,"柱天下四人位 FLO-W1-2814  2800*1400*760 ",305040005,"D168屏风B=2","铁灰/树纹","1","包","12-8",0,"10",608,null,{"$f":"VLOOKUP(A:A,[1]进仓汇总!A$1:G$65536,7,0)","v":{"$error":"#N/A"}},"柱天下",null,null,null,{"$f":"look(#REF!,A$1:D$671,2,ROW(A11))","v":{"$error":"#NAME?"}},{"$f":"look(#REF!,A$1:D$671,3,ROW(A11))","v":{"$error":"#NAME?"}},{"$f":"+look(#REF!,A$1:D$671,4,ROW(A11))","v":{"$error":"#NAME?"}}]
[null,"柱天下四人位 FLO-W1-2814  2800*1400*760 ",305040006,"D168屏风C=2","铁灰/树纹","2","包","12-9,10",0,"10",608,null,{"$f":"VLOOKUP(A:A,[1]进仓汇总!A$1:G$65536,7,0)","v":{"$error":"#N/A"}},"柱天下",null,null,null,{"$f":"look(#REF!,A$1:D$671,2,ROW(A12))","v":{"$error":"#NAME?"}},{"$f":"look(#REF!,A$1:D$671,3,ROW(A12))","v":{"$error":"#NAME?"}},{"$f":"+look(#REF!,A$1:D$671,4,ROW(A12))","v":{"$error":"#NAME?"}}]
[null,"柱天下四人位 FLO-W1-2814  2800*1400*760 ",305040007,"T封边1=2，T封边2=6   L封边=4","氧化","1","包","12-11",0,"10",608,null,{"$f":"VLOOKUP(A:A,[1]进仓汇总!A$1:G$65536,7,0)","v":{"$error":"#N/A"}},"柱天下"]
[null,"柱天下四人位 FLO-W1-2814  2800*1400*760 ",305040008,"屏风配件","镀锌","1","包","12-12",0,"10",608,null,{"$f":"VLOOKUP(A:A,[1]进仓汇总!A$1:G$65536,7,0)","v":{"$error":"#N/A"}},"柱天下"]
["305040003","柱天下四人位 FLO-W1-2814  2800*1400*760 ",null,"主机架=4（可选）","暖白/闪银","1","包","13-13",0,null,608,null,{"$f":"VLOOKUP(A:A,[1]进仓汇总!A$1:G$65536,7,0)","v":{"$error":"#N/A"}},"柱天下"]
["305040009","柱天下四人位 FLO-W1-2814  2800*1400*760 ",null,"新款：活动柜","暖白/铁灰",null,"包","1-1",0,null,"小房间",null,{"$f":"VLOOKUP(A:A,[1]进仓汇总!A$1:G$65536,7,0)","v":{"$error":"#N/A"}},"柱天下"]
["301010001","欧扬主管桌 OYDN-D2-1815 1800*1500*760  左边 ",null,"欧扬主管桌1800*1500*760 左边",null,null,null,null,0,"20",906,1012,{"$f":"VLOOKUP(A:A,[1]进仓汇总!A$1:G$65536,7,0)","v":{"$error":"#N/A"}},"欧扬 铁灰"]
[null,"欧扬主管桌 OYDN-D2-1815 1800*1500*760  左边 ",301010002,"L型台面板=1   ","暖白",1,"包","4-1",0,"20",906,0,{"$f":"VLOOKUP(A:A,[1]进仓汇总!A$1:G$65536,7,0)","v":{"$error":"#N/A"}},"欧扬 铁灰"]
[null,"欧扬主管桌 OYDN-D2-1815 1800*1500*760  左边 ","399010001-21","欧扬钢脚=2","碳灰",1,"包","4-2",0,"20",906,0,{"$f":"VLOOKUP(A:A,[1]进仓汇总!A$1:G$65536,7,0)","v":{"$error":"#N/A"}},"欧扬 铁灰"]
[null,"欧扬主管桌 OYDN-D2-1815 1800*1500*760  左边 ","399010002-21","欧扬挡板=1              欧扬横杆=2","碳灰",1,"包","4-3",0,"20",906,0,{"$f":"VLOOKUP(A:A,[1]进仓汇总!A$1:G$65536,7,0)","v":{"$error":"#N/A"}},"欧扬 铁灰"]
[null,"欧扬主管桌 OYDN-D2-1815 1800*1500*760  左边 ","399880001-52","固定柜=1","暖白/铁灰",1,"个","4-4",0,"20",904,0,{"$f":"VLOOKUP(A:A,[1]进仓汇总!A$1:G$65536,7,0)","v":{"$error":"#N/A"}},"欧扬 铁灰",-1]
[null,"欧扬主管桌 OYDN-D2-1815 1800*1500*760  左边 ",399010003,"主机架=1(可选）","暖白/碳灰",1,"包","5-5",0,null,904,0,{"$f":"VLOOKUP(A:A,[1]进仓汇总!A$1:G$65536,7,0)","v":{"$error":"#N/A"}},"欧扬 铁灰"]
["301010003","欧扬主管桌 OYDN-D2-1815 1800*1500*760  右边 ",301010004,"L型台面板=1  ","暖白",1,"包","4-1",0,"20",904,1012,{"$f":"VLOOKUP(A:A,[1]进仓汇总!A$1:G$65536,7,0)","v":{"$error":"#N/A"}},"欧扬 铁灰"]
[null,"欧扬主管桌 OYDN-D2-1815 1800*1500*760  右边 ","399010001-22","欧扬钢脚=2","碳灰",1,"包","4-2",0,"20",904,0,{"$f":"VLOOKUP(A:A,[1]进仓汇总!A$1:G$65536,7,0)","v":{"$error":"#N/A"}},"欧扬 铁灰"]
[null,"欧扬主管桌 OYDN-D2-1815 1800*1500*760  右边 ","399010002-22","欧扬挡板=1              欧扬横杆=2","碳灰",1,"包","4-3",0,"20",904,0,{"$f":"VLOOKUP(A:A,[1]进仓汇总!A$1:G$65536,7,0)","v":{"$error":"#N/A"}},"欧扬 铁灰"]
[null,"欧扬主管桌 OYDN-D2-1815 1800*1500*760  右边 ","399880001-53","固定柜=1","暖白/铁灰",1,"个","4-4",0,null,"E区",0,{"$f":"VLOOKUP(A:A,[1]进仓汇总!A$1:G$65536,7,0)","v":{"$error":"#N/A"}},"欧扬 铁灰"]
["301010005","欧扬主管桌 OYDN-D4-1715 1750*1500*760  左边",301010006,"主台面板=1  ","暖白浮雕",1,"包","5-1",10,"20",908,null,{"$f":"VLOOKUP(A:A,[1]进仓汇总!A$1:G$65536,7,0)","v":{"$error":"#N/A"}},"欧扬 铁灰"]
[null,"欧扬主管桌 OYDN-D4-1715 1750*1500*760  左边",301010007,"附台面板=2","暖白浮雕",1,"包","5-2",10,"20",908,null,{"$f":"VLOOKUP(A:A,[1]进仓汇总!A$1:G$65536,7,0)","v":{"$error":"#N/A"}},"欧扬 铁灰"]
[null,"欧扬主管桌 OYDN-D4-1715 1750*1500*760  左边","399010004-41","欧扬钢脚=2","碳灰",1,"包","5-3",10,"20",908,null,{"$f":"VLOOKUP(A:A,[1]进仓汇总!A$1:G$65536,7,0)","v":{"$error":"#N/A"}},"欧扬 铁灰"]
[null,"欧扬主管桌 OYDN-D4-1715 1750*1500*760  左边","399010005-41","欧扬挡板=1              欧扬横杆=2","碳灰",1,"包","5-4",10,"20",908,null,{"$f":"VLOOKUP(A:A,[1]进仓汇总!A$1:G$65536,7,0)","v":{"$error":"#N/A"}},"欧扬 铁灰"]
[null,"欧扬主管桌 OYDN-D4-1715 1750*1500*760  左边","399880001-54","固定柜=1 ","暖白/铁灰",1,"个","5-5",10,"20",908,null,{"$f":"VLOOKUP(A:A,[1]进仓汇总!A$1:G$65536,7,0)","v":{"$error":"#N/A"}},"欧扬 铁灰"]
["301010008","欧扬主管桌 OYDN-D4-1715 1750*1500*760  右边",301010009,"主台面板=1 ","暖白浮雕",1,"包","5-1",10,"20",908,null,{"$f":"VLOOKUP(A:A,[1]进仓汇总!A$1:G$65536,7,0)","v":{"$error":"#N/A"}},"欧扬 铁灰"]
[null,"欧扬主管桌 OYDN-D4-1715 1750*1500*760  右边",301010010,"附台面板=1","暖白浮雕",1,"包","5-2",10,"20",908,null,{"$f":"VLOOKUP(A:A,[1]进仓汇总!A$1:G$65536,7,0)","v":{"$error":"#N/A"}},"欧扬 铁灰"]
[null,"欧扬主管桌 OYDN-D4-1715 1750*1500*760  右边","399010004-42","欧扬钢脚=2","碳灰",1,"包","5-3",10,"20",908,null,{"$f":"VLOOKUP(A:A,[1]进仓汇总!A$1:G$65536,7,0)","v":{"$error":"#N/A"}},"欧扬 铁灰"]
[null,"欧扬主管桌 OYDN-D4-1715 1750*1500*760  右边","399010005-42","欧扬挡板=1              欧扬横杆=2","碳灰",1,"包","5-4",10,"20",908,null,{"$f":"VLOOKUP(A:A,[1]进仓汇总!A$1:G$65536,7,0)","v":{"$error":"#N/A"}},"欧扬 铁灰"]
[null,"欧扬主管桌 OYDN-D4-1715 1750*1500*760  右边","399880001-55","固定柜=1 ","暖白/铁灰",1,"个","5-5",10,"20",908,null,{"$f":"VLOOKUP(A:A,[1]进仓汇总!A$1:G$65536,7,0)","v":{"$error":"#N/A"}},"欧扬 铁灰"]
["301010011","欧扬主管桌 OYDN-D4-1715 1750*1500*760  左边",301010012,"主台面板=1  ","布纹浮雕",1,"包","5-1",10,"20",1002,null,{"$f":"VLOOKUP(A:A,[1]进仓汇总!A$1:G$65536,7,0)","v":{"$error":"#N/A"}},"欧扬 铁灰"]
[null,"欧扬主管桌 OYDN-D4-1715 1750*1500*760  左边",301010013,"附台面板=1","布纹浮雕",1,"包","5-2",10,"20",1002,null,{"$f":"VLOOKUP(A:A,[1]进仓汇总!A$1:G$65536,7,0)","v":{"$error":"#N/A"}},"欧扬 铁灰"]
[null,"欧扬主管桌 OYDN-D4-1715 1750*1500*760  左边","399010004-43","欧扬钢脚=2","碳灰",1,"包","5-3",10,"20",1002,null,{"$f":"VLOOKUP(A:A,[1]进仓汇总!A$1:G$65536,7,0)","v":{"$error":"#N/A"}},"欧扬 铁灰"]
[null,"欧扬主管桌 OYDN-D4-1715 1750*1500*760  左边","399010005-43","欧扬挡板=1              欧扬横杆=2","碳灰",1,"包","5-4",10,"20",1002,null,{"$f":"VLOOKUP(A:A,[1]进仓汇总!A$1:G$65536,7,0)","v":{"$error":"#N/A"}},"欧扬 铁灰"]
[null,"欧扬主管桌 OYDN-D4-1715 1750*1500*760  左边","399010006-31","固定柜=1 ","布纹/铁灰",1,"包","5-5",10,"20",1002,null,{"$f":"VLOOKUP(A:A,[1]进仓汇总!A$1:G$65536,7,0)","v":{"$error":"#N/A"}},"欧扬 铁灰"]
["301010014","欧扬主管桌 OYDN-D4-1715 1750*1500*760  右边",301010015,"主台面板=1  ","布纹浮雕",1,"包","5-1",10,"20",1001,null,{"$f":"VLOOKUP(A:A,[1]进仓汇总!A$1:G$65536,7,0)","v":{"$error":"#N/A"}},"欧扬 铁灰"]
[null,"欧扬主管桌 OYDN-D4-1715 1750*1500*760  右边",301010016,"附台面板=1","布纹浮雕",1,"包","5-2",10,"20",1001,null,{"$f":"VLOOKUP(A:A,[1]进仓汇总!A$1:G$65536,7,0)","v":{"$error":"#N/A"}},"欧扬 铁灰"]
[null,"欧扬主管桌 OYDN-D4-1715 1750*1500*760  右边","399010004-44","欧扬钢脚=2","碳灰",1,"包","5-3",10,"20",1001,null,{"$f":"VLOOKUP(A:A,[1]进仓汇总!A$1:G$65536,7,0)","v":{"$error":"#N/A"}},"欧扬 铁灰"]
[null,"欧扬主管桌 OYDN-D4-1715 1750*1500*760  右边","399010005-44","欧扬挡板=1              欧扬横杆=2","碳灰",1,"包","5-4",10,"20",1001,null,{"$f":"VLOOKUP(A:A,[1]进仓汇总!A$1:G$65536,7,0)","v":{"$error":"#N/A"}},"欧扬 铁灰"]
[null,"欧扬主管桌 OYDN-D4-1715 1750*1500*760  右边","399010006-32","固定柜=1 ","布纹/铁灰",1,"个","5-5",10,"20",1009,null,{"$f":"VLOOKUP(A:A,[1]进仓汇总!A$1:G$65536,7,0)","v":{"$error":"#N/A"}},"欧扬 铁灰"]
[null,"欧扬主管桌 OYDN-D4-1715 1750*1500*760  右边",399010007,"主机架=1(可选）","布纹/碳灰",1,"包","6-6",10,"20",1009,null,{"$f":"VLOOKUP(A:A,[1]进仓汇总!A$1:G$65536,7,0)","v":{"$error":"#N/A"}},"欧扬 铁灰",-7]
["301070001","欧扬长茶几 OYAN-LT   1200*600*420",301070002,"茶几面板=1 小档板=1","暖白",1,"包","2-1",15,"40",1009,null,{"$f":"VLOOKUP(A:A,[1]进仓汇总!A$1:G$65536,7,0)","v":{"$error":"#N/A"}},"欧扬 铁灰"]
[null,"欧扬长茶几 OYAN-LT   1200*600*420","399010008-21","欧扬茶几脚=2","碳灰",1,"包","2-2",15,"40",1009,null,{"$f":"VLOOKUP(A:A,[1]进仓汇总!A$1:G$65536,7,0)","v":{"$error":"#N/A"}},"欧扬 铁灰"]
["301080001","欧扬方茶几 OYAN-ST   600*600*420",301080002,"茶几面板=1 小档板=1","暖白",1,"包","2-1",25,"40",1009,null,{"$f":"VLOOKUP(A:A,[1]进仓汇总!A$1:G$65536,7,0)","v":{"$error":"#N/A"}},"欧扬 铁灰"]
[null,"欧扬方茶几 OYAN-ST   600*600*420","399010009-21","欧扬茶几脚=2","碳灰",1,"包","2-2",25,"40",1009,null,{"$f":"VLOOKUP(A:A,[1]进仓汇总!A$1:G$65536,7,0)","v":{"$error":"#N/A"}},"欧扬 铁灰"]
["301080003","欧扬方茶几    OYAN-ST   600*600*420","399010019-21","茶几面板=1 小档板=1","布纹",1,"包","2-1",0,"20",909,null,{"$f":"VLOOKUP(A:A,[1]进仓汇总!A$1:G$65536,7,0)","v":{"$error":"#N/A"}},"欧扬 铁灰"]
[null,"欧扬方茶几    OYAN-ST   600*600*420","399010009-22","欧扬茶几脚=2","碳灰",1,"包","2-2",0,"20",909,null,{"$f":"VLOOKUP(A:A,[1]进仓汇总!A$1:G$65536,7,0)","v":{"$error":"#N/A"}},"欧扬 铁灰"]
["301070003","欧扬长茶几    OYAN-LT   1200*600*420","399010020-21","茶几面板=1 小档板=1","布纹",1,"包","2-1",0,"20",909,null,{"$f":"VLOOKUP(A:A,[1]进仓汇总!A$1:G$65536,7,0)","v":{"$error":"#N/A"}},"欧扬 铁灰"]
[null,"欧扬长茶几    OYAN-LT   1200*600*420","399010008-22","欧扬茶几脚=2","碳灰",1,"包","2-2",0,"20",909,null,{"$f":"VLOOKUP(A:A,[1]进仓汇总!A$1:G$65536,7,0)","v":{"$error":"#N/A"}},"欧扬 铁灰"]
["301110001","欧扬蝴蝶型会议桌  OYAN-T3-2812 2800*1200*750 ","399010010-21","台面板=2  平铁=2 ","布纹浮雕",1,"包","3-1",10,"20","907B",null,{"$f":"VLOOKUP(A:A,[1]进仓汇总!A$1:G$65536,7,0)","v":{"$error":"#N/A"}},"欧扬 铁灰"]
[null,"欧扬蝴蝶型会议桌  OYAN-T3-2812 2800*1200*750 ",301110002,"欧扬钢脚C=2 欧扬钢脚D=1 加固圆盘=2","碳灰",1,"包","3-2",10,"20","907C",null,{"$f":"VLOOKUP(A:A,[1]进仓汇总!A$1:G$65536,7,0)","v":{"$error":"#N/A"}},"欧扬 铁灰"]
[null,"欧扬蝴蝶型会议桌  OYAN-T3-2812 2800*1200*750 ",301110003,"欧扬走线槽=2  欧扬横杆=4","碳灰",1,"包","3-3",10,"20","907C",null,{"$f":"VLOOKUP(A:A,[1]进仓汇总!A$1:G$65536,7,0)","v":{"$error":"#N/A"}},"欧扬 铁灰"]
["301110004","欧扬直型会议桌     OYAN-T2-2812 2800*1200*750 ",301110005,"台面板=2","暖白",1,"包","3-1",0,"20","908A",null,{"$f":"VLOOKUP(A:A,[1]进仓汇总!A$1:G$65536,7,0)","v":{"$error":"#N/A"}},"欧扬 铁灰"]
[null,"欧扬直型会议桌     OYAN-T2-2812 2800*1200*750 ",301110006,"欧扬钢脚C=2 欧扬钢脚D=1 加固圆盘=2","碳灰",1,"包","3-2",0,"20","908C",null,{"$f":"VLOOKUP(A:A,[1]进仓汇总!A$1:G$65536,7,0)","v":{"$error":"#N/A"}},"欧扬 铁灰"]
[null,"欧扬直型会议桌     OYAN-T2-2812 2800*1200*750 ",301110007,"欧扬走线槽=2  欧扬横杆=4","碳灰",1,"包","3-3",0,"20","908C",null,{"$f":"VLOOKUP(A:A,[1]进仓汇总!A$1:G$65536,7,0)","v":{"$error":"#N/A"}},"欧扬 铁灰"]
["301100001","欧扬圆台       OYAN-T1-10  1000*750",301100002,"圆台面=1","暖白浮雕",1,"包","2-1",10,"20",910,410,{"$f":"VLOOKUP(A:A,[1]进仓汇总!A$1:G$65536,7,0)","v":{"$error":"#N/A"}},"欧扬 铁灰"]
[null,"欧扬圆台       OYAN-T1-10  1000*750","399010011-21","欧扬钢脚架=3 三角管=1","碳灰",1,"包","2-2",10,"20",910,0,{"$f":"VLOOKUP(A:A,[1]进仓汇总!A$1:G$65536,7,0)","v":{"$error":"#N/A"}},"欧扬 铁灰"]
["301100003","欧扬圆台    OYAN-YT-80  800*750",301100004,"圆台面=1","暖白浮雕 ",1,"包","2-1",10,"20","910B",350,{"$f":"VLOOKUP(A:A,[1]进仓汇总!A$1:G$65536,7,0)","v":{"$error":"#N/A"}},"欧扬 铁灰"]
[null,"欧扬圆台    OYAN-YT-80  800*750","399010012-21","欧扬钢脚架=3 三角管=1   配件包","碳灰",1,"包","2-2",10,"20",910,0,{"$f":"VLOOKUP(A:A,[1]进仓汇总!A$1:G$65536,7,0)","v":{"$error":"#N/A"}},"欧扬 铁灰"]
["301100005","欧扬圆台       OYAN-T1-10  1000*750",301100006,"圆台面=1","布纹",1,"包","2-1",0,"20",910,410,{"$f":"VLOOKUP(A:A,[1]进仓汇总!A$1:G$65536,7,0)","v":{"$error":"#N/A"}},"欧扬 铁灰"]
[null,"欧扬圆台       OYAN-T1-10  1000*750","399010011-22","欧扬钢脚架=3 三角管=1","碳灰",1,"包","2-2",0,"20",910,0,{"$f":"VLOOKUP(A:A,[1]进仓汇总!A$1:G$65536,7,0)","v":{"$error":"#N/A"}},"欧扬 铁灰"]
["301100007","欧扬圆台       OYAN-YT-80  800*750",301100008,"圆台面=1","布纹",1,"包","2-1",0,"20",909,null,{"$f":"VLOOKUP(A:A,[1]进仓汇总!A$1:G$65536,7,0)","v":{"$error":"#N/A"}},"欧扬 铁灰"]
[null,"欧扬圆台       OYAN-YT-80  800*750","399010012-22","欧扬钢脚架=3 三角管=1   配件包","布纹",1,"包","2-2",0,"20","909C",null,{"$f":"VLOOKUP(A:A,[1]进仓汇总!A$1:G$65536,7,0)","v":{"$error":"#N/A"}},"欧扬 铁灰"]
["301030001","欧扬蝴蝶型四人位           OYAN-W2-2929 2900*2900*760   （带副台）","399010013-31","台面板=2、","布纹/浮雕",2,"包","11-1、2",0,"15","903A/B",null,{"$f":"VLOOKUP(A:A,[1]进仓汇总!A$1:G$65536,7,0)","v":{"$error":"#N/A"}},"欧扬 铁灰"]
[null,"欧扬蝴蝶型四人位           OYAN-W2-2929 2900*2900*760   （带副台）",301030002,"副台面板=4  平铁=8","布纹/浮雕",1,"包","11-11",0,"15","903B",null,{"$f":"VLOOKUP(A:A,[1]进仓汇总!A$1:G$65536,7,0)","v":{"$error":"#N/A"}},"欧扬 铁灰"]
[null,"欧扬蝴蝶型四人位           OYAN-W2-2929 2900*2900*760   （带副台）",301030003,"D168桌上屏风=2","碳灰/树纹",1,"包","11-9",0,"15","903B",null,{"$f":"VLOOKUP(A:A,[1]进仓汇总!A$1:G$65536,7,0)","v":{"$error":"#N/A"}},"欧扬 铁灰"]
[null,"欧扬蝴蝶型四人位           OYAN-W2-2929 2900*2900*760   （带副台）","399010014-21","欧扬钢脚C=2 欧扬钢脚D=1 加固圆盘=2","碳灰",1,"包","11-7",0,"15",903,null,{"$f":"VLOOKUP(A:A,[1]进仓汇总!A$1:G$65536,7,0)","v":{"$error":"#N/A"}},"欧扬 铁灰"]
[null,"欧扬蝴蝶型四人位           OYAN-W2-2929 2900*2900*760   （带副台）","399010016-31","功能梁=2","氧化",1,"包","11-10",0,"15","903C",null,{"$f":"VLOOKUP(A:A,[1]进仓汇总!A$1:G$65536,7,0)","v":{"$error":"#N/A"}},"欧扬 铁灰"]
[null,"欧扬蝴蝶型四人位           OYAN-W2-2929 2900*2900*760   （带副台）","399010015-21","欧扬走线槽=2 欧扬横杆B=4","碳灰",1,"包","11-8",0,"15","903B",null,{"$f":"VLOOKUP(A:A,[1]进仓汇总!A$1:G$65536,7,0)","v":{"$error":"#N/A"}},"欧扬 铁灰"]
[null,"欧扬蝴蝶型四人位           OYAN-W2-2929 2900*2900*760   （带副台）","399010006-33","固定柜=1 ","布纹/铁灰",4,"个","11-3、4.5.6",0,"60","C2区",null,{"$f":"VLOOKUP(A:A,[1]进仓汇总!A$1:G$65536,7,0)","v":{"$error":"#N/A"}},"欧扬 铁灰"]
[null,"欧扬蝴蝶型四人位           OYAN-W2-2929 2900*2900*760   （带副台）",399010017,"主机架=4（可选）","布纹/碳灰",1,"包","12-12",0,"15",903,null,{"$f":"VLOOKUP(A:A,[1]进仓汇总!A$1:G$65536,7,0)","v":{"$error":"#N/A"}},"欧扬 铁灰"]
["301040008","欧扬蝴蝶型四人位        OYAN-W2-2913  2900*1300*760   （无副台）       ","399010013-32","台面板=2","布纹/浮雕",2,"包","10-1，2",20,"40",902,null,{"$f":"VLOOKUP(A:A,[1]进仓汇总!A$1:G$65536,7,0)","v":{"$error":"#N/A"}},"欧扬 铁灰"]
[null,"欧扬蝴蝶型四人位        OYAN-W2-2913  2900*1300*760   （无副台）       ","399010018-21","桌上屏风=2","铁灰",1,"包","10-9",10,"20",902,null,{"$f":"VLOOKUP(A:A,[1]进仓汇总!A$1:G$65536,7,0)","v":{"$error":"#N/A"}},"欧扬 铁灰"]
[null,"欧扬蝴蝶型四人位        OYAN-W2-2913  2900*1300*760   （无副台）       ","399010014-22","欧扬钢脚C=2 欧扬钢脚D=1 加固圆盘=2","碳灰",1,"包","10-7",10,"20",902,null,{"$f":"VLOOKUP(A:A,[1]进仓汇总!A$1:G$65536,7,0)","v":{"$error":"#N/A"}},"欧扬 铁灰"]
[null,"欧扬蝴蝶型四人位        OYAN-W2-2913  2900*1300*760   （无副台）       ","399010015-22","欧扬走线槽=2 欧扬横杆B=4配件包","碳灰",1,"包","10-8",10,"20",902,null,{"$f":"VLOOKUP(A:A,[1]进仓汇总!A$1:G$65536,7,0)","v":{"$error":"#N/A"}},"欧扬 铁灰"]
[null,"欧扬蝴蝶型四人位        OYAN-W2-2913  2900*1300*760   （无副台）       ","399010016-32","功能梁=2  ","氧化",1,"包","10-10",10,"20",902,null,{"$f":"VLOOKUP(A:A,[1]进仓汇总!A$1:G$65536,7,0)","v":{"$error":"#N/A"}},"欧扬 铁灰"]
[null,"欧扬蝴蝶型四人位        OYAN-W2-2913  2900*1300*760   （无副台）       ",301040009,"活动柜=1 （420*520*640）","布纹/铁灰",4,"个","10-3.4.5.6.",40,"80","E区",null,{"$f":"VLOOKUP(A:A,[1]进仓汇总!A$1:G$65536,7,0)","v":{"$error":"#N/A"}},"欧扬 铁灰"]
["301040001","欧扬琴型四人位 OYAN-W1-2814 2800*1400*760",301040002,"台面板=2","暖白浮雕",2,"包","10-1，2",0,"30",901,null,{"$f":"VLOOKUP(A:A,[1]进仓汇总!A$1:G$65536,7,0)","v":{"$error":"#N/A"}},"欧扬 铁灰"]
[null,"欧扬琴型四人位 OYAN-W1-2814 2800*1400*760","399010018-22","桌上屏风=2","铁灰",1,"包","10-9",0,"15",901,null,{"$f":"VLOOKUP(A:A,[1]进仓汇总!A$1:G$65536,7,0)","v":{"$error":"#N/A"}},"欧扬 铁灰"]
[null,"欧扬琴型四人位 OYAN-W1-2814 2800*1400*760",301040003,"欧扬钢脚C=2 欧扬钢脚D=1  加固圆盘=2","碳灰",1,"包","10-7",0,"15",901,null,{"$f":"VLOOKUP(A:A,[1]进仓汇总!A$1:G$65536,7,0)","v":{"$error":"#N/A"}},"欧扬 铁灰"]
[null,"欧扬琴型四人位 OYAN-W1-2814 2800*1400*760",301040004,"功能梁=2  配件包","氧化",1,"包","10-10",0,"15",901,null,{"$f":"VLOOKUP(A:A,[1]进仓汇总!A$1:G$65536,7,0)","v":{"$error":"#N/A"}},"欧扬 铁灰"]
[null,"欧扬琴型四人位 OYAN-W1-2814 2800*1400*760",301040006,"欧扬走线槽=2 欧扬横杆B=4","碳灰",1,"包","10-8",0,"15",901,null,{"$f":"VLOOKUP(A:A,[1]进仓汇总!A$1:G$65536,7,0)","v":{"$error":"#N/A"}},"欧扬 铁灰"]
[null,"欧扬琴型四人位 OYAN-W1-2814 2800*1400*760","399880003-32","活动柜=1 （420*520*640）","暖白/铁灰","1=4","个","10-3.4.5.6",0,null,"E区",null,{"$f":"VLOOKUP(A:A,[1]进仓汇总!A$1:G$65536,7,0)","v":{"$error":"#N/A"}},"欧扬 铁灰"]
["301040007","欧扬琴型四人位 OYAN-W1-2814 2800*1400*760",null,"主机架=4(可选）","暖白/碳灰",1,"包","11-11",0,null,901,null,{"$f":"VLOOKUP(A:A,[1]进仓汇总!A$1:G$65536,7,0)","v":{"$error":"#N/A"}},"欧扬 铁灰"]
["301040005","欧扬琴型四人位 OYAN-W1-2814 2800*1400*760",null,"托板=1 (可选）","暖白",1,"包","12-12",0,"15","901C",null,{"$f":"VLOOKUP(A:A,[1]进仓汇总!A$1:G$65536,7,0)","v":{"$error":"#N/A"}},"欧扬 铁灰"]
["301040016","新款活动柜",null,"新款活动柜","布纹/铁灰",null,null,null,0,null,"C2区",null,{"$f":"VLOOKUP(A:A,[1]进仓汇总!A$1:G$65536,7,0)","v":{"$error":"#N/A"}},"欧扬 铁灰"]
["301110008","欧扬蝴蝶形会议桌  OYAN-T3-2812 2800*1200*750  ","399010010-22","台面板=2  平铁=2 ","布纹浮雕",1,"包","3-1",0,"20",906,null,{"$f":"VLOOKUP(A:A,[1]进仓汇总!A$1:G$65536,7,0)","v":{"$error":"#N/A"}},"欧扬 砂白"]
[null,"欧扬蝴蝶形会议桌  OYAN-T3-2812 2800*1200*750  ",301110009,"欧扬钢脚C=2 欧扬钢脚D=1 加固圆盘=2","砂白",1,"包","3-2",0,"20",906,null,{"$f":"VLOOKUP(A:A,[1]进仓汇总!A$1:G$65536,7,0)","v":{"$error":"#N/A"}},"欧扬 砂白"]
[null,"欧扬蝴蝶形会议桌  OYAN-T3-2812 2800*1200*750  ",301110010,"欧扬走线槽=2  欧扬横杆=4","砂白",1,"包","3-3",0,"20",906,null,{"$f":"VLOOKUP(A:A,[1]进仓汇总!A$1:G$65536,7,0)","v":{"$error":"#N/A"}},"欧扬 砂白"]
["301040010","欧扬蝴蝶型四人位          OYAN-W2-2812  2900*1300*760（无副台）       ","399010013-33","台面板=2","布纹/浮雕",2,"包","10-1，2",0,"15",904,null,{"$f":"VLOOKUP(A:A,[1]进仓汇总!A$1:G$65536,7,0)","v":{"$error":"#N/A"}},"欧扬 砂白"]
[null,"欧扬蝴蝶型四人位          OYAN-W2-2812  2900*1300*760（无副台）       ",301040011,"D168桌上屏风=2","铁灰",1,"包","10-9",0,"15",904,null,{"$f":"VLOOKUP(A:A,[1]进仓汇总!A$1:G$65536,7,0)","v":{"$error":"#N/A"}},"欧扬 砂白"]
[null,"欧扬蝴蝶型四人位          OYAN-W2-2812  2900*1300*760（无副台）       ",301040012,"欧扬钢脚C=2 欧扬钢脚D=1 加固圆盘=2","砂白",1,"包","10-7",0,"15",904,null,{"$f":"VLOOKUP(A:A,[1]进仓汇总!A$1:G$65536,7,0)","v":{"$error":"#N/A"}},"欧扬 砂白"]
[null,"欧扬蝴蝶型四人位          OYAN-W2-2812  2900*1300*760（无副台）       ",301040013,"欧扬走线槽=2 欧扬横杆B=4配件包","砂白",1,"包","10-8",0,"15",904,null,{"$f":"VLOOKUP(A:A,[1]进仓汇总!A$1:G$65536,7,0)","v":{"$error":"#N/A"}},"欧扬 砂白"]
[null,"欧扬蝴蝶型四人位          OYAN-W2-2812  2900*1300*760（无副台）       ","399010016-33","功能梁=2  ","氧化",1,"包","10-10",0,"15",904,null,{"$f":"VLOOKUP(A:A,[1]进仓汇总!A$1:G$65536,7,0)","v":{"$error":"#N/A"}},"欧扬 砂白"]
[null,"欧扬蝴蝶型四人位          OYAN-W2-2812  2900*1300*760（无副台）       ",301040014,"活动柜=1 ","布纹/融合之歌绒面",4,"个","10-3.4.5.6.",0,null,"E区",null,{"$f":"VLOOKUP(A:A,[1]进仓汇总!A$1:G$65536,7,0)","v":{"$error":"#N/A"}},"欧扬 砂白"]
[null,"欧扬蝴蝶型四人位          OYAN-W2-2812  2900*1300*760（无副台）       ",301040015,"主机架=4（可选）","布纹/砂白",1,"包","11-11",0,null,904,38,{"$f":"VLOOKUP(A:A,[1]进仓汇总!A$1:G$65536,7,0)","v":{"$error":"#N/A"}},"欧扬 砂白"]
["301070004","欧扬长茶几  OYAN-LT   1200*600*420","399010020-22","茶几面板=1 小档板=1","布纹",1,"包","2-1",0,"20",908,null,{"$f":"VLOOKUP(A:A,[1]进仓汇总!A$1:G$65536,7,0)","v":{"$error":"#N/A"}},"欧扬 砂白"]
[null,"欧扬长茶几  OYAN-LT   1200*600*420",301070005,"欧扬茶几脚=2","砂白",1,"包","2-2",0,"20",908,null,{"$f":"VLOOKUP(A:A,[1]进仓汇总!A$1:G$65536,7,0)","v":{"$error":"#N/A"}},"欧扬 砂白"]
["301080004","欧扬方茶几  OYAN-ST   600*600*420","399010019-22","茶几面板=1 小档板=1","布纹",1,"包","2-1",0,"20",908,null,{"$f":"VLOOKUP(A:A,[1]进仓汇总!A$1:G$65536,7,0)","v":{"$error":"#N/A"}},"欧扬 砂白"]
[null,"欧扬方茶几  OYAN-ST   600*600*420",301080005,"欧扬茶几脚=2","砂白",1,"包","2-2",0,"20",908,null,{"$f":"VLOOKUP(A:A,[1]进仓汇总!A$1:G$65536,7,0)","v":{"$error":"#N/A"}},"欧扬 砂白"]
["301010017","欧扬D5款主管桌OYAN-D5-1807 布纹色 1800*770*760左/",301010018,"面板=1","布纹",1,"包","5-1",0,"15",1010,1060,{"$f":"VLOOKUP(A:A,[1]进仓汇总!A$1:G$65536,7,0)","v":{"$error":"#N/A"}},"欧扬 砂白"]
[null,"欧扬D5款主管桌OYAN-D5-1807 布纹色 1800*770*760左/","301010019-21","欧扬钢脚=2","砂白",1,"包","5-2",0,"15",1010,0,{"$f":"VLOOKUP(A:A,[1]进仓汇总!A$1:G$65536,7,0)","v":{"$error":"#N/A"}},"欧扬 砂白"]
[null,"欧扬D5款主管桌OYAN-D5-1807 布纹色 1800*770*760左/","301010020-21","欧扬挡板=1.欧扬横杆=2","砂白",1,"包","5-3",0,"15",1010,0,{"$f":"VLOOKUP(A:A,[1]进仓汇总!A$1:G$65536,7,0)","v":{"$error":"#N/A"}},"欧扬 砂白"]
[null,"欧扬D5款主管桌OYAN-D5-1807 布纹色 1800*770*760左/",301010021,"附柜=1","OF-0204融合之歌",1,"包","5-4",0,"15",1010,0,{"$f":"VLOOKUP(A:A,[1]进仓汇总!A$1:G$65536,7,0)","v":{"$error":"#N/A"}},"欧扬 砂白"]
[null,"欧扬D5款主管桌OYAN-D5-1807 布纹色 1800*770*760左/",301010022,"抽屉=3","OF-0205融合之歌",1,"包","5-5",0,"15",1010,0,{"$f":"VLOOKUP(A:A,[1]进仓汇总!A$1:G$65536,7,0)","v":{"$error":"#N/A"}},"欧扬 砂白"]
[null,"欧扬D5款主管桌OYAN-D5-1807 布纹色 1800*770*760左/","301010023-21","主机架=1（可选）","布纹+砂白",1,"包","6-6",0,null,1010,0,{"$f":"VLOOKUP(A:A,[1]进仓汇总!A$1:G$65536,7,0)","v":{"$error":"#N/A"}},"欧扬 砂白"]
["301010024","欧扬D5款主管桌                     OYAN-D5-1807   布纹色    1800*770*760       右/",301010025,"面板=1","布纹",1,"包","5-1",0,"15",1007,1060,{"$f":"VLOOKUP(A:A,[1]进仓汇总!A$1:G$65536,7,0)","v":{"$error":"#N/A"}},"欧扬 砂白"]
[null,"欧扬D5款主管桌                     OYAN-D5-1807   布纹色    1800*770*760       右/","301010019-22","欧扬钢脚=2","砂白",1,"包","5-2",0,"15",1007,0,{"$f":"VLOOKUP(A:A,[1]进仓汇总!A$1:G$65536,7,0)","v":{"$error":"#N/A"}},"欧扬 砂白"]
[null,"欧扬D5款主管桌                     OYAN-D5-1807   布纹色    1800*770*760       右/","301010020-22","欧扬挡板=1.欧扬横杆=2","砂白",1,"包","5-3",0,"15",1007,0,{"$f":"VLOOKUP(A:A,[1]进仓汇总!A$1:G$65536,7,0)","v":{"$error":"#N/A"}},"欧扬 砂白"]
[null,"欧扬D5款主管桌                     OYAN-D5-1807   布纹色    1800*770*760       右/",301010026,"附柜=1","OF-0204融合之歌",1,"包","5-4",0,"15",1007,0,{"$f":"VLOOKUP(A:A,[1]进仓汇总!A$1:G$65536,7,0)","v":{"$error":"#N/A"}},"欧扬 砂白"]
[null,"欧扬D5款主管桌                     OYAN-D5-1807   布纹色    1800*770*760       右/",301010027,"抽屉=3","OF-0205融合之歌",1,"包","5-5",0,"15",1007,0,{"$f":"VLOOKUP(A:A,[1]进仓汇总!A$1:G$65536,7,0)","v":{"$error":"#N/A"}},"欧扬 砂白"]
[null,"欧扬D5款主管桌                     OYAN-D5-1807   布纹色    1800*770*760       右/","301010023-22","主机架=1（可选）","布纹+砂白",1,"包","6-6",0,null,1007,0,{"$f":"VLOOKUP(A:A,[1]进仓汇总!A$1:G$65536,7,0)","v":{"$error":"#N/A"}},"欧扬 砂白"]
["301010900","欧扬D5款主管桌暖白（左边）",301010900,"面板欧扬D5款主管桌暖白（左边）","暖白",1,"包",null,{"$f":"+VLOOKUP(A:A,[1]安全库存!A$1:I$65536,9,0)","v":{"$error":"#N/A"}},"15",1009,1060,{"$f":"VLOOKUP(A:A,[1]进仓汇总!A$1:G$65536,7,0)","v":{"$error":"#N/A"}},"欧扬 砂白"]
[null,"欧扬D5款主管桌暖白（左边）",301010901,"附柜","暖白",1,"包",null,0,"15",1009,0,{"$f":"VLOOKUP(A:A,[1]进仓汇总!A$1:G$65536,7,0)","v":{"$error":"#N/A"}},"欧扬 砂白"]
[null,"欧扬D5款主管桌暖白（左边）",301010902,"抽屉","铁灰",1,"包",null,0,"15",1009,0,{"$f":"VLOOKUP(A:A,[1]进仓汇总!A$1:G$65536,7,0)","v":{"$error":"#N/A"}},"欧扬 砂白"]
[null,"欧扬D5款主管桌暖白（左边）",301010903,"钢脚","碳灰",1,"包",null,0,"15",1009,0,{"$f":"VLOOKUP(A:A,[1]进仓汇总!A$1:G$65536,7,0)","v":{"$error":"#N/A"}},"欧扬 砂白"]
[null,"欧扬D5款主管桌暖白（左边）",301010904,"欧扬挡板=1.欧扬横杆=2","碳灰",1,"包",null,0,"15",1009,0,{"$f":"VLOOKUP(A:A,[1]进仓汇总!A$1:G$65536,7,0)","v":{"$error":"#N/A"}},"欧扬 砂白"]
["301011000","欧扬D5款主管桌暖白（右边）",301011000,"面板欧扬D5款主管桌暖白（右边）","暖白",1,"包",null,{"$f":"+VLOOKUP(A:A,[1]安全库存!A$1:I$65536,9,0)","v":{"$error":"#N/A"}},"15",1009,1060,{"$f":"VLOOKUP(A:A,[1]进仓汇总!A$1:G$65536,7,0)","v":{"$error":"#N/A"}},"欧扬 砂白"]
[null,"欧扬D5款主管桌暖白（右边）",301011001,"附柜","暖白",1,"包",null,0,"15",1009,0,{"$f":"VLOOKUP(A:A,[1]进仓汇总!A$1:G$65536,7,0)","v":{"$error":"#N/A"}},"欧扬 砂白"]
[null,"欧扬D5款主管桌暖白（右边）",301011002,"抽屉","铁灰",1,"包",null,0,"15",1009,0,{"$f":"VLOOKUP(A:A,[1]进仓汇总!A$1:G$65536,7,0)","v":{"$error":"#N/A"}},"欧扬 砂白"]
[null,"欧扬D5款主管桌暖白（右边）",301011003,"钢脚","碳灰",1,"包",null,0,"15",1009,0,{"$f":"VLOOKUP(A:A,[1]进仓汇总!A$1:G$65536,7,0)","v":{"$error":"#N/A"}},"欧扬 砂白"]
[null,"欧扬D5款主管桌暖白（右边）",301011004,"欧扬挡板=1.欧扬横杆=2","碳灰",1,"包",null,0,"15",1009,0,{"$f":"VLOOKUP(A:A,[1]进仓汇总!A$1:G$65536,7,0)","v":{"$error":"#N/A"}},"欧扬 砂白"]
["304010001","欧尚主管桌    OS-D-1816  1800*1600*760",304010002,"主台面板=1 挡板=1    旧线盒","OF-KA1206橡木浮雕MFC",1,"包","5-1",0,"13",701,null,{"$f":"VLOOKUP(A:A,[1]进仓汇总!A$1:G$65536,7,0)","v":{"$error":"#N/A"}},"欧尚"]
[null,"欧尚主管桌    OS-D-1816  1800*1600*760",304010003,"附台面板=1","OF-KA1206橡木浮雕MFC",1,"包","5-2",0,"13",701,null,{"$f":"VLOOKUP(A:A,[1]进仓汇总!A$1:G$65536,7,0)","v":{"$error":"#N/A"}},"欧尚"]
[null,"欧尚主管桌    OS-D-1816  1800*1600*760",304010004,"欧尚钢脚A=2/线槽=1","纯白色",1,"包","5-3",0,"13",701,null,{"$f":"VLOOKUP(A:A,[1]进仓汇总!A$1:G$65536,7,0)","v":{"$error":"#N/A"}},"欧尚"]
[null,"欧尚主管桌    OS-D-1816  1800*1600*760",304010005,"欧尚横杆=2","纯白色",1,"包","5-4",0,"13",701,null,{"$f":"VLOOKUP(A:A,[1]进仓汇总!A$1:G$65536,7,0)","v":{"$error":"#N/A"}},"欧尚"]
[null,"欧尚主管桌    OS-D-1816  1800*1600*760",304010006,"固定柜=1             （430*510*765)","橡木/暖白",1,"包","5-5",0,null,"E区",null,{"$f":"VLOOKUP(A:A,[1]进仓汇总!A$1:G$65536,7,0)","v":{"$error":"#N/A"}},"欧尚"]
[null,"欧尚主管桌    OS-D-1816  1800*1600*760",304010007,"主机架（可选）","橡木/纯白",1,"包","6-6",0,null,701,null,{"$f":"VLOOKUP(A:A,[1]进仓汇总!A$1:G$65536,7,0)","v":{"$error":"#N/A"}},"欧尚"]
[304060001,"欧尚文件柜--B  OS-C1-9019 900*420*1980",304060002,"顶板=1 固定层板=1 活动层板=3底板=1配件包","OF-KA1206",1,"包","3-1",0,"39",702,null,{"$f":"VLOOKUP(A:A,[1]进仓汇总!A$1:G$65536,7,0)","v":0},"欧尚"]
[null,"欧尚文件柜--B  OS-C1-9019 900*420*1980",304060003,"背板=1 侧板=2 脚裙=1 下掩门板=2","OF-KA1206",1,"包","3-2",0,"39",702,null,{"$f":"VLOOKUP(A:A,[1]进仓汇总!A$1:G$65536,7,0)","v":{"$error":"#N/A"}},"欧尚"]
[null,"欧尚文件柜--B  OS-C1-9019 900*420*1980",304060004,"斜边铝框门=2","氧化",1,"包","3-3",0,"39",702,null,{"$f":"VLOOKUP(A:A,[1]进仓汇总!A$1:G$65536,7,0)","v":{"$error":"#N/A"}},"欧尚"]
["304090001","欧尚文件柜A    OS-C2-9019 900*420*1980",304090002,"顶板=1 固定层板=1 活动层板=3底板=1/配件包","OF-KA1206橡木浮雕",1,"包","2-1",0,"39","702c",null,{"$f":"VLOOKUP(A:A,[1]进仓汇总!A$1:G$65536,7,0)","v":{"$error":"#N/A"}},"欧尚"]
[null,"欧尚文件柜A    OS-C2-9019 900*420*1980",304090003,"背板=1 侧板=2 脚裙=1 下掩门板=2 上掩门板=2","OF-KA1206橡木浮雕",1,"包","2-2",0,"39","701b",null,{"$f":"VLOOKUP(A:A,[1]进仓汇总!A$1:G$65536,7,0)","v":{"$error":"#N/A"}},"欧尚"]
["304110001","欧尚会议桌     OS -T1-2010   2000*1000*760",304110002,"台面板=1","OF-T22枫木浮雕",1,"包","3-1",0,null,0,null,{"$f":"VLOOKUP(A:A,[1]进仓汇总!A$1:G$65536,7,0)","v":{"$error":"#N/A"}},"欧尚"]
[null,"欧尚会议桌     OS -T1-2010   2000*1000*760",304110003,"欧尚钢脚A=2","纯白色",1,"包","3-3",0,null,0,null,{"$f":"VLOOKUP(A:A,[1]进仓汇总!A$1:G$65536,7,0)","v":{"$error":"#N/A"}},"欧尚"]
[null,"欧尚会议桌     OS -T1-2010   2000*1000*760",304110004,"欧尚横杆=2","纯白色",1,"包","3-3",0,null,0,null,{"$f":"VLOOKUP(A:A,[1]进仓汇总!A$1:G$65536,7,0)","v":{"$error":"#N/A"}},"欧尚"]
["304070001","欧尚长几      OS-LT     1200*600*420",304070002,"茶几面板=1","OF-T22枫木浮雕",1,"包","3-1",0,"20","703C",null,{"$f":"VLOOKUP(A:A,[1]进仓汇总!A$1:G$65536,7,0)","v":{"$error":"#N/A"}},"欧尚"]
[null,"欧尚长几      OS-LT     1200*600*420",304070003,"欧尚茶几脚=2","纯白色",1,"包","3-2",0,"20","703C",null,{"$f":"VLOOKUP(A:A,[1]进仓汇总!A$1:G$65536,7,0)","v":{"$error":"#N/A"}},"欧尚"]
[null,"欧尚长几      OS-LT     1200*600*420",304070004,"欧尚横杆=2","纯白色",1,"包","3-3",0,"20","703C",null,{"$f":"VLOOKUP(A:A,[1]进仓汇总!A$1:G$65536,7,0)","v":{"$error":"#N/A"}},"欧尚"]
["304080001","欧尚方几       OS -ST     600*600*420",304080002,"茶几面板=1","OF-T22枫木浮雕",1,"包","3-1",0,"20",703,null,{"$f":"VLOOKUP(A:A,[1]进仓汇总!A$1:G$65536,7,0)","v":{"$error":"#N/A"}},"欧尚"]
[null,"欧尚方几       OS -ST     600*600*420",304080003,"欧尚茶几脚=2    ","纯白色",1,"包","3-2",0,"20",703,null,{"$f":"VLOOKUP(A:A,[1]进仓汇总!A$1:G$65536,7,0)","v":{"$error":"#N/A"}},"欧尚"]
[null,"欧尚方几       OS -ST     600*600*420",304080004,"欧尚横杆=2","纯白色",1,"包","3-3",0,"20",703,null,{"$f":"VLOOKUP(A:A,[1]进仓汇总!A$1:G$65536,7,0)","v":{"$error":"#N/A"}},"欧尚"]
["304040001","欧尚四人位    OS-ZH/B2814  2400*1200*760 ",304040002,"主台面板=2","OF-T22枫木",2,"包","10-1,2",0,"15",704,null,{"$f":"VLOOKUP(A:A,[1]进仓汇总!A$1:G$65536,7,0)","v":{"$error":"#N/A"}},"欧尚"]
[null,"欧尚四人位    OS-ZH/B2814  2400*1200*760 ",304040003,"钢脚=3 走线槽=2","银白",1,"包","10-7",0,"15",704,null,{"$f":"VLOOKUP(A:A,[1]进仓汇总!A$1:G$65536,7,0)","v":{"$error":"#N/A"}},"欧尚"]
[null,"欧尚四人位    OS-ZH/B2814  2400*1200*760 ",304040004,"拉杆=3  ","银白",1,"包","10-8",0,"15",704,null,{"$f":"VLOOKUP(A:A,[1]进仓汇总!A$1:G$65536,7,0)","v":{"$error":"#N/A"}},"欧尚"]
[null,"欧尚四人位    OS-ZH/B2814  2400*1200*760 ",304040005,"功能梁=1",null,1,"包","10-10",0,"15",704,null,{"$f":"VLOOKUP(A:A,[1]进仓汇总!A$1:G$65536,7,0)","v":{"$error":"#N/A"}},"欧尚"]
[null,"欧尚四人位    OS-ZH/B2814  2400*1200*760 ",304040006,"桌上屏风=2","  果绿                                                                                                                                                                                                                                                                                                                                                                                                                                                                                                                                                                                                                                                                                                                                                                                                                                                                                                                                                                                                                                                                                                                                                                                                                                                                                                                                                                                                                                                                                                                                                                                                                                                                                                                                                                                                                                                                                                                                                                                                                                                                                                                                                                                                                                                                                                                                                                                                                                                                                                                                                                                                                                                                                                                                                                                                                                                                                                                                                                                                                                                                                                                                                                                                                                                                                                                                                                                                                                                                                                                                                                                                                                                                                                                                                                                                                                                                                                                                                                                                                                                                                                                                                                                                                                                                                                                                                                                                                                                                                                                                                                                                                                                                                                                                                                  ",1,"包","10-9",0,"15",704,null,{"$f":"VLOOKUP(A:A,[1]进仓汇总!A$1:G$65536,7,0)","v":{"$error":"#N/A"}},"欧尚"]
[null,"欧尚四人位    OS-ZH/B2814  2400*1200*760 ",304040007,"活动柜（420*520*640）","枫木/暖白",4,"包","11-3.4.5.6",0,null,"E区",null,{"$f":"VLOOKUP(A:A,[1]进仓汇总!A$1:G$65536,7,0)","v":{"$error":"#N/A"}},"欧尚"]
[null,"欧尚四人位    OS-ZH/B2814  2400*1200*760 ",304040008,"主机架=4（可选）","枫木/纯白",1,"包","11-11",0,null,704,null,{"$f":"VLOOKUP(A:A,[1]进仓汇总!A$1:G$65536,7,0)","v":{"$error":"#N/A"}},"欧尚"]
["302010001","欧典主管桌     OD-D-1608  1600*1600*760   ",302010002,"主台面板=1             挡板=1                      ","OF-1779灰橡木浮雕",1,"包","5-1",20,"20",802,990,{"$f":"VLOOKUP(A:A,[1]进仓汇总!A$1:G$65536,7,0)","v":{"$error":"#N/A"}},"欧典"]
[null,"欧典主管桌     OD-D-1608  1600*1600*760   ",302010003,"附台面板=1","OF-1779灰橡木浮雕",1,"包","5-2",20,"20",802,0,{"$f":"VLOOKUP(A:A,[1]进仓汇总!A$1:G$65536,7,0)","v":{"$error":"#N/A"}},"欧典"]
[null,"欧典主管桌     OD-D-1608  1600*1600*760   ",302010004,"欧典钢脚A=2","砂白",1,"包","5-3",20,"20",802,0,{"$f":"VLOOKUP(A:A,[1]进仓汇总!A$1:G$65536,7,0)","v":{"$error":"#N/A"}},"欧典"]
[null,"欧典主管桌     OD-D-1608  1600*1600*760   ",302010005,"欧典拉杆=2","砂白",1,"包","5-4",20,"20","802C",0,{"$f":"VLOOKUP(A:A,[1]进仓汇总!A$1:G$65536,7,0)","v":{"$error":"#N/A"}},"欧典"]
[null,"欧典主管桌     OD-D-1608  1600*1600*760   ","399020002-31","固定柜=1（410*490*750","灰橡/暖白",1,"包","5-5",20,null,"E区",0,{"$f":"VLOOKUP(A:A,[1]进仓汇总!A$1:G$65536,7,0)","v":{"$error":"#N/A"}},"欧典",-3]
["399020001","欧典主管桌     OD-D-1608  1600*1600*760   ",399020001,"主机架=1（可选）","灰橡/砂白",1,"包","6-6",20,null,"802C",0,{"$f":"VLOOKUP(A:A,[1]进仓汇总!A$1:G$65536,7,0)","v":{"$error":"#N/A"}},"欧典"]
["302010006","欧典主管桌     OD-D-1816   1800*1600*760   ",302010007,"主台面板=1            挡板=1                         ","OF-1779灰橡木浮雕",1,"包","5-1",30,"40","801A/ B 802A/B",940,{"$f":"VLOOKUP(A:A,[1]进仓汇总!A$1:G$65536,7,0)","v":{"$error":"#N/A"}},"欧典"]
[null,"欧典主管桌     OD-D-1816   1800*1600*760   ",302010008,"附台面板=1","OF-1779灰橡木浮雕",1,"包","5-2",30,"40",801,0,{"$f":"VLOOKUP(A:A,[1]进仓汇总!A$1:G$65536,7,0)","v":{"$error":"#N/A"}},"欧典"]
[null,"欧典主管桌     OD-D-1816   1800*1600*760   ",302010009,"欧典钢脚A=2 钢制走线槽B/单=1","砂白",1,"包","5-3",30,"40",801,0,{"$f":"VLOOKUP(A:A,[1]进仓汇总!A$1:G$65536,7,0)","v":{"$error":"#N/A"}},"欧典"]
[null,"欧典主管桌     OD-D-1816   1800*1600*760   ",302010010,"欧典拉杆=2","砂白",1,"包","5-4",30,"40","801C",0,{"$f":"VLOOKUP(A:A,[1]进仓汇总!A$1:G$65536,7,0)","v":{"$error":"#N/A"}},"欧典"]
[null,"欧典主管桌     OD-D-1816   1800*1600*760   ","399020002-32","固定柜=1（410*490*750","灰橡/暖白",1,"包","5-5",30,null,"E区",0,{"$f":"VLOOKUP(A:A,[1]进仓汇总!A$1:G$65536,7,0)","v":{"$error":"#N/A"}},"欧典"]
["302110002","欧典会议桌    OD-T1-2210   2200*1000*760",null,"台面板=1","灰橡/浮雕",1,"包","3-1",30,"30","804A/B",710,{"$f":"VLOOKUP(A:A,[1]进仓汇总!A$1:G$65536,7,0)","v":{"$error":"#N/A"}},"欧典"]
["302110003","欧典会议桌    OD-T1-2210   2200*1000*760",null,"欧典钢脚=2","砂白",1,"包","3-2",30,"30","804C",0,{"$f":"VLOOKUP(A:A,[1]进仓汇总!A$1:G$65536,7,0)","v":{"$error":"#N/A"}},"欧典"]
["302110004","欧典会议桌    OD-T1-2210   2200*1000*760",null,"欧典拉杆=2","砂白",1,"包","3-3",30,"30","804C",0,{"$f":"VLOOKUP(A:A,[1]进仓汇总!A$1:G$65536,7,0)","v":{"$error":"#N/A"}},"欧典"]
["302040001","欧典四人位    OD-S1-2812   2800*1230*760","399020003-21","台面板=2              ","灰橡/浮雕",2,"包","10-1,2",30,"30","806C",null,{"$f":"VLOOKUP(A:A,[1]进仓汇总!A$1:G$65536,7,0)","v":{"$error":"#N/A"}},"欧典"]
[null,"欧典四人位    OD-S1-2812   2800*1230*760","399020004-21","功能梁=2","砂白",1,"包","10-10",30,"30","806C",null,{"$f":"VLOOKUP(A:A,[1]进仓汇总!A$1:G$65536,7,0)","v":{"$error":"#N/A"}},"欧典"]
[null,"欧典四人位    OD-S1-2812   2800*1230*760","399020005-21","屏风板=2","树技纹",1,"包","10-9",30,"30","806C",null,{"$f":"VLOOKUP(A:A,[1]进仓汇总!A$1:G$65536,7,0)","v":{"$error":"#N/A"}},"欧典"]
[null,"欧典四人位    OD-S1-2812   2800*1230*760","399020006-21","欧典钢脚B=2  欧典钢脚C=1钢制走线槽A/单=2 ","砂白",1,"包","10-7",30,"30","805C",null,{"$f":"VLOOKUP(A:A,[1]进仓汇总!A$1:G$65536,7,0)","v":{"$error":"#N/A"}},"欧典"]
[null,"欧典四人位    OD-S1-2812   2800*1230*760","399020007-21","欧典横杆=4            配件包","砂白",1,"包","10-8",30,"30","806C",null,{"$f":"VLOOKUP(A:A,[1]进仓汇总!A$1:G$65536,7,0)","v":{"$error":"#N/A"}},"欧典"]
["302040002","欧典四人位    OD-S1-2812   2800*1230*760",null,"活动柜=1（420*510*640）","灰橡/暖白","1*4","包","10-3（4.5.6）",30,"15","C2区",null,{"$f":"VLOOKUP(A:A,[1]进仓汇总!A$1:G$65536,7,0)","v":{"$error":"#N/A"}},"欧典"]
["399020008","欧典四人位    OD-S1-2812   2800*1230*760",null,"主机架=4（可选）","灰橡/砂白",1,"包","11-11",30,null,"805B/705B",null,{"$f":"VLOOKUP(A:A,[1]进仓汇总!A$1:G$65536,7,0)","v":{"$error":"#N/A"}},"欧典",-15]
["302030001","欧典四人十字位    OD-S2-2828   2800*2830*760","399020003-22","台面板=2              ","灰橡/浮雕",2,"包","11-1,2",0,"15",0,null,{"$f":"VLOOKUP(A:A,[1]进仓汇总!A$1:G$65536,7,0)","v":{"$error":"#N/A"}},"欧典"]
[null,"欧典四人十字位    OD-S2-2828   2800*2830*760",302030002,"附台面板=4","灰橡/浮雕",1,null,"11-11",0,"15","803c",null,{"$f":"VLOOKUP(A:A,[1]进仓汇总!A$1:G$65536,7,0)","v":{"$error":"#N/A"}},"欧典"]
[null,"欧典四人十字位    OD-S2-2828   2800*2830*760","399020004-22","功能梁=2","砂白",1,"包","11-10",0,"15",0,null,{"$f":"VLOOKUP(A:A,[1]进仓汇总!A$1:G$65536,7,0)","v":{"$error":"#N/A"}},"欧典"]
[null,"欧典四人十字位    OD-S2-2828   2800*2830*760","399020005-22","屏风板=2","树技纹",1,"包","11-9",0,"15",0,null,{"$f":"VLOOKUP(A:A,[1]进仓汇总!A$1:G$65536,7,0)","v":{"$error":"#N/A"}},"欧典"]
[null,"欧典四人十字位    OD-S2-2828   2800*2830*760","399020006-22","欧典钢脚B=2            欧典钢脚C=1            钢制走线槽A/单=2","砂白",1,"包","11-7",0,"15",0,null,{"$f":"VLOOKUP(A:A,[1]进仓汇总!A$1:G$65536,7,0)","v":{"$error":"#N/A"}},"欧典"]
[null,"欧典四人十字位    OD-S2-2828   2800*2830*760","399020007-22","欧典横杆=4            配件包","砂白",1,"包","11-8",0,"15",0,null,{"$f":"VLOOKUP(A:A,[1]进仓汇总!A$1:G$65536,7,0)","v":{"$error":"#N/A"}},"欧典"]
[null,"欧典四人十字位    OD-S2-2828   2800*2830*760","399020002-33","地柜 ","灰橡/暖白","1*4","包","12-3（5.6.4）",{"$f":"+VLOOKUP(A:A,[1]安全库存!A$1:I$65536,9,0)","v":{"$error":"#N/A"}},"15",0,null,{"$f":"VLOOKUP(A:A,[1]进仓汇总!A$1:G$65536,7,0)","v":{"$error":"#N/A"}},"欧典"]
["302060001","欧典文件柜     OD-C1-C0816 800*400*1600",302060002,"顶板=1，固定层=1      活动层板=2底板=1配件包","灰橡/暖白",1,"包","4-1",40,"40",809,726,{"$f":"VLOOKUP(A:A,[1]进仓汇总!A$1:G$65536,7,0)","v":{"$error":"#N/A"}},"欧典"]
[null,"欧典文件柜     OD-C1-C0816 800*400*1600",302060003,"背板=1，侧板=2，      掩门板=2","灰橡/暖白",1,"包","4-2",40,"40",809,0,{"$f":"VLOOKUP(A:A,[1]进仓汇总!A$1:G$65536,7,0)","v":{"$error":"#N/A"}},"欧典"]
[null,"欧典文件柜     OD-C1-C0816 800*400*1600",302060004,"斜边铝门=2","砂白",1,"包","4-3",40,"40",809,0,{"$f":"VLOOKUP(A:A,[1]进仓汇总!A$1:G$65536,7,0)","v":{"$error":"#N/A"}},"欧典"]
[null,"欧典文件柜     OD-C1-C0816 800*400*1600","399020009-21","柜脚=1","砂白",1,"包","4-4",40,"40",809,0,{"$f":"VLOOKUP(A:A,[1]进仓汇总!A$1:G$65536,7,0)","v":{"$error":"#N/A"}},"欧典"]
["302090001","欧典文件柜  OD-C2-C0816 800*400*1600",302090002,"顶板=1，固定层=1      活动层板=3","灰橡/暖白",1,"包","3-1",30,"40",808,590,{"$f":"VLOOKUP(A:A,[1]进仓汇总!A$1:G$65536,7,0)","v":{"$error":"#N/A"}},"欧典",-4]
[null,"欧典文件柜  OD-C2-C0816 800*400*1600",302090003,"背板=1，侧板=2，      掩门板=2","灰橡/暖白",1,"包","3-2",30,"40",808,0,{"$f":"VLOOKUP(A:A,[1]进仓汇总!A$1:G$65536,7,0)","v":{"$error":"#N/A"}},"欧典",-3]
[null,"欧典文件柜  OD-C2-C0816 800*400*1600","399020009-22","柜脚=1","砂白",1,"包","3-3",30,"40",808,0,{"$f":"VLOOKUP(A:A,[1]进仓汇总!A$1:G$65536,7,0)","v":{"$error":"#N/A"}},"欧典"]
["302040003","欧典文件柜  OD-C2-C0816 800*400*1600",null,"活动柜(新款410*500*590）","灰橡/暖白",null,"个",null,{"$f":"+VLOOKUP(A:A,[1]安全库存!A$1:I$65536,9,0)","v":{"$error":"#N/A"}},null,"小房间",null,{"$f":"VLOOKUP(A:A,[1]进仓汇总!A$1:G$65536,7,0)","v":{"$error":"#N/A"}},"欧典"]
["302070001","欧典长几       OD-LT       1200*600*420",null,"欧典长几1200*600*420",null,null,null,null,{"$f":"+VLOOKUP(A:A,[1]安全库存!A$1:I$65536,9,0)","v":{"$error":"#N/A"}},"40",810,276,{"$f":"VLOOKUP(A:A,[1]进仓汇总!A$1:G$65536,7,0)","v":{"$error":"#N/A"}},"欧典"]
[null,"欧典长几       OD-LT       1200*600*420",302070002,"面板","OF-1779灰橡木浮雕",1,"包","3-1",30,"40","810B",0,{"$f":"VLOOKUP(A:A,[1]进仓汇总!A$1:G$65536,7,0)","v":{"$error":"#N/A"}},"欧典"]
[null,"欧典长几       OD-LT       1200*600*420",302070003,"钢脚","砂白钢脚",1,"包","3-2",30,"40","810C",0,{"$f":"VLOOKUP(A:A,[1]进仓汇总!A$1:G$65536,7,0)","v":{"$error":"#N/A"}},"欧典"]
[null,"欧典长几       OD-LT       1200*600*420",302070004,"拉杆","砂白钢脚",1,"包","3-3",30,"40","810C",0,{"$f":"VLOOKUP(A:A,[1]进仓汇总!A$1:G$65536,7,0)","v":{"$error":"#N/A"}},"欧典"]
["302080001","欧典方几       OD-ST  600*600*420",302080002,"面板","OF-1779灰橡木浮雕",1,"包","3-1",20,"40","810B",228,{"$f":"VLOOKUP(A:A,[1]进仓汇总!A$1:G$65536,7,0)","v":{"$error":"#N/A"}},"欧典"]
[null,"欧典方几       OD-ST  600*600*420",302080003,"钢脚","砂白钢脚",1,"包","3-2",20,"40","810C",0,{"$f":"VLOOKUP(A:A,[1]进仓汇总!A$1:G$65536,7,0)","v":{"$error":"#N/A"}},"欧典"]
[null,"欧典方几       OD-ST  600*600*420",302080004,"/拉杆","砂白钢脚",1,"包","3-3",20,"40","810C",0,{"$f":"VLOOKUP(A:A,[1]进仓汇总!A$1:G$65536,7,0)","v":{"$error":"#N/A"}},"欧典"]
["303060001","梵高文件柜    FG-C1-9019  900*420*1980",303060002,"顶板=1 固定层板=1      活动层板=3 底板=1 配件包","梨木浮雕",1,"包","3-1",30,"40",606,810,{"$f":"VLOOKUP(A:A,[1]进仓汇总!A$1:G$65536,7,0)","v":{"$error":"#N/A"}},"梵高"]
[null,"梵高文件柜    FG-C1-9019  900*420*1980",303060003,"背板=3  下掩门板=2      侧板=2        脚裙=1","梨木浮雕",1,"包","3-2",30,"40",605,0,{"$f":"VLOOKUP(A:A,[1]进仓汇总!A$1:G$65536,7,0)","v":{"$error":"#N/A"}},"梵高"]
[null,"梵高文件柜    FG-C1-9019  900*420*1980",303060004,"斜边铝门=2","碳灰",1,"包","3-3",30,"40",606,0,{"$f":"VLOOKUP(A:A,[1]进仓汇总!A$1:G$65536,7,0)","v":{"$error":"#N/A"}},"梵高"]
["303090001","梵高文件柜    FG-C2-9019  900*420*1980",303090002,"顶板=1 固定层板=1      活动层板=3  底板=1配件包","梨木/浮雕",1,"包","2-1",0,"40",603,640,{"$f":"VLOOKUP(A:A,[1]进仓汇总!A$1:G$65536,7,0)","v":{"$error":"#N/A"}},"梵高"]
[null,"梵高文件柜    FG-C2-9019  900*420*1980",303090003,"背板=1 上掩门板=2      侧板=2  脚裙=1         下掩门板=2     ","梨木/浮雕",1,"包","2-2",0,"40",604,0,{"$f":"VLOOKUP(A:A,[1]进仓汇总!A$1:G$65536,7,0)","v":{"$error":"#N/A"}},"梵高"]
["303010001","梵高主管桌    FG-D-2120  2100*1000*760",303010002,"主台面板=1 挡板=1挡板夹=2   ","梨木浮雕",1,"包","5-1",25,"40",501,null,{"$f":"VLOOKUP(A:A,[1]进仓汇总!A$1:G$65536,7,0)","v":{"$error":"#N/A"}},"梵高"]
[null,"梵高主管桌    FG-D-2120  2100*1000*760",303010003,"附件台面板=1 平铁=2","梨木浮雕",1,"包","5-2",25,"40",501,null,{"$f":"VLOOKUP(A:A,[1]进仓汇总!A$1:G$65536,7,0)","v":{"$error":"#N/A"}},"梵高"]
[null,"梵高主管桌    FG-D-2120  2100*1000*760",303010004,"梵高边脚=2 钢制走线槽C/U单=1     ","碳灰",1,"包","5-3",25,"40",501,null,{"$f":"VLOOKUP(A:A,[1]进仓汇总!A$1:G$65536,7,0)","v":{"$error":"#N/A"}},"梵高"]
[null,"梵高主管桌    FG-D-2120  2100*1000*760",303010005,"梵高横杆A=2","碳灰",1,"包","5-4",25,"40",501,null,{"$f":"VLOOKUP(A:A,[1]进仓汇总!A$1:G$65536,7,0)","v":{"$error":"#N/A"}},"梵高"]
[null,"梵高主管桌    FG-D-2120  2100*1000*760",303010006,"固定柜=1（430*510*765）","梨木/铁灰",1,"个","5-5",25,null,"C2区",null,{"$f":"VLOOKUP(A:A,[1]进仓汇总!A$1:G$65536,7,0)","v":{"$error":"#N/A"}},"梵高"]
[null,"梵高主管桌    FG-D-2120  2100*1000*760",303010007,"主机架=1 （可选）","梨木/碳灰",1,"包","6-6",25,null,501,38,{"$f":"VLOOKUP(A:A,[1]进仓汇总!A$1:G$65536,7,0)","v":{"$error":"#N/A"}},"梵高"]
["303020001","梵高主管桌1800*800*760",303020001,"面板梵高主管桌1800*800*760","梨木浮雕",1,"包",null,{"$f":"+VLOOKUP(A:A,[1]安全库存!A$1:I$65536,9,0)","v":{"$error":"#N/A"}},"20",601,1086,{"$f":"VLOOKUP(A:A,[1]进仓汇总!A$1:G$65536,7,0)","v":{"$error":"#N/A"}},"梵高"]
[null,"梵高主管桌1800*800*760",303020002,"附台面板","梨木浮雕",1,"包",null,10,"20",601,0,{"$f":"VLOOKUP(A:A,[1]进仓汇总!A$1:G$65536,7,0)","v":{"$error":"#N/A"}},"梵高"]
[null,"梵高主管桌1800*800*760",303020003,"梵高边脚=2 钢制走线槽C/U单=1     ","碳灰",1,"包",null,10,"20",602,0,{"$f":"VLOOKUP(A:A,[1]进仓汇总!A$1:G$65536,7,0)","v":{"$error":"#N/A"}},"梵高"]
[null,"梵高主管桌1800*800*760",303020004,"梵高横杆A=2","碳灰",1,"包",null,10,"20",602,0,{"$f":"VLOOKUP(A:A,[1]进仓汇总!A$1:G$65536,7,0)","v":{"$error":"#N/A"}},"梵高"]
[null,"梵高主管桌1800*800*760",303020005,"固定柜=1（430*510*765）","梨木/铁灰",1,"包",null,10,"20","C2区",0,{"$f":"VLOOKUP(A:A,[1]进仓汇总!A$1:G$65536,7,0)","v":{"$error":"#N/A"}},"梵高"]
["303110001","梵高会议桌    FG-T1-3212   3200*1200*760",303110002,"台面板=2","梨木浮雕",1,"包","4-1",30,"30",503,1445,{"$f":"VLOOKUP(A:A,[1]进仓汇总!A$1:G$65536,7,0)","v":{"$error":"#N/A"}},"梵高"]
[null,"梵高会议桌    FG-T1-3212   3200*1200*760",303110003,"装饰板=1 平铁=2",null,1,"包","4-2",30,"30",503,0,{"$f":"VLOOKUP(A:A,[1]进仓汇总!A$1:G$65536,7,0)","v":{"$error":"#N/A"}},"梵高"]
[null,"梵高会议桌    FG-T1-3212   3200*1200*760",303110004,"梵高边脚=2 梵高中脚=1  配件包","碳灰",1,"包","4-3",30,"30",503,0,{"$f":"VLOOKUP(A:A,[1]进仓汇总!A$1:G$65536,7,0)","v":{"$error":"#N/A"}},"梵高"]
[null,"梵高会议桌    FG-T1-3212   3200*1200*760",303110005,"梵高横杆B=4","碳灰",1,"包","4-4",30,"30",503,0,{"$f":"VLOOKUP(A:A,[1]进仓汇总!A$1:G$65536,7,0)","v":{"$error":"#N/A"}},"梵高"]
["303070001","梵高长茶几 1200*600*420    ",303070002,"茶几面板=1","梨木",1,"包","3-1",15,"30",610,456,{"$f":"VLOOKUP(A:A,[1]进仓汇总!A$1:G$65536,7,0)","v":{"$error":"#N/A"}},"梵高"]
[null,"梵高长茶几 1200*600*420    ",303070003,"梵高茶几钢脚=2","碳灰",1,"包","3-2",15,"30","610B",0,{"$f":"VLOOKUP(A:A,[1]进仓汇总!A$1:G$65536,7,0)","v":{"$error":"#N/A"}},"梵高"]
[null,"梵高长茶几 1200*600*420    ",303070004,"梵高横杆A=2","碳灰",1,"包","3-3",15,"30",610,0,{"$f":"VLOOKUP(A:A,[1]进仓汇总!A$1:G$65536,7,0)","v":{"$error":"#N/A"}},"梵高"]
["303080001","梵高方几       FG-ST    600*600*420",303080002,"茶几面板=1","梨木",1,"包","3-1",20,"30",610,null,{"$f":"VLOOKUP(A:A,[1]进仓汇总!A$1:G$65536,7,0)","v":{"$error":"#N/A"}},"梵高"]
[null,"梵高方几       FG-ST    600*600*420",303080003,"梵高茶几钢脚=2         ","碳灰",1,"包","3-2",20,"30",610,null,{"$f":"VLOOKUP(A:A,[1]进仓汇总!A$1:G$65536,7,0)","v":{"$error":"#N/A"}},"梵高"]
[null,"梵高方几       FG-ST    600*600*420",303080004,"梵高横杆A=2","碳灰",1,"包","3-3",20,"30",609,null,{"$f":"VLOOKUP(A:A,[1]进仓汇总!A$1:G$65536,7,0)","v":{"$error":"#N/A"}},"梵高"]
["303100001","梵高洽谈桌   1000*750",303100002,"台面板=1","梨木",1,"包","2-1",0,"10",609,null,{"$f":"VLOOKUP(A:A,[1]进仓汇总!A$1:G$65536,7,0)","v":{"$error":"#N/A"}},"梵高"]
[null,"梵高洽谈桌   1000*750",303100003,"圆盘脚=1","碳灰",1,"包","2-2",0,"10",609,null,{"$f":"VLOOKUP(A:A,[1]进仓汇总!A$1:G$65536,7,0)","v":{"$error":"#N/A"}},"梵高"]
["303100004","梵高洽谈桌   800*750",303100005,"台面板=1","梨木",1,"包","2-1",10,"15",609,null,{"$f":"VLOOKUP(A:A,[1]进仓汇总!A$1:G$65536,7,0)","v":{"$error":"#N/A"}},"梵高"]
[null,"梵高洽谈桌   800*750",303100006,"圆盘脚=1","碳灰",1,"包","2-2",10,"15",0,null,{"$f":"VLOOKUP(A:A,[1]进仓汇总!A$1:G$65536,7,0)","v":{"$error":"#N/A"}},"梵高"]
["303030001","梵高十字四人位 2800*2800*760","303030002-21","主台面","枫木",2,"包","11-1,2",0,"10","604c",null,{"$f":"VLOOKUP(A:A,[1]进仓汇总!A$1:G$65536,7,0)","v":{"$error":"#N/A"}},"梵高"]
[null,"梵高十字四人位 2800*2800*760",303030003,"附台=4","枫木",1,"包","11-3",0,"10",0,null,{"$f":"VLOOKUP(A:A,[1]进仓汇总!A$1:G$65536,7,0)","v":{"$error":"#N/A"}},"梵高"]
[null,"梵高十字四人位 2800*2800*760","303030004-21","屏风板=2",null,1,"包","11-4",0,"10",0,null,{"$f":"VLOOKUP(A:A,[1]进仓汇总!A$1:G$65536,7,0)","v":{"$error":"#N/A"}},"梵高"]
[null,"梵高十字四人位 2800*2800*760",303030005,"梵高边脚=2 钢制走线槽B=2  梵高中脚=1","碳灰",1,"包","11-5",0,"10",0,null,{"$f":"VLOOKUP(A:A,[1]进仓汇总!A$1:G$65536,7,0)","v":{"$error":"#N/A"}},"梵高"]
[null,"梵高十字四人位 2800*2800*760",303030006,"地柜=1  左","枫木/铁灰",2,"包","11-6,7",0,null,0,null,{"$f":"VLOOKUP(A:A,[1]进仓汇总!A$1:G$65536,7,0)","v":{"$error":"#N/A"}},"梵高"]
[null,"梵高十字四人位 2800*2800*760",303030007,"地柜=1 右","枫木/铁灰",2,"包","11-8,9",0,null,0,null,{"$f":"VLOOKUP(A:A,[1]进仓汇总!A$1:G$65536,7,0)","v":{"$error":"#N/A"}},"梵高"]
[null,"梵高十字四人位 2800*2800*760","303030008-21","拉杆=2","碳灰",1,"包","11-10",0,"10",0,null,{"$f":"VLOOKUP(A:A,[1]进仓汇总!A$1:G$65536,7,0)","v":{"$error":"#N/A"}},"梵高"]
[null,"梵高十字四人位 2800*2800*760","303030009-21","功能梁=2 ","氧化",1,"包","11-11",0,"10",0,null,{"$f":"VLOOKUP(A:A,[1]进仓汇总!A$1:G$65536,7,0)","v":{"$error":"#N/A"}},"梵高"]
["399030001-31","梵高十字四人位 2800*2800*760",null,"主机架=4（可选）","枫木/碳灰",1,"包","12-12",0,null,0,null,{"$f":"VLOOKUP(A:A,[1]进仓汇总!A$1:G$65536,7,0)","v":0},"梵高"]
["303040008","梵高直型四人位2800*1400*760","303030002-22","主台面","枫木",2,"包","10-1.2",0,"10",0,null,{"$f":"VLOOKUP(A:A,[1]进仓汇总!A$1:G$65536,7,0)","v":{"$error":"#N/A"}},"梵高"]
[null,"梵高直型四人位2800*1400*760",303040005,"屏风板=2","铁灰",1,"包","10-7",0,"10","507B",null,{"$f":"VLOOKUP(A:A,[1]进仓汇总!A$1:G$65536,7,0)","v":{"$error":"#N/A"}},"梵高"]
[null,"梵高直型四人位2800*1400*760","303030004-22","梵高边脚=2 钢制走线槽B=2  梵高中脚=1","碳灰",1,"包","10-8","0","10",0,null,{"$f":"VLOOKUP(A:A,[1]进仓汇总!A$1:G$65536,7,0)","v":{"$error":"#N/A"}},"梵高"]
[null,"梵高直型四人位2800*1400*760","399030001-32","拉杆=2","碳灰",1,"包","10-9","0","10",0,null,{"$f":"VLOOKUP(A:A,[1]进仓汇总!A$1:G$65536,7,0)","v":{"$error":"#N/A"}},"梵高"]
[null,"梵高直型四人位2800*1400*760","303030008-22","功能梁=2 ","氧化",1,"包","10-10","0","10","小房间",null,{"$f":"VLOOKUP(A:A,[1]进仓汇总!A$1:G$65536,7,0)","v":{"$error":"#N/A"}},"梵高"]
[null,"梵高直型四人位2800*1400*760","303030009-22","活动柜","枫木/铁灰",4,"个","10-3.4.5.6","0",null,0,null,{"$f":"VLOOKUP(A:A,[1]进仓汇总!A$1:G$65536,7,0)","v":{"$error":"#N/A"}},"梵高"]
["399030001-33","梵高直型四人位2800*1400*760",null,"主机架=4（可选）","枫木/碳灰",1,"包","11-11",0,null,0,null,{"$f":"VLOOKUP(A:A,[1]进仓汇总!A$1:G$65536,7,0)","v":0},"梵高"]
["306020001","608款二人位 ",null,"608款二人位",null,"套",null,null,0,null,"710C",null,{"$f":"VLOOKUP(A:A,[1]进仓汇总!A$1:G$65536,7,0)","v":{"$error":"#N/A"}},"梵高"]
[null,"608款二人位 ",306020002,"L型台面板=2","暖白",1,"包","12-1",0,null,"710C",null,{"$f":"VLOOKUP(A:A,[1]进仓汇总!A$1:G$65536,7,0)","v":{"$error":"#N/A"}},"梵高"]
[null,"608款二人位 ",306020003,"侧板=3","暖白",1,"包","12-2",0,null,"C2区",null,{"$f":"VLOOKUP(A:A,[1]进仓汇总!A$1:G$65536,7,0)","v":{"$error":"#N/A"}},"梵高"]
[null,"608款二人位 ","399880003-33","活动柜=1","暖白/铁灰",2,"包","12-3.4",0,null,"710C",null,{"$f":"VLOOKUP(A:A,[1]进仓汇总!A$1:G$65536,7,0)","v":{"$error":"#N/A"}},"梵高"]
[null,"608款二人位 ",306020004,"主机架=2","暖白/铁灰",1,"包","12-5",0,null,"710C",null,{"$f":"VLOOKUP(A:A,[1]进仓汇总!A$1:G$65536,7,0)","v":{"$error":"#N/A"}},"梵高"]
[null,"608款二人位 ",306020005,"键盘架=2","暖白",1,"包","12-6",0,null,"710C",null,{"$f":"VLOOKUP(A:A,[1]进仓汇总!A$1:G$65536,7,0)","v":{"$error":"#N/A"}},"梵高"]
[null,"608款二人位 ",306020006,"屏风A:738*1200=2","碳黑",1,"包","12-7",0,null,"710C",null,{"$f":"VLOOKUP(A:A,[1]进仓汇总!A$1:G$65536,7,0)","v":{"$error":"#N/A"}},"梵高"]
[null,"608款二人位 ",306020007,"屏风B:738*1400=2","碳黑",1,"包","12-8",0,null,"710C",null,{"$f":"VLOOKUP(A:A,[1]进仓汇总!A$1:G$65536,7,0)","v":{"$error":"#N/A"}},"梵高"]
[null,"608款二人位 ",306020008,"屏风C:738*1400=2","碳黑",1,"包","12-9",0,null,"710C",null,{"$f":"VLOOKUP(A:A,[1]进仓汇总!A$1:G$65536,7,0)","v":{"$error":"#N/A"}},"梵高"]
[null,"608款二人位 ",306020009,"屏风D:738*1200=2","碳黑",1,"包","12-10",0,null,"710C",null,{"$f":"VLOOKUP(A:A,[1]进仓汇总!A$1:G$65536,7,0)","v":{"$error":"#N/A"}},"梵高"]
[null,"608款二人位 ",306020010,"屏风配件",null,1,"包","12-11",0,null,"710C",null,{"$f":"VLOOKUP(A:A,[1]进仓汇总!A$1:G$65536,7,0)","v":{"$error":"#N/A"}},"梵高"]
[null,"608款二人位 ",306020011,"屏风封边",null,1,"包","12-12",0,null,301,null,{"$f":"VLOOKUP(A:A,[1]进仓汇总!A$1:G$65536,7,0)","v":{"$error":"#N/A"}},"梵高"]
["306040001","168屏风四人位2400*1200*1150",null,"全旧线盒168屏风四人位2400*1200*1150",null,"套",null,null,{"$f":"+VLOOKUP(A:A,[1]安全库存!A$1:I$65536,9,0)","v":{"$error":"#N/A"}},"40","电梯后",1300,{"$f":"VLOOKUP(A:A,[1]进仓汇总!A$1:G$65536,7,0)","v":{"$error":"#N/A"}},"梵高"]
[null,"168屏风四人位2400*1200*1150",306040002,"台面板=2","暖白",2,"包","10-1/2",50,"80",301,0,{"$f":"VLOOKUP(A:A,[1]进仓汇总!A$1:G$65536,7,0)","v":{"$error":"#N/A"}},"梵高"]
[null,"168屏风四人位2400*1200*1150",306040003,"桌面屏风=2","树技纹",1,"包","10-7",25,"40",301,0,{"$f":"VLOOKUP(A:A,[1]进仓汇总!A$1:G$65536,7,0)","v":{"$error":"#N/A"}},"梵高"]
[null,"168屏风四人位2400*1200*1150",306040004,"地柜","暖白/铁灰",2,"包","10-3.4.5.6",null,null,301,0,{"$f":"VLOOKUP(A:A,[1]进仓汇总!A$1:G$65536,7,0)","v":{"$error":"#N/A"}},"梵高"]
[null,"168屏风四人位2400*1200*1150",306040005,"钢侧板=2/配件","碳灰",1,"包","10-8",25,"40",301,0,{"$f":"VLOOKUP(A:A,[1]进仓汇总!A$1:G$65536,7,0)","v":{"$error":"#N/A"}},"梵高"]
[null,"168屏风四人位2400*1200*1150",306040006,"屏风A:1234*1150=1","氧化铝",1,"包","10-9",25,"40",301,0,{"$f":"VLOOKUP(A:A,[1]进仓汇总!A$1:G$65536,7,0)","v":{"$error":"#N/A"}},"梵高"]
[null,"168屏风四人位2400*1200*1150",306040007,"配件：",null,1,"包","10-10",25,"40",403,0,{"$f":"VLOOKUP(A:A,[1]进仓汇总!A$1:G$65536,7,0)","v":{"$error":"#N/A"}},"梵高"]
["301050001","魔方文件柜  Mfan-CA09 2500*400*1745",301050002,"CA09掩门柜","布纹",2,"包","8-1,2",15,"20",403,1530,{"$f":"VLOOKUP(A:A,[1]进仓汇总!A$1:G$65536,7,0)","v":{"$error":"#N/A"}},"梵高"]
[null,"魔方文件柜  Mfan-CA09 2500*400*1745",301050003,"CA04层板1=2","布纹",1,"包","8-3",15,"20",403,0,{"$f":"VLOOKUP(A:A,[1]进仓汇总!A$1:G$65536,7,0)","v":{"$error":"#N/A"}},"梵高"]
[null,"魔方文件柜  Mfan-CA09 2500*400*1745",301050004,"CA04层板2=3","布纹",1,"包","8-4",15,"20",404,0,{"$f":"VLOOKUP(A:A,[1]进仓汇总!A$1:G$65536,7,0)","v":{"$error":"#N/A"}},"梵高"]
[null,"魔方文件柜  Mfan-CA09 2500*400*1745",301050005,"CA12趟门柜","布纹",1,"包","8-5",15,"20",404,0,{"$f":"VLOOKUP(A:A,[1]进仓汇总!A$1:G$65536,7,0)","v":{"$error":"#N/A"}},"梵高"]
[null,"魔方文件柜  Mfan-CA09 2500*400*1745",301050006,"GJ3钢架=2","碳灰",2,"包","8-6,7",15,"20","C2区",0,{"$f":"VLOOKUP(A:A,[1]进仓汇总!A$1:G$65536,7,0)","v":{"$error":"#N/A"}},"梵高"]
[null,"魔方文件柜  Mfan-CA09 2500*400*1745",301050007,"CA16二抽柜=1","布纹",1,"包","8-8",15,"20",401,0,{"$f":"VLOOKUP(A:A,[1]进仓汇总!A$1:G$65536,7,0)","v":{"$error":"#N/A"}},"梵高"]
["301050008","魔方文件柜  Mfan-CA09 2500*400*1745",301050009,"CA09掩门柜","暖白",2,"包","8-1,2",0,"30",401,null,{"$f":"VLOOKUP(A:A,[1]进仓汇总!A$1:G$65536,7,0)","v":{"$error":"#N/A"}},"梵高"]
[null,"魔方文件柜  Mfan-CA09 2500*400*1745",301050010,"CA04层板1=2","暖白",1,"包","8-3",0,"30",401,null,{"$f":"VLOOKUP(A:A,[1]进仓汇总!A$1:G$65536,7,0)","v":{"$error":"#N/A"}},"梵高"]
[null,"魔方文件柜  Mfan-CA09 2500*400*1745",301050011,"CA04层板2=3","暖白",1,"包","8-4",0,"30",402,null,{"$f":"VLOOKUP(A:A,[1]进仓汇总!A$1:G$65536,7,0)","v":{"$error":"#N/A"}},"梵高"]
[null,"魔方文件柜  Mfan-CA09 2500*400*1745",301050012,"CA12趟门柜","暖白",1,"包","8-5",0,"30",402,null,{"$f":"VLOOKUP(A:A,[1]进仓汇总!A$1:G$65536,7,0)","v":{"$error":"#N/A"}},"梵高"]
[null,"魔方文件柜  Mfan-CA09 2500*400*1745",301050013,"GJ3钢架=2","纯白",2,"包","8-6,7",0,"30","C2区",null,{"$f":"VLOOKUP(A:A,[1]进仓汇总!A$1:G$65536,7,0)","v":{"$error":"#N/A"}},"梵高"]
[null,"魔方文件柜  Mfan-CA09 2500*400*1745",301050014,"CA16二抽柜=1","暖白",1,"包","8-8",0,"30","405B",null,{"$f":"VLOOKUP(A:A,[1]进仓汇总!A$1:G$65536,7,0)","v":{"$error":"#N/A"}},"梵高"]
["301090004","空格柜 4 格",null,"空格柜4格850*380*850","暖白/浮雕",1,"包","3-1",0,null,"405B",710,{"$f":"VLOOKUP(A:A,[1]进仓汇总!A$1:G$65536,7,0)","v":{"$error":"#N/A"}},"梵高"]
["301090005","空格柜 6 格",null,"空格柜6格850*350*1265","暖白/浮雕",1,"包","3-2",0,null,"405A",250,{"$f":"VLOOKUP(A:A,[1]进仓汇总!A$1:G$65536,7,0)","v":{"$error":"#N/A"}},"梵高"]
["301090006","空格柜 8 格",null,"空格柜8格850*350*1680","暖白/浮雕",1,"包","3-3",0,null,"405A",300,{"$f":"VLOOKUP(A:A,[1]进仓汇总!A$1:G$65536,7,0)","v":{"$error":"#N/A"}},"梵高"]
["312040001","青花瓷四人位组合 （带吊柜）2800*1400*1680     QH-S1-2814",312040002,"台面板=2/A","白玉石绒面",1,"包","11-1",0,null,"803a",null,{"$f":"VLOOKUP(A:A,[1]进仓汇总!A$1:G$65536,7,0)","v":{"$error":"#N/A"}},"青花瓷"]
[null,"青花瓷四人位组合 （带吊柜）2800*1400*1680     QH-S1-2814",312040003,"台面板=2/B","白玉石绒面",1,"包","11-2",0,null,705,null,{"$f":"VLOOKUP(A:A,[1]进仓汇总!A$1:G$65536,7,0)","v":{"$error":"#N/A"}},"青花瓷"]
[null,"青花瓷四人位组合 （带吊柜）2800*1400*1680     QH-S1-2814",312040004,"空格柜=2、线槽板=2、配件包=2","白玉石绒面",1,"包","11-3",0,null,705,null,{"$f":"VLOOKUP(A:A,[1]进仓汇总!A$1:G$65536,7,0)","v":{"$error":"#N/A"}},"青花瓷"]
[null,"青花瓷四人位组合 （带吊柜）2800*1400*1680     QH-S1-2814",312040005,"玻璃屏风板=2","白色药水砂",1,"包","11-4",0,null,705,null,{"$f":"VLOOKUP(A:A,[1]进仓汇总!A$1:G$65536,7,0)","v":{"$error":"#N/A"}},"青花瓷"]
[null,"青花瓷四人位组合 （带吊柜）2800*1400*1680     QH-S1-2814",312040006,"边脚=2","纯白+电镀",2,"包","11-5、6",0,null,705,null,{"$f":"VLOOKUP(A:A,[1]进仓汇总!A$1:G$65536,7,0)","v":{"$error":"#N/A"}},"青花瓷"]
[null,"青花瓷四人位组合 （带吊柜）2800*1400*1680     QH-S1-2814",312040007,"中脚=1","纯白+电镀",1,"包","11-7",0,null,705,null,{"$f":"VLOOKUP(A:A,[1]进仓汇总!A$1:G$65536,7,0)","v":{"$error":"#N/A"}},"青花瓷"]
[null,"青花瓷四人位组合 （带吊柜）2800*1400*1680     QH-S1-2814",312040008,"横杆=4、","纯白",1,"包","11-8",0,null,705,null,{"$f":"VLOOKUP(A:A,[1]进仓汇总!A$1:G$65536,7,0)","v":{"$error":"#N/A"}},"青花瓷"]
[null,"青花瓷四人位组合 （带吊柜）2800*1400*1680     QH-S1-2814",312040009,"边杆=4 配件","纯白",1,"包","11-9",0,null,705,null,{"$f":"VLOOKUP(A:A,[1]进仓汇总!A$1:G$65536,7,0)","v":{"$error":"#N/A"}},"青花瓷"]
[null,"青花瓷四人位组合 （带吊柜）2800*1400*1680     QH-S1-2814",312040010,"桌上支撑柱=3","纯白",1,"包","11-10",0,null,705,null,{"$f":"VLOOKUP(A:A,[1]进仓汇总!A$1:G$65536,7,0)","v":{"$error":"#N/A"}},"青花瓷"]
[null,"青花瓷四人位组合 （带吊柜）2800*1400*1680     QH-S1-2814",312040011,"走线槽=2","纯白",1,"包","11-11",0,null,705,null,{"$f":"VLOOKUP(A:A,[1]进仓汇总!A$1:G$65536,7,0)","v":{"$error":"#N/A"}},"青花瓷"]
["300000041","青花瓷四人位组2800*1400*750     带吊柜",null,"吊柜",null,null,"包",null,0,null,705,null,{"$f":"VLOOKUP(A:A,[1]进仓汇总!A$1:G$65536,7,0)","v":{"$error":"#N/A"}},"青花瓷"]
[null,"青花瓷四人位组2800*1400*750     带吊柜",300000042,"屏风",null,null,"包",null,0,null,705,null,{"$f":"VLOOKUP(A:A,[1]进仓汇总!A$1:G$65536,7,0)","v":{"$error":"#N/A"}},"青花瓷"]
["312040012","青花瓷四人位组2800*1400*750     QH-S2-2814",312040013,"台面板=4.","白玉石绒面",2,"包","10-1、2",0,null,"E区",null,{"$f":"VLOOKUP(A:A,[1]进仓汇总!A$1:G$65536,7,0)","v":{"$error":"#N/A"}},"青花瓷"]
[null,"青花瓷四人位组2800*1400*750     QH-S2-2814",312040014,"功能梁=2","氧化",1,"包","10-3",0,null,"E区",null,{"$f":"VLOOKUP(A:A,[1]进仓汇总!A$1:G$65536,7,0)","v":{"$error":"#N/A"}},"青花瓷"]
[null,"青花瓷四人位组2800*1400*750     QH-S2-2814",312040015,"屏风板=2","白玉石绒面",1,"包","10-4",0,null,"E区",null,{"$f":"VLOOKUP(A:A,[1]进仓汇总!A$1:G$65536,7,0)","v":{"$error":"#N/A"}},"青花瓷"]
[null,"青花瓷四人位组2800*1400*750     QH-S2-2814",312040016,"边脚=2","纯白+电镀",2,"包","10-6、5",0,null,"E区",null,{"$f":"VLOOKUP(A:A,[1]进仓汇总!A$1:G$65536,7,0)","v":{"$error":"#N/A"}},"青花瓷"]
[null,"青花瓷四人位组2800*1400*750     QH-S2-2814",312040017,"中脚=1","纯白+电镀",1,"包","10-7",0,null,"E区",null,{"$f":"VLOOKUP(A:A,[1]进仓汇总!A$1:G$65536,7,0)","v":{"$error":"#N/A"}},"青花瓷"]
[null,"青花瓷四人位组2800*1400*750     QH-S2-2814",312040018,"横杆=4、","纯白",1,"包","10-8",0,null,"E区",null,{"$f":"VLOOKUP(A:A,[1]进仓汇总!A$1:G$65536,7,0)","v":{"$error":"#N/A"}},"青花瓷"]
[null,"青花瓷四人位组2800*1400*750     QH-S2-2814",312040019,"边杆=3、配件","纯白",1,"包","10-9",0,null,"E区",null,{"$f":"VLOOKUP(A:A,[1]进仓汇总!A$1:G$65536,7,0)","v":{"$error":"#N/A"}},"青花瓷"]
[null,"青花瓷四人位组2800*1400*750     QH-S2-2814",312040020,"走线槽=2","纯白",1,"包","10-10",0,null,"E区",null,{"$f":"VLOOKUP(A:A,[1]进仓汇总!A$1:G$65536,7,0)","v":{"$error":"#N/A"}},"青花瓷"]
["312010001","青花瓷主管桌       整体：2500*1600*750  主台：2100*1000*750  附柜：1200*500*650     QH-D-2110",312010002,"台面板=1/挡板=1","白玉石绒面",1,"包","5-1",0,null,"E区",null,{"$f":"VLOOKUP(A:A,[1]进仓汇总!A$1:G$65536,7,0)","v":{"$error":"#N/A"}},"青花瓷"]
[null,"青花瓷主管桌       整体：2500*1600*750  主台：2100*1000*750  附柜：1200*500*650     QH-D-2110",312010003,"附柜","白玉石绒面",1,"包","5-2",0,null,"E区",null,{"$f":"VLOOKUP(A:A,[1]进仓汇总!A$1:G$65536,7,0)","v":{"$error":"#N/A"}},"青花瓷"]
[null,"青花瓷主管桌       整体：2500*1600*750  主台：2100*1000*750  附柜：1200*500*650     QH-D-2110",312010004,"附柜二抽柜=1+柜脚=4","白玉石绒面",1,"包","5-3",0,null,"E区",null,{"$f":"VLOOKUP(A:A,[1]进仓汇总!A$1:G$65536,7,0)","v":{"$error":"#N/A"}},"青花瓷"]
[null,"青花瓷主管桌       整体：2500*1600*750  主台：2100*1000*750  附柜：1200*500*650     QH-D-2110",312010005,"钢脚=1","纯白+电镀",1,"包","5-4",0,null,"E区",null,{"$f":"VLOOKUP(A:A,[1]进仓汇总!A$1:G$65536,7,0)","v":{"$error":"#N/A"}},"青花瓷"]
[null,"青花瓷主管桌       整体：2500*1600*750  主台：2100*1000*750  附柜：1200*500*650     QH-D-2110",312010006,"拉杆=2.边杆=1./配件","纯白",1,"包","5-5",0,null,"E区",null,{"$f":"VLOOKUP(A:A,[1]进仓汇总!A$1:G$65536,7,0)","v":{"$error":"#N/A"}},"青花瓷"]
["312010007","青花瓷主管桌        整体：2200*1400*750     主台：1800*800*750   附柜：1200*500*650   QH-D-1880",312010008,"台面板=1/挡板=1","白玉石绒面",1,"包","5-1",0,null,"704c",null,{"$f":"VLOOKUP(A:A,[1]进仓汇总!A$1:G$65536,7,0)","v":{"$error":"#N/A"}},"青花瓷"]
[null,"青花瓷主管桌        整体：2200*1400*750     主台：1800*800*750   附柜：1200*500*650   QH-D-1880",312010009,"附柜=1","白玉石绒面",1,"包","5-2",0,null,"704c",null,{"$f":"VLOOKUP(A:A,[1]进仓汇总!A$1:G$65536,7,0)","v":{"$error":"#N/A"}},"青花瓷"]
[null,"青花瓷主管桌        整体：2200*1400*750     主台：1800*800*750   附柜：1200*500*650   QH-D-1880",312010010,"附柜二抽柜=1+柜脚=4","白玉石绒面",1,"包","5-3",0,null,"704c",null,{"$f":"VLOOKUP(A:A,[1]进仓汇总!A$1:G$65536,7,0)","v":{"$error":"#N/A"}},"青花瓷"]
[null,"青花瓷主管桌        整体：2200*1400*750     主台：1800*800*750   附柜：1200*500*650   QH-D-1880",312010011,"钢脚=2","纯白+电镀",1,"包","5-4",0,null,"704c",null,{"$f":"VLOOKUP(A:A,[1]进仓汇总!A$1:G$65536,7,0)","v":{"$error":"#N/A"}},"青花瓷"]
[null,"青花瓷主管桌        整体：2200*1400*750     主台：1800*800*750   附柜：1200*500*650   QH-D-1880",312010012,"拉杆=2.边杆=1./配件","纯白",1,"包","5-5",0,null,704,null,{"$f":"VLOOKUP(A:A,[1]进仓汇总!A$1:G$65536,7,0)","v":{"$error":"#N/A"}},"青花瓷"]
["312090001","青花瓷文件柜 2600*400*1850     QH-C-2618",312090002,"侧、背、门=8  （大）","白玉石绒面",1,"包","7-1",0,null,706,null,{"$f":"VLOOKUP(A:A,[1]进仓汇总!A$1:G$65536,7,0)","v":{"$error":"#N/A"}},"青花瓷"]
[null,"青花瓷文件柜 2600*400*1850     QH-C-2618",312090003,"面、底、固、活/配件=10","白玉石绒面",1,"包","7-2",0,null,706,null,{"$f":"VLOOKUP(A:A,[1]进仓汇总!A$1:G$65536,7,0)","v":{"$error":"#N/A"}},"青花瓷"]
[null,"青花瓷文件柜 2600*400*1850     QH-C-2618",312090004,"上柜+配件   （大）","白玉石绒面",1,"包","7-3",0,null,706,null,{"$f":"VLOOKUP(A:A,[1]进仓汇总!A$1:G$65536,7,0)","v":{"$error":"#N/A"}},"青花瓷"]
[null,"青花瓷文件柜 2600*400*1850     QH-C-2618",312090005,"下柜","白玉石绒面",1,"包","7-4",0,null,706,null,{"$f":"VLOOKUP(A:A,[1]进仓汇总!A$1:G$65536,7,0)","v":{"$error":"#N/A"}},"青花瓷"]
[null,"青花瓷文件柜 2600*400*1850     QH-C-2618",312090006,"四抽柜抽屉=4/左+配件","白玉石绒面",1,"包","7-5",0,null,706,null,{"$f":"VLOOKUP(A:A,[1]进仓汇总!A$1:G$65536,7,0)","v":{"$error":"#N/A"}},"青花瓷"]
[null,"青花瓷文件柜 2600*400*1850     QH-C-2618",312090007,"四抽柜抽屉=4/右+柜脚","白玉石绒面",1,"包","7-6",0,null,706,null,{"$f":"VLOOKUP(A:A,[1]进仓汇总!A$1:G$65536,7,0)","v":{"$error":"#N/A"}},"青花瓷"]
[null,"青花瓷文件柜 2600*400*1850     QH-C-2618",312090008,"支撑柱=1  托臂=4","纯白",1,"包","7-7",0,null,706,null,{"$f":"VLOOKUP(A:A,[1]进仓汇总!A$1:G$65536,7,0)","v":{"$error":"#N/A"}},"青花瓷"]
["312110001","青花瓷会议台2800*1200*750      QH-T1-3012",312110002,"台面板1=2","白玉石绒面",1,"包","9-1",0,null,707,null,{"$f":"VLOOKUP(A:A,[1]进仓汇总!A$1:G$65536,7,0)","v":{"$error":"#N/A"}},"青花瓷"]
[null,"青花瓷会议台2800*1200*750      QH-T1-3012",312110003,"边面板2=2.头饰板=1平铁=10、配件","白玉石绒面",1,"包","9-2",0,null,707,null,{"$f":"VLOOKUP(A:A,[1]进仓汇总!A$1:G$65536,7,0)","v":{"$error":"#N/A"}},"青花瓷"]
[null,"青花瓷会议台2800*1200*750      QH-T1-3012",312110004,"边脚=2","纯白+电镀",2,"包","9-3、4",0,null,707,null,{"$f":"VLOOKUP(A:A,[1]进仓汇总!A$1:G$65536,7,0)","v":{"$error":"#N/A"}},"青花瓷"]
[null,"青花瓷会议台2800*1200*750      QH-T1-3012","312110005-21","中脚=1","纯白+电镀",1,"包","9-5",0,null,707,null,{"$f":"VLOOKUP(A:A,[1]进仓汇总!A$1:G$65536,7,0)","v":{"$error":"#N/A"}},"青花瓷"]
[null,"青花瓷会议台2800*1200*750      QH-T1-3012","312110005-22","拉杆=3/配件","纯白",1,"包","9-6",0,null,707,null,{"$f":"VLOOKUP(A:A,[1]进仓汇总!A$1:G$65536,7,0)","v":{"$error":"#N/A"}},"青花瓷"]
[null,"青花瓷会议台2800*1200*750      QH-T1-3012",312110006,"横杆=4","纯白",1,"包","9-7",0,null,707,null,{"$f":"VLOOKUP(A:A,[1]进仓汇总!A$1:G$65536,7,0)","v":{"$error":"#N/A"}},"青花瓷"]
[null,"青花瓷会议台2800*1200*750      QH-T1-3012",312110007,"走线槽","纯白",1,"包","9-8",0,null,707,null,{"$f":"VLOOKUP(A:A,[1]进仓汇总!A$1:G$65536,7,0)","v":{"$error":"#N/A"}},"青花瓷"]
[null,"青花瓷会议台2800*1200*750      QH-T1-3012","312110008-21","装饰板",null,1,"包","9-9",0,null,707,null,{"$f":"VLOOKUP(A:A,[1]进仓汇总!A$1:G$65536,7,0)","v":{"$error":"#N/A"}},"青花瓷"]
["312110008-22","青花瓷会议台   2200*1000*750     QH-T2-20110",312110009,"台面板=1","白玉石绒面",1,"包","4-1",0,null,"710b",null,{"$f":"VLOOKUP(A:A,[1]进仓汇总!A$1:G$65536,7,0)","v":0},"青花瓷"]
[null,"青花瓷会议台   2200*1000*750     QH-T2-20110",312110010,"钢脚=2","纯白+电镀",2,"包","4-2,3",0,null,"710b",null,{"$f":"VLOOKUP(A:A,[1]进仓汇总!A$1:G$65536,7,0)","v":{"$error":"#N/A"}},"青花瓷"]
[null,"青花瓷会议台   2200*1000*750     QH-T2-20110",312110011,"拉杆=2/配件","纯白",1,"包","4-4",0,null,"710b",null,{"$f":"VLOOKUP(A:A,[1]进仓汇总!A$1:G$65536,7,0)","v":{"$error":"#N/A"}},"青花瓷"]
["312100001","青花瓷胶板洽谈台   1000*1000*750     QH-T3-1010",312100002,"台面板=1","白玉石绒面",1,"包","2-1",0,null,"708a",null,{"$f":"VLOOKUP(A:A,[1]进仓汇总!A$1:G$65536,7,0)","v":{"$error":"#N/A"}},"青花瓷"]
[null,"青花瓷胶板洽谈台   1000*1000*750     QH-T3-1010","399090001-21","钢脚=3","纯白+电镀",1,"包","2-2",0,null,"708a",null,{"$f":"VLOOKUP(A:A,[1]进仓汇总!A$1:G$65536,7,0)","v":{"$error":"#N/A"}},"青花瓷"]
["312070001","青花瓷胶板长几1200*600*420      QH-LT-1260",312070002,"面板+空格=4","白玉石绒面",null,"包","2-1",0,null,"710a",null,{"$f":"VLOOKUP(A:A,[1]进仓汇总!A$1:G$65536,7,0)","v":{"$error":"#N/A"}},"青花瓷"]
[null,"青花瓷胶板长几1200*600*420      QH-LT-1260","399090002-21","钢脚=4","纯白+电镀",null,"包","2-1",0,null,"710a",null,{"$f":"VLOOKUP(A:A,[1]进仓汇总!A$1:G$65536,7,0)","v":{"$error":"#N/A"}},"青花瓷"]
["312080001","青花瓷胶板方几600*600*420        QH-ST-6060",312080002,"面板=1","白玉石绒面",null,"包","2-1",0,null,710,null,{"$f":"VLOOKUP(A:A,[1]进仓汇总!A$1:G$65536,7,0)","v":{"$error":"#N/A"}},"青花瓷"]
[null,"青花瓷胶板方几600*600*420        QH-ST-6060","399090003-21","钢脚=4","纯白+电镀",null,"包","2-2",0,null,710,null,{"$f":"VLOOKUP(A:A,[1]进仓汇总!A$1:G$65536,7,0)","v":{"$error":"#N/A"}},"青花瓷"]
["312020001","青花瓷二人位 1400*1400*750      QH-S2-1414",312020002,"面板=2","白玉石绒面",1,"包","7-1",0,null,708,null,{"$f":"VLOOKUP(A:A,[1]进仓汇总!A$1:G$65536,7,0)","v":{"$error":"#N/A"}},"青花瓷"]
[null,"青花瓷二人位 1400*1400*750      QH-S2-1414",312020003,"功能梁","氧化",1,"包","7-2",0,null,708,null,{"$f":"VLOOKUP(A:A,[1]进仓汇总!A$1:G$65536,7,0)","v":{"$error":"#N/A"}},"青花瓷"]
[null,"青花瓷二人位 1400*1400*750      QH-S2-1414",312020004,"屏风板=1","白玉石绒面",1,"包","7-3",0,null,708,null,{"$f":"VLOOKUP(A:A,[1]进仓汇总!A$1:G$65536,7,0)","v":{"$error":"#N/A"}},"青花瓷"]
[null,"青花瓷二人位 1400*1400*750      QH-S2-1414",312020005,"钢脚=2","纯白+电镀",2,"包","7-5、4",0,null,708,null,{"$f":"VLOOKUP(A:A,[1]进仓汇总!A$1:G$65536,7,0)","v":{"$error":"#N/A"}},"青花瓷"]
[null,"青花瓷二人位 1400*1400*750      QH-S2-1414",312020006,"拉杆=2/配件包","纯白",1,"包","7-6",0,null,708,null,{"$f":"VLOOKUP(A:A,[1]进仓汇总!A$1:G$65536,7,0)","v":{"$error":"#N/A"}},"青花瓷"]
[null,"青花瓷二人位 1400*1400*750      QH-S2-1414",312020007,"走线槽","纯白",1,"包","7-7",0,null,708,null,{"$f":"VLOOKUP(A:A,[1]进仓汇总!A$1:G$65536,7,0)","v":{"$error":"#N/A"}},"青花瓷"]
["312020008","青花瓷二人位组合 （带吊柜）1400*1400*1680     QH-S1-1414",312020009,"台面板=2","白玉石绒面",1,"包","8-1",0,null,709,null,{"$f":"VLOOKUP(A:A,[1]进仓汇总!A$1:G$65536,7,0)","v":{"$error":"#N/A"}},"青花瓷"]
[null,"青花瓷二人位组合 （带吊柜）1400*1400*1680     QH-S1-1414",312020010,"空格=1、线槽板=1、  配件包=1","白玉石绒面",1,"包","8-2",0,null,709,null,{"$f":"VLOOKUP(A:A,[1]进仓汇总!A$1:G$65536,7,0)","v":{"$error":"#N/A"}},"青花瓷"]
[null,"青花瓷二人位组合 （带吊柜）1400*1400*1680     QH-S1-1414",312020011,"玻璃屏风板=1","白玉石绒面",1,"包","8-3",0,null,709,null,{"$f":"VLOOKUP(A:A,[1]进仓汇总!A$1:G$65536,7,0)","v":{"$error":"#N/A"}},"青花瓷"]
[null,"青花瓷二人位组合 （带吊柜）1400*1400*1680     QH-S1-1414",312020012,"钢脚=2","纯白+电镀",2,"包","8-4,5",0,null,709,null,{"$f":"VLOOKUP(A:A,[1]进仓汇总!A$1:G$65536,7,0)","v":{"$error":"#N/A"}},"青花瓷"]
[null,"青花瓷二人位组合 （带吊柜）1400*1400*1680     QH-S1-1414",312020013,"拉杆=2、配件","纯白+电镀",1,"包","8-6",0,null,709,null,{"$f":"VLOOKUP(A:A,[1]进仓汇总!A$1:G$65536,7,0)","v":{"$error":"#N/A"}},"青花瓷"]
[null,"青花瓷二人位组合 （带吊柜）1400*1400*1680     QH-S1-1414",312020014,"桌上支撑柱=2","纯白",1,"包","8-7",0,null,709,null,{"$f":"VLOOKUP(A:A,[1]进仓汇总!A$1:G$65536,7,0)","v":{"$error":"#N/A"}},"青花瓷"]
[null,"青花瓷二人位组合 （带吊柜）1400*1400*1680     QH-S1-1414",312020015,"走线槽=1","纯白",1,"包","8-8",0,null,709,null,{"$f":"VLOOKUP(A:A,[1]进仓汇总!A$1:G$65536,7,0)","v":{"$error":"#N/A"}},"青花瓷"]
["312040021-21","活动柜",null,null,"白玉石+海军蓝",null,"个",null,0,null,"小房间",null,{"$f":"VLOOKUP(A:A,[1]进仓汇总!A$1:G$65536,7,0)","v":0},"青花瓷"]
["312040021-22","活动柜",null,null,null,null,null,null,0,null,{"$error":"#N/A"},null,{"$f":"VLOOKUP(A:A,[1]进仓汇总!A$1:G$65536,7,0)","v":0},"青花瓷"]
["314010001","欧瑞主管桌                                      OREM-D1-2420   2400*2000*760    左方向",314010002,"台面板=1           挡板=1","OF-522-1#特高亮光 OF-奶白-5#特高亮光 ","1","包","6-1",0,null,203,null,{"$f":"VLOOKUP(A:A,[1]进仓汇总!A$1:G$65536,7,0)","v":{"$error":"#N/A"}},"欧瑞"]
[null,"欧瑞主管桌                                      OREM-D1-2420   2400*2000*760    左方向",314010003,"附柜=1+配件","OF-522-1#特高亮光 OF-奶白-5#特高亮光 ","1","包","6-2",0,null,203,null,{"$f":"VLOOKUP(A:A,[1]进仓汇总!A$1:G$65536,7,0)","v":{"$error":"#N/A"}},"欧瑞"]
[null,"欧瑞主管桌                                      OREM-D1-2420   2400*2000*760    左方向",314010004,"附柜二抽柜=1","OF-奶白-5#特高亮光 ","1","包","6-3",0,null,203,null,{"$f":"VLOOKUP(A:A,[1]进仓汇总!A$1:G$65536,7,0)","v":{"$error":"#N/A"}},"欧瑞"]
[null,"欧瑞主管桌                                      OREM-D1-2420   2400*2000*760    左方向",314010005,"钢脚=2 走线槽=1","砂白","1","包","6-4",0,null,203,null,{"$f":"VLOOKUP(A:A,[1]进仓汇总!A$1:G$65536,7,0)","v":{"$error":"#N/A"}},"欧瑞"]
[null,"欧瑞主管桌                                      OREM-D1-2420   2400*2000*760    左方向",314010006,"拉杆=2","砂白","1","包","6-5",0,null,203,null,{"$f":"VLOOKUP(A:A,[1]进仓汇总!A$1:G$65536,7,0)","v":{"$error":"#N/A"}},"欧瑞"]
[null,"欧瑞主管桌                                      OREM-D1-2420   2400*2000*760    左方向",314010007,"附柜支撑钢脚=3+配件","砂白","1","包","6-6",0,null,203,null,{"$f":"VLOOKUP(A:A,[1]进仓汇总!A$1:G$65536,7,0)","v":{"$error":"#N/A"}},"欧瑞"]
["314010008","欧瑞主管桌                                      OREM-D1-2420   2400*2000*760    右方向",314010009,"台面板=1           挡板=1","OF-522-1#特高亮光 OF-奶白-5#特高亮光 ","1","包","6-1",0,null,204,1950,{"$f":"VLOOKUP(A:A,[1]进仓汇总!A$1:G$65536,7,0)","v":{"$error":"#N/A"}},"欧瑞"]
[null,"欧瑞主管桌                                      OREM-D1-2420   2400*2000*760    右方向",314010010,"附柜=1+配件","OF-522-1#特高亮光 OF-奶白-5#特高亮光 ","1","包","6-2",0,null,204,0,{"$f":"VLOOKUP(A:A,[1]进仓汇总!A$1:G$65536,7,0)","v":{"$error":"#N/A"}},"欧瑞"]
[null,"欧瑞主管桌                                      OREM-D1-2420   2400*2000*760    右方向",314010011,"附柜二抽柜=1","OF-奶白-5#特高亮光 ","1","包","6-3",0,null,204,0,{"$f":"VLOOKUP(A:A,[1]进仓汇总!A$1:G$65536,7,0)","v":{"$error":"#N/A"}},"欧瑞"]
[null,"欧瑞主管桌                                      OREM-D1-2420   2400*2000*760    右方向",314010012,"钢脚=2 走线槽=1","砂白","1","包","6-4",0,null,204,0,{"$f":"VLOOKUP(A:A,[1]进仓汇总!A$1:G$65536,7,0)","v":{"$error":"#N/A"}},"欧瑞"]
[null,"欧瑞主管桌                                      OREM-D1-2420   2400*2000*760    右方向",314010013,"拉杆=2","砂白","1","包","6-5",0,null,204,0,{"$f":"VLOOKUP(A:A,[1]进仓汇总!A$1:G$65536,7,0)","v":{"$error":"#N/A"}},"欧瑞"]
[null,"欧瑞主管桌                                      OREM-D1-2420   2400*2000*760    右方向",314010014,"附柜支撑钢脚=3+配件","砂白","1","包","6-6",0,null,204,0,{"$f":"VLOOKUP(A:A,[1]进仓汇总!A$1:G$65536,7,0)","v":{"$error":"#N/A"}},"欧瑞"]
["314090001","欧瑞文件柜                                      OREM-C1-0818  800*420*1800",null,{"$f":"+B361","v":"欧瑞文件柜                                      OREM-C1-0818  800*420*1800"},null,null,null,null,0,null,"202c",986,{"$f":"VLOOKUP(A:A,[1]进仓汇总!A$1:G$65536,7,0)","v":{"$error":"#N/A"}},"欧瑞"]
[null,"欧瑞文件柜                                      OREM-C1-0818  800*420*1800",314090002,"顶层板=1 固定层板=1      活动层板=2.  底板=1 配件","OF-奶白-5#特高亮光 ","1","包","3-1",0,null,"202c",0,{"$f":"VLOOKUP(A:A,[1]进仓汇总!A$1:G$65536,7,0)","v":{"$error":"#N/A"}},"欧瑞"]
[null,"欧瑞文件柜                                      OREM-C1-0818  800*420*1800",314090003,"背板=1.  侧板=2.        掩门板=4","OF-522-1#特高亮光 OF-奶白-5#特高亮光 ","1","包","3-2",0,null,202,0,{"$f":"VLOOKUP(A:A,[1]进仓汇总!A$1:G$65536,7,0)","v":{"$error":"#N/A"}},"欧瑞"]
[null,"欧瑞文件柜                                      OREM-C1-0818  800*420*1800","399140001-31","柜脚=1","砂白","1","包","3-3",0,null,202,0,{"$f":"VLOOKUP(A:A,[1]进仓汇总!A$1:G$65536,7,0)","v":{"$error":"#N/A"}},"欧瑞"]
["314090004","欧瑞文件柜                                      OREM-C2-0818  800*420*1800",314090005,"顶层板=1  固定层板=2          活动层板=2. 底板=1  配件","OF-奶白-5#特高亮光 ","1","包","4-1",0,null,201,950,{"$f":"VLOOKUP(A:A,[1]进仓汇总!A$1:G$65536,7,0)","v":{"$error":"#N/A"}},"欧瑞"]
[null,"欧瑞文件柜                                      OREM-C2-0818  800*420*1800",314090006,"背板=1 侧板=2.        间板=1","OF-522-1#特高亮光 OF-奶白-5#特高亮光 ","1","包","4-2",0,null,201,0,{"$f":"VLOOKUP(A:A,[1]进仓汇总!A$1:G$65536,7,0)","v":{"$error":"#N/A"}},"欧瑞"]
[null,"欧瑞文件柜                                      OREM-C2-0818  800*420*1800",314090007,"文件柜二抽屉","OF-522-1#特高亮光 OF-奶白-5#特高亮光 ","1","包","4-3",0,null,201,0,{"$f":"VLOOKUP(A:A,[1]进仓汇总!A$1:G$65536,7,0)","v":{"$error":"#N/A"}},"欧瑞"]
[null,"欧瑞文件柜                                      OREM-C2-0818  800*420*1800","399140001-32","柜脚","砂白","1","包","4-4",0,null,201,0,{"$f":"VLOOKUP(A:A,[1]进仓汇总!A$1:G$65536,7,0)","v":{"$error":"#N/A"}},"欧瑞"]
["314060001","欧瑞文件柜                                      OREM-C3-0818  800*420*1800",314060002,"顶层板=1 固定层板=1      活动层板=2.  底板=1 配件","OF-522-1#特高亮光 OF-奶白-5#特高亮光 ","1","包","4-1",0,null,"202a",1080,{"$f":"VLOOKUP(A:A,[1]进仓汇总!A$1:G$65536,7,0)","v":{"$error":"#N/A"}},"欧瑞"]
[null,"欧瑞文件柜                                      OREM-C3-0818  800*420*1800",314060003,"背板=1. 侧板=2.        ","OF-522-1#特高亮光 OF-奶白-5#特高亮光 ","1","包","4-2",0,null,202,0,{"$f":"VLOOKUP(A:A,[1]进仓汇总!A$1:G$65536,7,0)","v":{"$error":"#N/A"}},"欧瑞"]
[null,"欧瑞文件柜                                      OREM-C3-0818  800*420*1800","399140001-33","柜脚=1","砂白","1","包","4-3",0,null,"202C",0,{"$f":"VLOOKUP(A:A,[1]进仓汇总!A$1:G$65536,7,0)","v":{"$error":"#N/A"}},"欧瑞"]
[null,"欧瑞文件柜                                      OREM-C3-0818  800*420*1800",314060004,"斜边铝框门=2","砂白","1","包","4-4",0,null,202,0,{"$f":"VLOOKUP(A:A,[1]进仓汇总!A$1:G$65536,7,0)","v":{"$error":"#N/A"}},"欧瑞"]
["314040001","欧瑞直形4人位                                      OREM-D4-2812   2800*1200*760",314040002,"台面板=4","OF-522-1#特高亮光","2","包","11-1.2",0,null,207,null,{"$f":"VLOOKUP(A:A,[1]进仓汇总!A$1:G$65536,7,0)","v":{"$error":"#N/A"}},"欧瑞"]
[null,"欧瑞直形4人位                                      OREM-D4-2812   2800*1200*760",314040003,"三抽活动柜=4","OF-522-1#特高亮光 OF-奶白-5#特高亮光 ","4","包","11-3.4.5.6",0,null,207,null,{"$f":"VLOOKUP(A:A,[1]进仓汇总!A$1:G$65536,7,0)","v":{"$error":"#N/A"}},"欧瑞"]
[null,"欧瑞直形4人位                                      OREM-D4-2812   2800*1200*760",314040004,"配件箱",null,"1","包","11-7",0,null,207,null,{"$f":"VLOOKUP(A:A,[1]进仓汇总!A$1:G$65536,7,0)","v":{"$error":"#N/A"}},"欧瑞"]
[null,"欧瑞直形4人位                                      OREM-D4-2812   2800*1200*760",314040005,"钢脚=2+配件","砂白","1","包","11-8",0,null,207,null,{"$f":"VLOOKUP(A:A,[1]进仓汇总!A$1:G$65536,7,0)","v":{"$error":"#N/A"}},"欧瑞"]
[null,"欧瑞直形4人位                                      OREM-D4-2812   2800*1200*760",314040006,"拉杆=2","砂白","1","包","11-9",0,null,207,null,{"$f":"VLOOKUP(A:A,[1]进仓汇总!A$1:G$65536,7,0)","v":{"$error":"#N/A"}},"欧瑞"]
[null,"欧瑞直形4人位                                      OREM-D4-2812   2800*1200*760",314040007,"走线盒=1","砂白","1","包","11-10",0,null,207,null,{"$f":"VLOOKUP(A:A,[1]进仓汇总!A$1:G$65536,7,0)","v":{"$error":"#N/A"}},"欧瑞"]
[null,"欧瑞直形4人位                                      OREM-D4-2812   2800*1200*760",314040008,"40#桌上屏风=2","砂白框架+OF-B29浅果绿","1","包","11-11",0,null,207,null,{"$f":"VLOOKUP(A:A,[1]进仓汇总!A$1:G$65536,7,0)","v":{"$error":"#N/A"}},"欧瑞"]
["314040009","欧瑞L形十字四人位组合\nOREM-L4-2828  2800*2800*760",314040010,"L形台面板=4","OF-522-1#特高亮光","2","包","11-1.2",0,null,205,null,{"$f":"VLOOKUP(A:A,[1]进仓汇总!A$1:G$65536,7,0)","v":{"$error":"#N/A"}},"欧瑞"]
[null,"欧瑞L形十字四人位组合\nOREM-L4-2828  2800*2800*760",314040011,"有顶地柜=2/左","OF-522-1#特高亮光 OF-奶白-5#特高亮光 ","2","包","11-3.4.",0,null,205,null,{"$f":"VLOOKUP(A:A,[1]进仓汇总!A$1:G$65536,7,0)","v":{"$error":"#N/A"}},"欧瑞"]
[null,"欧瑞L形十字四人位组合\nOREM-L4-2828  2800*2800*760",314040012,"有顶地柜=2/右","OF-522-1#特高亮光 OF-奶白-5#特高亮光 ","2","包","11-5.6",0,null,205,null,{"$f":"VLOOKUP(A:A,[1]进仓汇总!A$1:G$65536,7,0)","v":{"$error":"#N/A"}},"欧瑞"]
[null,"欧瑞L形十字四人位组合\nOREM-L4-2828  2800*2800*760",314040013,"布绒桌面屏风=2","TW-95灰色","1","包","11-7",0,null,205,null,{"$f":"VLOOKUP(A:A,[1]进仓汇总!A$1:G$65536,7,0)","v":{"$error":"#N/A"}},"欧瑞"]
[null,"欧瑞L形十字四人位组合\nOREM-L4-2828  2800*2800*760",314040014,"配件箱",null,"1","包","11-8",0,null,205,null,{"$f":"VLOOKUP(A:A,[1]进仓汇总!A$1:G$65536,7,0)","v":{"$error":"#N/A"}},"欧瑞"]
[null,"欧瑞L形十字四人位组合\nOREM-L4-2828  2800*2800*760",314040015,"钢脚=2","砂白","1","包","11-9",0,null,205,null,{"$f":"VLOOKUP(A:A,[1]进仓汇总!A$1:G$65536,7,0)","v":{"$error":"#N/A"}},"欧瑞"]
[null,"欧瑞L形十字四人位组合\nOREM-L4-2828  2800*2800*760",314040016,"拉杆=2","砂白","1","包","11-10",0,null,205,null,{"$f":"VLOOKUP(A:A,[1]进仓汇总!A$1:G$65536,7,0)","v":{"$error":"#N/A"}},"欧瑞"]
[null,"欧瑞L形十字四人位组合\nOREM-L4-2828  2800*2800*760",314040017,"走线盒=1","砂白","1","包","11-11",0,null,205,null,{"$f":"VLOOKUP(A:A,[1]进仓汇总!A$1:G$65536,7,0)","v":{"$error":"#N/A"}},"欧瑞"]
["314110001","欧瑞直形会议台                                     OREM-T2-2812 2800*1200*760",314110002,"台面板=2","OF-522-1#特高亮光","1","包","4-1",0,null,206,null,{"$f":"VLOOKUP(A:A,[1]进仓汇总!A$1:G$65536,7,0)","v":{"$error":"#N/A"}},"欧瑞"]
[null,"欧瑞直形会议台                                     OREM-T2-2812 2800*1200*760",314110003,"钢脚=2 配件","砂白","1","包","4-2",0,null,206,null,{"$f":"VLOOKUP(A:A,[1]进仓汇总!A$1:G$65536,7,0)","v":{"$error":"#N/A"}},"欧瑞"]
[null,"欧瑞直形会议台                                     OREM-T2-2812 2800*1200*760",314110004,"拉杆","砂白","1","包","4-3",0,null,206,null,{"$f":"VLOOKUP(A:A,[1]进仓汇总!A$1:G$65536,7,0)","v":{"$error":"#N/A"}},"欧瑞"]
[null,"欧瑞直形会议台                                     OREM-T2-2812 2800*1200*760",314110005,"走线盒=1","砂白","1","包","4-4",0,null,206,null,{"$f":"VLOOKUP(A:A,[1]进仓汇总!A$1:G$65536,7,0)","v":{"$error":"#N/A"}},"欧瑞"]
["314100002","欧瑞圆形洽谈台                                     OREM-T3-08      800*750",314100002,"圆台面板=1","OF-522-1#特高亮光","1","包","2-1",0,null,201,null,{"$f":"VLOOKUP(A:A,[1]进仓汇总!A$1:G$65536,7,0)","v":{"$error":"#N/A"}},"欧瑞"]
["314100003","欧瑞圆形洽谈台                                     OREM-T3-08      800*750",314100003,"钢架=1","砂白","1","包","2-2",0,null,"201C",null,{"$f":"VLOOKUP(A:A,[1]进仓汇总!A$1:G$65536,7,0)","v":{"$error":"#N/A"}},"欧瑞"]
["314100004","欧瑞圆形洽谈台                                     OREM-T3-10     1000*750",314100005,"圆台面板=1","OF-522-1#特高亮光","1","包","2-1",0,null,"201B",null,{"$f":"VLOOKUP(A:A,[1]进仓汇总!A$1:G$65536,7,0)","v":{"$error":"#N/A"}},"欧瑞"]
[null,"欧瑞圆形洽谈台                                     OREM-T3-10     1000*750",314100006,"钢架=1","砂白","1","包","2-2",0,null,"201C",null,{"$f":"VLOOKUP(A:A,[1]进仓汇总!A$1:G$65536,7,0)","v":{"$error":"#N/A"}},"欧瑞"]
["314040018","活动主机架=1",null,{"$f":"+B396","v":"活动主机架=1"},"OF-奶白-5#特高亮光",null,"个","1-1",0,null,"204B",null,{"$f":"VLOOKUP(A:A,[1]进仓汇总!A$1:G$65536,7,0)","v":{"$error":"#N/A"}},"欧瑞"]
["314010015","活动主机架=4",null,{"$f":"+B397","v":"活动主机架=4"},"OF-奶白-5#特高亮光",null,"个","1-1",0,null,"203B",null,{"$f":"VLOOKUP(A:A,[1]进仓汇总!A$1:G$65536,7,0)","v":{"$error":"#N/A"}},"欧瑞"]
["313010001","欧格主管桌                                      OUGE-D1-1808 1800*800*760  ",313010002,"台面板=1    挡板=1","OF-521横纹进口暖白小瓦椤 ","1","包","6-1",8,"10",102,1700,{"$f":"VLOOKUP(A:A,[1]进仓汇总!A$1:G$65536,7,0)","v":{"$error":"#N/A"}},"欧格"]
[null,"欧格主管桌                                      OUGE-D1-1808 1800*800*760  ",313010003,"附柜=1","OF-521横纹","1","包","6-2",8,"10",102,0,{"$f":"VLOOKUP(A:A,[1]进仓汇总!A$1:G$65536,7,0)","v":{"$error":"#N/A"}},"欧格"]
[null,"欧格主管桌                                      OUGE-D1-1808 1800*800*760  ",313010004,"附柜三抽柜=1+配件","进口暖白小瓦椤","1","包","6-3",8,"10",102,0,{"$f":"VLOOKUP(A:A,[1]进仓汇总!A$1:G$65536,7,0)","v":{"$error":"#N/A"}},"欧格"]
[null,"欧格主管桌                                      OUGE-D1-1808 1800*800*760  ",313010005,"钢脚=4","砂白+电镀 ","1","包","6-4",8,"10",102,0,{"$f":"VLOOKUP(A:A,[1]进仓汇总!A$1:G$65536,7,0)","v":{"$error":"#N/A"}},"欧格"]
[null,"欧格主管桌                                      OUGE-D1-1808 1800*800*760  ",313010006,"横杆=2+配件","砂白","1","包","6-5",8,"10",102,0,{"$f":"VLOOKUP(A:A,[1]进仓汇总!A$1:G$65536,7,0)","v":{"$error":"#N/A"}},"欧格"]
[null,"欧格主管桌                                      OUGE-D1-1808 1800*800*760  ",313010007,"连接杆=2+走线槽","砂白","1","包","6-6",8,"10",102,0,{"$f":"VLOOKUP(A:A,[1]进仓汇总!A$1:G$65536,7,0)","v":{"$error":"#N/A"}},"欧格"]
["313090001","欧格文件柜                                      OUGE-C1-2418  2400*420*1850",313090002,"顶、底、门=6","OF-521横纹进口暖白小瓦椤 ","1","包","6-1",8,"10",106,1550,{"$f":"VLOOKUP(A:A,[1]进仓汇总!A$1:G$65536,7,0)","v":{"$error":"#N/A"}},"欧格"]
[null,"欧格文件柜                                      OUGE-C1-2418  2400*420*1850",313090003,"侧板/中侧=5","进口暖白小瓦椤","1","包","6-2",8,"10",106,0,{"$f":"VLOOKUP(A:A,[1]进仓汇总!A$1:G$65536,7,0)","v":{"$error":"#N/A"}},"欧格"]
[null,"欧格文件柜                                      OUGE-C1-2418  2400*420*1850",313090004,"层板、活层=12/配件","进口暖白小瓦椤","1","包","6-3",8,"10",106,0,{"$f":"VLOOKUP(A:A,[1]进仓汇总!A$1:G$65536,7,0)","v":{"$error":"#N/A"}},"欧格"]
[null,"欧格文件柜                                      OUGE-C1-2418  2400*420*1850",313090005,"背板=2","OF-521横纹进口暖白小瓦椤 ","1","包","6-4",8,"10",106,0,{"$f":"VLOOKUP(A:A,[1]进仓汇总!A$1:G$65536,7,0)","v":{"$error":"#N/A"}},"欧格"]
[null,"欧格文件柜                                      OUGE-C1-2418  2400*420*1850",313090006,"四抽屉B=4","OF-521横纹进口暖白小瓦椤 ","2","包","6-5,6",16,"20",106,0,{"$f":"VLOOKUP(A:A,[1]进仓汇总!A$1:G$65536,7,0)","v":{"$error":"#N/A"}},"欧格"]
["301090001","欧格木门文件柜OGC-60A 600*600*1860",301090002,"底座=1 顶板=1 底板=1  层板=16 配件包 ","暖白/浮雕",1,"包","2-1",0,"10",105,null,{"$f":"VLOOKUP(A:A,[1]进仓汇总!A$1:G$65536,7,0)","v":{"$error":"#N/A"}},"欧格"]
[null,"欧格木门文件柜OGC-60A 600*600*1860",301090003,"中间板1=1  中间板2=2       外挡板=4","暖白/浮雕",1,"包","2-2",0,"10",105,null,{"$f":"VLOOKUP(A:A,[1]进仓汇总!A$1:G$65536,7,0)","v":{"$error":"#N/A"}},"欧格"]
["313110001","欧格会议桌                                      OUGE-T2-2812   2800*1200*760",313110002,"台面板=2","OF-521横纹小瓦椤","1","包","6-1",8,"10",101,null,{"$f":"VLOOKUP(A:A,[1]进仓汇总!A$1:G$65536,7,0)","v":{"$error":"#N/A"}},"欧格"]
[null,"欧格会议桌                                      OUGE-T2-2812   2800*1200*760",313110003,"装饰板=1 平铁=4+配件","进口暖白小瓦椤","1","包","6-2",8,"10",101,null,{"$f":"VLOOKUP(A:A,[1]进仓汇总!A$1:G$65536,7,0)","v":{"$error":"#N/A"}},"欧格"]
[null,"欧格会议桌                                      OUGE-T2-2812   2800*1200*760",313110004,"钢脚=4","砂白+电镀 ","1","包","6-3",8,"10",101,null,{"$f":"VLOOKUP(A:A,[1]进仓汇总!A$1:G$65536,7,0)","v":{"$error":"#N/A"}},"欧格"]
[null,"欧格会议桌                                      OUGE-T2-2812   2800*1200*760",313110005,"钢制线盒=1","砂白","1","包","6-4",8,"10",101,null,{"$f":"VLOOKUP(A:A,[1]进仓汇总!A$1:G$65536,7,0)","v":{"$error":"#N/A"}},"欧格"]
[null,"欧格会议桌                                      OUGE-T2-2812   2800*1200*760",313110006,"横杆=2+配件","砂白","1","包","6-5",8,"10",101,null,{"$f":"VLOOKUP(A:A,[1]进仓汇总!A$1:G$65536,7,0)","v":{"$error":"#N/A"}},"欧格"]
[null,"欧格会议桌                                      OUGE-T2-2812   2800*1200*760",313110007,"连接杆=2","砂白","1","包","6-6",8,"10",101,null,{"$f":"VLOOKUP(A:A,[1]进仓汇总!A$1:G$65536,7,0)","v":{"$error":"#N/A"}},"欧格"]
["313040001","欧格L形十字四人位组合\nOUGE-L4-2828  2800*2800*760",313040002,"L形面板=4","OF-521横纹小瓦椤","2","包","12-1.2",8,"30","104B",null,{"$f":"VLOOKUP(A:A,[1]进仓汇总!A$1:G$65536,7,0)","v":{"$error":"#N/A"}},"欧格"]
[null,"欧格L形十字四人位组合\nOUGE-L4-2828  2800*2800*760",313040003,"地柜=2+配件 /左","OF-521横纹进口暖白小瓦椤 ","2","包","12-3.4.",8,"30","E区",null,{"$f":"VLOOKUP(A:A,[1]进仓汇总!A$1:G$65536,7,0)","v":{"$error":"#N/A"}},"欧格"]
[null,"欧格L形十字四人位组合\nOUGE-L4-2828  2800*2800*760",313040004,"地柜=2+配件 /右","OF-521横纹进口暖白小瓦椤 ","2","包","12-5.6",8,"30","E区",null,{"$f":"VLOOKUP(A:A,[1]进仓汇总!A$1:G$65536,7,0)","v":{"$error":"#N/A"}},"欧格"]
[null,"欧格L形十字四人位组合\nOUGE-L4-2828  2800*2800*760",313040005,"屏风玻璃板","苶色烤漆玻璃","1","包","12-7",8,"15",104,null,{"$f":"VLOOKUP(A:A,[1]进仓汇总!A$1:G$65536,7,0)","v":{"$error":"#N/A"}},"欧格"]
[null,"欧格L形十字四人位组合\nOUGE-L4-2828  2800*2800*760",313040006,"配件箱",null,"1","包","12-8",8,"15","104B",null,{"$f":"VLOOKUP(A:A,[1]进仓汇总!A$1:G$65536,7,0)","v":{"$error":"#N/A"}},"欧格"]
[null,"欧格L形十字四人位组合\nOUGE-L4-2828  2800*2800*760",313040007,"钢脚=4","砂白+电镀 ","1","包","12-9",8,"15","104C",null,{"$f":"VLOOKUP(A:A,[1]进仓汇总!A$1:G$65536,7,0)","v":{"$error":"#N/A"}},"欧格"]
[null,"欧格L形十字四人位组合\nOUGE-L4-2828  2800*2800*760",313040008,"钢制线盒=1","砂白","1","包","12-10",8,"15","104C",null,{"$f":"VLOOKUP(A:A,[1]进仓汇总!A$1:G$65536,7,0)","v":{"$error":"#N/A"}},"欧格"]
[null,"欧格L形十字四人位组合\nOUGE-L4-2828  2800*2800*760",313040009,"横杆=2+配件","砂白","1","包","12-11",8,"15","104C",null,{"$f":"VLOOKUP(A:A,[1]进仓汇总!A$1:G$65536,7,0)","v":{"$error":"#N/A"}},"欧格"]
[null,"欧格L形十字四人位组合\nOUGE-L4-2828  2800*2800*760",313040010,"连接杆=2","砂白","1","包","12-12",8,"15","104C",null,{"$f":"VLOOKUP(A:A,[1]进仓汇总!A$1:G$65536,7,0)","v":{"$error":"#N/A"}},"欧格"]
["313040011","欧格直形四人位\nOUGE-D4-3212  3200*1200*760 ************** 2800*1200*760时不带附柜",313040012,"台面板=4","OF-521横纹小瓦椤","2","包","12-1.2",0,null,"103B",3520,{"$f":"VLOOKUP(A:A,[1]进仓汇总!A$1:G$65536,7,0)","v":{"$error":"#N/A"}},"欧格"]
[null,"欧格直形四人位\nOUGE-D4-3212  3200*1200*760 ************** 2800*1200*760时不带附柜",313040013,"活动柜=4","OF-521横纹进口暖白小瓦椤 ","4","包","12-3.4.5.6",0,null,"E区",168,{"$f":"VLOOKUP(A:A,[1]进仓汇总!A$1:G$65536,7,0)","v":{"$error":"#N/A"}},"欧格"]
[null,"欧格直形四人位\nOUGE-D4-3212  3200*1200*760 ************** 2800*1200*760时不带附柜",313040014,"屏风玻璃板","苶色烤漆玻璃","1","包","12-7",0,"10","103B",null,{"$f":"VLOOKUP(A:A,[1]进仓汇总!A$1:G$65536,7,0)","v":{"$error":"#N/A"}},"欧格"]
[null,"欧格直形四人位\nOUGE-D4-3212  3200*1200*760 ************** 2800*1200*760时不带附柜",313040015,"配件箱",null,"1","包","12-8",0,"10","103B",null,{"$f":"VLOOKUP(A:A,[1]进仓汇总!A$1:G$65536,7,0)","v":{"$error":"#N/A"}},"欧格"]
[null,"欧格直形四人位\nOUGE-D4-3212  3200*1200*760 ************** 2800*1200*760时不带附柜",313040016,"钢脚=4","砂白+电镀 ","1","包","12-9.",0,"10","103C",null,{"$f":"VLOOKUP(A:A,[1]进仓汇总!A$1:G$65536,7,0)","v":{"$error":"#N/A"}},"欧格"]
[null,"欧格直形四人位\nOUGE-D4-3212  3200*1200*760 ************** 2800*1200*760时不带附柜",313040017,"钢制线盒=1+主机架","砂白","1","包","12-10",0,"10","103C",null,{"$f":"VLOOKUP(A:A,[1]进仓汇总!A$1:G$65536,7,0)","v":{"$error":"#N/A"}},"欧格"]
[null,"欧格直形四人位\nOUGE-D4-3212  3200*1200*760 ************** 2800*1200*760时不带附柜",313040018,"横杆=2+配件","砂白","1","包","12-11",0,"10","103C",null,{"$f":"VLOOKUP(A:A,[1]进仓汇总!A$1:G$65536,7,0)","v":{"$error":"#N/A"}},"欧格"]
[null,"欧格直形四人位\nOUGE-D4-3212  3200*1200*760 ************** 2800*1200*760时不带附柜",313040019,"连接杆=2","砂白","1","包","12-12",0,"10","103C",null,{"$f":"VLOOKUP(A:A,[1]进仓汇总!A$1:G$65536,7,0)","v":{"$error":"#N/A"}},"欧格"]
["313040020","欧格直形四人位OUGE-D4-3212柜子\n3200*1200*760",null,"上柜=1","OF-521横纹进口暖白小瓦椤 ","1","包","15-13",0,null,103,null,{"$f":"VLOOKUP(A:A,[1]进仓汇总!A$1:G$65536,7,0)","v":{"$error":"#N/A"}},"欧格"]
["313040021","欧格直形四人位OUGE-D4-3212柜子\n3200*1200*760",null,"下柜=1 配件包","OF-521横纹进口暖白小瓦椤 ","1","包","15-14",0,null,103,null,{"$f":"VLOOKUP(A:A,[1]进仓汇总!A$1:G$65536,7,0)","v":{"$error":"#N/A"}},"欧格"]
["313040022","欧格直形四人位OUGE-D4-3212柜子\n3200*1200*760",null,"附柜抽屉=1","OF-521横纹进口暖白小瓦椤 ","1","包","15-15",0,null,"103A",null,{"$f":"VLOOKUP(A:A,[1]进仓汇总!A$1:G$65536,7,0)","v":{"$error":"#N/A"}},"欧格"]
["313100001","欧格洽谈桌\nOUGE-T3-1010 1000*1000*750",313100002,"台面板=1","OF-521横纹小瓦椤","1","包","2-1",8,"10",105,null,{"$f":"VLOOKUP(A:A,[1]进仓汇总!A$1:G$65536,7,0)","v":{"$error":"#N/A"}},"欧格"]
[null,"欧格洽谈桌\nOUGE-T3-1010 1000*1000*750",313100003,"钢脚=3","砂白+电镀 ","1","包","2-2",8,"10",105,null,{"$f":"VLOOKUP(A:A,[1]进仓汇总!A$1:G$65536,7,0)","v":{"$error":"#N/A"}},"欧格"]
["313010008","活动主机架=1",null,{"$f":"+B439","v":"活动主机架=1"},"进口暖白小瓦椤","1","个","1-1",8,"10",0,null,{"$f":"VLOOKUP(A:A,[1]进仓汇总!A$1:G$65536,7,0)","v":{"$error":"#N/A"}},"欧格"]
["313040023","活动主机架=4",null,{"$f":"+B440","v":"活动主机架=4"},"进口暖白小瓦椤","4","个","1-1",32,"40",0,null,{"$f":"VLOOKUP(A:A,[1]进仓汇总!A$1:G$65536,7,0)","v":{"$error":"#N/A"}},"欧格"]
["308090009","君悦文件柜D2  2500*420*1860  C3",308090010,"顶底层板","OF-M27/OF-M21 ",1,"包","7-1",5,"10","B区",3530,{"$f":"VLOOKUP(A:A,[1]进仓汇总!A$1:G$65536,7,0)","v":{"$error":"#N/A"}},"欧格"]
[null,"君悦文件柜D2  2500*420*1860  C3",308090011,"侧中立板",null,1,"包","7-2",5,"10","B区",0,{"$f":"VLOOKUP(A:A,[1]进仓汇总!A$1:G$65536,7,0)","v":{"$error":"#N/A"}},"欧格"]
[null,"君悦文件柜D2  2500*420*1860  C3",308090012,"背板",null,1,"包","7-3",5,"10","B区",0,{"$f":"VLOOKUP(A:A,[1]进仓汇总!A$1:G$65536,7,0)","v":{"$error":"#N/A"}},"欧格"]
[null,"君悦文件柜D2  2500*420*1860  C3",308090013,"门板",null,1,"包","7-4",5,"10","B区",0,{"$f":"VLOOKUP(A:A,[1]进仓汇总!A$1:G$65536,7,0)","v":{"$error":"#N/A"}},"欧格"]
[null,"君悦文件柜D2  2500*420*1860  C3",308090014,"活层板1",null,1,"包","7-5",5,"10","B区",0,{"$f":"VLOOKUP(A:A,[1]进仓汇总!A$1:G$65536,7,0)","v":{"$error":"#N/A"}},"欧格"]
[null,"君悦文件柜D2  2500*420*1860  C3",308090015,"活层板2",null,1,"包","7-6",5,"10","B区",0,{"$f":"VLOOKUP(A:A,[1]进仓汇总!A$1:G$65536,7,0)","v":{"$error":"#N/A"}},"欧格"]
[null,"君悦文件柜D2  2500*420*1860  C3",308090016,"底座、脚垫、配件",null,1,"包","7-7",5,"10","B区",0,{"$f":"VLOOKUP(A:A,[1]进仓汇总!A$1:G$65536,7,0)","v":{"$error":"#N/A"}},"欧格"]
["308070002","君悦长几      1200*600*420",null,{"$f":"+B448","v":"君悦长几      1200*600*420"},"黑栓",1,"张","1-1",{"$f":"+VLOOKUP(A:A,[1]安全库存!A$1:I$65536,9,0)","v":{"$error":"#N/A"}},"10","B区",null,{"$f":"VLOOKUP(A:A,[1]进仓汇总!A$1:G$65536,7,0)","v":{"$error":"#N/A"}},"欧格"]
["308080002","君悦方几      600*600*420",null,{"$f":"+B449","v":"君悦方几      600*600*420"},"黑栓",1,"张","1-1",{"$f":"+VLOOKUP(A:A,[1]安全库存!A$1:I$65536,9,0)","v":{"$error":"#N/A"}},"10","B区",null,{"$f":"VLOOKUP(A:A,[1]进仓汇总!A$1:G$65536,7,0)","v":{"$error":"#N/A"}},"欧格"]
["308010009","君悦D1班台(B款）\n2310*860*750 \n左",308010010,"面板/台脚","OF-M27/OF-M21/",1,"包","4-1",5,"10","E区",1860,{"$f":"VLOOKUP(A:A,[1]进仓汇总!A$1:G$65536,7,0)","v":{"$error":"#N/A"}},"欧格"]
[null,"君悦D1班台(B款）\n2310*860*750 \n左",308010011,"拉板",null,1,"包","4-2",5,"10","E区",0,{"$f":"VLOOKUP(A:A,[1]进仓汇总!A$1:G$65536,7,0)","v":{"$error":"#N/A"}},"欧格"]
[null,"君悦D1班台(B款）\n2310*860*750 \n左",308010012,"钢架",null,1,"包","4-3",5,"10","E区",0,{"$f":"VLOOKUP(A:A,[1]进仓汇总!A$1:G$65536,7,0)","v":{"$error":"#N/A"}},"欧格"]
[null,"君悦D1班台(B款）\n2310*860*750 \n左",308010013,"固定柜、配件",null,1,"包","4-4",5,"10","E区",0,{"$f":"VLOOKUP(A:A,[1]进仓汇总!A$1:G$65536,7,0)","v":{"$error":"#N/A"}},"欧格"]
["308010014","君悦D1班台(B款）\n2310*860*750 \n右",308010015,"面板/台脚","OF-M27/OF-M21/",1,"包","4-1",5,"10","E区",1860,{"$f":"VLOOKUP(A:A,[1]进仓汇总!A$1:G$65536,7,0)","v":{"$error":"#N/A"}},"欧格"]
[null,"君悦D1班台(B款）\n2310*860*750 \n右",308010016,"拉板",null,1,"包","4-2",5,"10","E区",0,{"$f":"VLOOKUP(A:A,[1]进仓汇总!A$1:G$65536,7,0)","v":{"$error":"#N/A"}},"欧格"]
[null,"君悦D1班台(B款）\n2310*860*750 \n右",308010017,"钢架",null,1,"包","4-3",5,"10","E区",0,{"$f":"VLOOKUP(A:A,[1]进仓汇总!A$1:G$65536,7,0)","v":{"$error":"#N/A"}},"欧格"]
[null,"君悦D1班台(B款）\n2310*860*750 \n右",308010018,"固定柜、配件",null,1,"包","4-4",5,"10","E区",0,{"$f":"VLOOKUP(A:A,[1]进仓汇总!A$1:G$65536,7,0)","v":{"$error":"#N/A"}},"欧格"]
[null,"君悦D1班台(B款）\n2310*860*750 \n右",308010027,"CD2二抽活动柜（可选）","OF-M27纯白",1,"个",null,{"$f":"+VLOOKUP(A:A,[1]安全库存!A$1:I$65536,9,0)","v":{"$error":"#N/A"}},"10","E区",550,{"$f":"VLOOKUP(A:A,[1]进仓汇总!A$1:G$65536,7,0)","v":{"$error":"#N/A"}},"欧格"]
[null,"君悦D1班台(B款）\n2310*860*750 \n右",308010028,"CD3三抽活动柜（可选）","OF-M27纯白",1,"个",null,{"$f":"+VLOOKUP(A:A,[1]安全库存!A$1:I$65536,9,0)","v":{"$error":"#N/A"}},"10","E区",550,{"$f":"VLOOKUP(A:A,[1]进仓汇总!A$1:G$65536,7,0)","v":{"$error":"#N/A"}},"欧格"]
["308010019","立方前台   2800*900*1110",308010020,"左侧柜","中灰色油漆，亚光油漆",1,"包","7-1",5,"5","C4区",4200,{"$f":"VLOOKUP(A:A,[1]进仓汇总!A$1:G$65536,7,0)","v":{"$error":"#N/A"}},"欧格"]
[null,"立方前台   2800*900*1110",308010021,"右侧柜","中灰色油漆，亚光油漆",1,"包","7-2",5,"5","C4区",0,{"$f":"VLOOKUP(A:A,[1]进仓汇总!A$1:G$65536,7,0)","v":{"$error":"#N/A"}},"欧格"]
[null,"立方前台   2800*900*1110",308010022,"大理石","白色人",1,"包","7-3",5,"5","C4区",0,{"$f":"VLOOKUP(A:A,[1]进仓汇总!A$1:G$65536,7,0)","v":{"$error":"#N/A"}},"欧格"]
[null,"立方前台   2800*900*1110",308010023,"前挡板","白色亚光油漆",1,"包","7-4",5,"5","C4区",0,{"$f":"VLOOKUP(A:A,[1]进仓汇总!A$1:G$65536,7,0)","v":{"$error":"#N/A"}},"欧格"]
[null,"立方前台   2800*900*1110",308010024,"台面+台脚","白色亚光油漆",1,"包","7-5",5,"5","C4区",0,{"$f":"VLOOKUP(A:A,[1]进仓汇总!A$1:G$65536,7,0)","v":{"$error":"#N/A"}},"欧格"]
[null,"立方前台   2800*900*1110",308010025,"装饰板","橙色亚光油漆",1,"包","7-6",5,"5","C4区",0,{"$f":"VLOOKUP(A:A,[1]进仓汇总!A$1:G$65536,7,0)","v":{"$error":"#N/A"}},"欧格"]
[null,"立方前台   2800*900*1110",308010026,"装饰板+配件","橙色亚光油漆",1,"包","7-7",5,"5","C4区",0,{"$f":"VLOOKUP(A:A,[1]进仓汇总!A$1:G$65536,7,0)","v":{"$error":"#N/A"}},"欧格"]
["311080001","梵龙方茶几  600*600*430",311080002,"几架、玻璃","铁灰OF-M14",1,"包","2-1",10,"15","B区",null,{"$f":"VLOOKUP(A:A,[1]进仓汇总!A$1:G$65536,7,0)","v":{"$error":"#N/A"}},"欧格"]
[null,"梵龙方茶几  600*600*430",311080003,"几脚、配件","铁灰OF-M14",1,"包","2-2",10,"15","B区",null,{"$f":"VLOOKUP(A:A,[1]进仓汇总!A$1:G$65536,7,0)","v":{"$error":"#N/A"}},"欧格"]
["311070001","梵龙长茶几     940*600*430",311070002,"几架","铁灰OF-M14",1,"包","2-1",10,"15","B区",null,{"$f":"VLOOKUP(A:A,[1]进仓汇总!A$1:G$65536,7,0)","v":{"$error":"#N/A"}},"欧格"]
[null,"梵龙长茶几     940*600*430",311070003,"几脚、配件","铁灰OF-M14",1,"包","2-2",10,"15","B区",null,{"$f":"VLOOKUP(A:A,[1]进仓汇总!A$1:G$65536,7,0)","v":{"$error":"#N/A"}},"欧格"]
["312070003","实木青花瓷长几1200*600*420        QH-ST-6060",312070004,"面板+空格=4","白玉石绒面",null,"包","2-1",0,null,"404C",null,{"$f":"VLOOKUP(A:A,[1]进仓汇总!A$1:G$65536,7,0)","v":{"$error":"#N/A"}},"欧格"]
[null,"实木青花瓷长几1200*600*420        QH-ST-6060","399090002-22","钢脚=4","纯白+电镀",null,"包","2-1",0,null,"809B",null,{"$f":"VLOOKUP(A:A,[1]进仓汇总!A$1:G$65536,7,0)","v":{"$error":"#N/A"}},"欧格"]
["312080003","实木青花瓷方几600*600*420        QH-ST-6060",312080004,"面板=1","白玉石绒面",null,"包","2-1",0,null,"403C",null,{"$f":"VLOOKUP(A:A,[1]进仓汇总!A$1:G$65536,7,0)","v":{"$error":"#N/A"}},"欧格"]
[null,"实木青花瓷方几600*600*420        QH-ST-6060","399090003-22","钢脚=4","纯白+电镀",null,"包","2-2",0,null,"809C",null,{"$f":"VLOOKUP(A:A,[1]进仓汇总!A$1:G$65536,7,0)","v":{"$error":"#N/A"}},"欧格"]
["312100003","实木青花瓷洽谈台   1000*1000*750     QH-T3-1010",312100004,"台面板=1","白玉石绒面",null,"包","2-1",0,null,"404C",null,{"$f":"VLOOKUP(A:A,[1]进仓汇总!A$1:G$65536,7,0)","v":{"$error":"#N/A"}},"欧格"]
[null,"实木青花瓷洽谈台   1000*1000*750     QH-T3-1010","399090001-22","钢脚=3","纯白+电镀",null,"包","2-2",0,null,"807C",null,{"$f":"VLOOKUP(A:A,[1]进仓汇总!A$1:G$65536,7,0)","v":{"$error":"#N/A"}},"欧格"]
[316010100,"欧玛D1主管桌\nAJOM-D1-(1608)           主台：1600*800*760\n附柜：1200*500*620",null,"欧玛D1主管桌1600*800*760","暖白绒面",null,null,null,0,null,null,null,{"$f":"VLOOKUP(A:A,[1]进仓汇总!A$1:G$65536,7,0)","v":0},"欧玛"]
[null,"欧玛D1主管桌\nAJOM-D1-(1608)           主台：1600*800*760\n附柜：1200*500*620",316010101,"主台面板=1\n前挡板=1","OF-0721暖白绒面OF-0721暖白绒面",1,"包","5-1",0,null,null,null,{"$f":"VLOOKUP(A:A,[1]进仓汇总!A$1:G$65536,7,0)","v":{"$error":"#N/A"}},"欧玛"]
[null,"欧玛D1主管桌\nAJOM-D1-(1608)           主台：1600*800*760\n附柜：1200*500*620",316010102,"附柜=1","OF-0721暖白绒面OF-A78蓝色绒面",1,"包","5-2",0,null,null,null,{"$f":"VLOOKUP(A:A,[1]进仓汇总!A$1:G$65536,7,0)","v":{"$error":"#N/A"}},"欧玛"]
[null,"欧玛D1主管桌\nAJOM-D1-(1608)           主台：1600*800*760\n附柜：1200*500*620",316010103,"附柜抽屉=3","OF-0721暖白绒面OF-A78蓝色绒面",1,"包","5-3",0,null,null,null,{"$f":"VLOOKUP(A:A,[1]进仓汇总!A$1:G$65536,7,0)","v":{"$error":"#N/A"}},"欧玛"]
[null,"欧玛D1主管桌\nAJOM-D1-(1608)           主台：1600*800*760\n附柜：1200*500*620",316010104,"欧玛边脚=2\n钢制走线槽=1","砂白",1,"包","5-4",0,null,null,null,{"$f":"VLOOKUP(A:A,[1]进仓汇总!A$1:G$65536,7,0)","v":{"$error":"#N/A"}},"欧玛"]
[null,"欧玛D1主管桌\nAJOM-D1-(1608)           主台：1600*800*760\n附柜：1200*500*620",316010105,"欧玛拉杆=2","砂白",1,"包","5-5",0,null,null,null,{"$f":"VLOOKUP(A:A,[1]进仓汇总!A$1:G$65536,7,0)","v":{"$error":"#N/A"}},"欧玛"]
[316010200,"欧玛D1主管桌\nAJOM-D1-(1808) 1800*800*760             附柜：1200*500*620         左",316010201,"主台面板=1\n前挡板=1","OF-0721暖白绒面OF-0721暖白绒面",1,"包","5-1",10,15,null,null,{"$f":"VLOOKUP(A:A,[1]进仓汇总!A$1:G$65536,7,0)","v":0},"欧玛"]
[null,"欧玛D1主管桌\nAJOM-D1-(1808) 1800*800*760             附柜：1200*500*620         左",316010202,"附柜=1","OF-0721暖白绒面OF-A78蓝色绒面",1,"包","5-2",10,15,null,null,{"$f":"VLOOKUP(A:A,[1]进仓汇总!A$1:G$65536,7,0)","v":{"$error":"#N/A"}},"欧玛"]
[null,"欧玛D1主管桌\nAJOM-D1-(1808) 1800*800*760             附柜：1200*500*620         左",316010203,"附柜抽屉=3","OF-0721暖白绒面OF-A78蓝色绒面",1,"包","5-3",10,15,null,null,{"$f":"VLOOKUP(A:A,[1]进仓汇总!A$1:G$65536,7,0)","v":{"$error":"#N/A"}},"欧玛"]
[null,"欧玛D1主管桌\nAJOM-D1-(1808) 1800*800*760             附柜：1200*500*620         左",316010204,"欧玛边脚=2\n钢制走线槽=1","砂白",1,"包","5-4",10,15,null,null,{"$f":"VLOOKUP(A:A,[1]进仓汇总!A$1:G$65536,7,0)","v":{"$error":"#N/A"}},"欧玛"]
[null,"欧玛D1主管桌\nAJOM-D1-(1808) 1800*800*760             附柜：1200*500*620         左",316010205,"欧玛拉杆=2","砂白",1,"包","5-5",10,15,null,null,{"$f":"VLOOKUP(A:A,[1]进仓汇总!A$1:G$65536,7,0)","v":{"$error":"#N/A"}},"欧玛"]
[316010800,"欧玛D1主管桌\nAJOM-D1-(1808) 1800*800*760            附柜：1200*500*620          右",316010801,"主台面板=1\n前挡板=1","OF-0721暖白绒面OF-0721暖白绒面",1,"包","5-1",10,15,null,null,{"$f":"VLOOKUP(A:A,[1]进仓汇总!A$1:G$65536,7,0)","v":0},"欧玛"]
[null,"欧玛D1主管桌\nAJOM-D1-(1808) 1800*800*760            附柜：1200*500*620          右",316010802,"附柜=1","OF-0721暖白绒面OF-A78蓝色绒面",1,"包","5-2",10,15,null,null,{"$f":"VLOOKUP(A:A,[1]进仓汇总!A$1:G$65536,7,0)","v":{"$error":"#N/A"}},"欧玛"]
[null,"欧玛D1主管桌\nAJOM-D1-(1808) 1800*800*760            附柜：1200*500*620          右",316010803,"附柜抽屉=3","OF-0721暖白绒面OF-A78蓝色绒面",1,"包","5-3",10,15,null,null,{"$f":"VLOOKUP(A:A,[1]进仓汇总!A$1:G$65536,7,0)","v":{"$error":"#N/A"}},"欧玛"]
[null,"欧玛D1主管桌\nAJOM-D1-(1808) 1800*800*760            附柜：1200*500*620          右",316010804,"欧玛边脚=2\n钢制走线槽=1","砂白",1,"包","5-4",10,15,null,null,{"$f":"VLOOKUP(A:A,[1]进仓汇总!A$1:G$65536,7,0)","v":{"$error":"#N/A"}},"欧玛"]
[null,"欧玛D1主管桌\nAJOM-D1-(1808) 1800*800*760            附柜：1200*500*620          右",316010805,"欧玛拉杆=2","砂白",1,"包","5-5",10,15,null,null,{"$f":"VLOOKUP(A:A,[1]进仓汇总!A$1:G$65536,7,0)","v":{"$error":"#N/A"}},"欧玛"]
[316010300,"欧玛D1主管桌\nAJOM-D1-(2010) 2000*1000*760\n附柜：1200*500*620",316010301,"主台面板=1\n前挡板=1","OF-0721暖白绒面OF-0721暖白绒面",1,"包","5-1",0,null,null,null,{"$f":"VLOOKUP(A:A,[1]进仓汇总!A$1:G$65536,7,0)","v":0},"欧玛"]
[null,"欧玛D1主管桌\nAJOM-D1-(2010) 2000*1000*760\n附柜：1200*500*620",316010302,"附柜=1","OF-0721暖白绒面OF-A78蓝色绒面",1,"包","5-2",0,null,null,null,{"$f":"VLOOKUP(A:A,[1]进仓汇总!A$1:G$65536,7,0)","v":{"$error":"#N/A"}},"欧玛"]
[null,"欧玛D1主管桌\nAJOM-D1-(2010) 2000*1000*760\n附柜：1200*500*620",316010303,"附柜抽屉=3","OF-0721暖白绒面OF-A78蓝色绒面",1,"包","5-3",0,null,null,null,{"$f":"VLOOKUP(A:A,[1]进仓汇总!A$1:G$65536,7,0)","v":{"$error":"#N/A"}},"欧玛"]
[null,"欧玛D1主管桌\nAJOM-D1-(2010) 2000*1000*760\n附柜：1200*500*620",316010304,"欧玛边脚=2\n钢制走线槽=1","砂白",1,"包","5-4",0,null,null,null,{"$f":"VLOOKUP(A:A,[1]进仓汇总!A$1:G$65536,7,0)","v":{"$error":"#N/A"}},"欧玛"]
[null,"欧玛D1主管桌\nAJOM-D1-(2010) 2000*1000*760\n附柜：1200*500*620",316010305,"欧玛拉杆=2","砂白",1,"包","5-5",0,null,null,null,{"$f":"VLOOKUP(A:A,[1]进仓汇总!A$1:G$65536,7,0)","v":{"$error":"#N/A"}},"欧玛"]
[316010400,"欧玛D2主管桌\nAJOM-D2-(1608) 1600*800*760\n附柜：1600*500*615",316010401,"主台面板=1\n前挡板=1","OF-123橡木浮雕",1,"包","4-1",0,null,null,null,{"$f":"VLOOKUP(A:A,[1]进仓汇总!A$1:G$65536,7,0)","v":0},"欧玛"]
[null,"欧玛D2主管桌\nAJOM-D2-(1608) 1600*800*760\n附柜：1600*500*615",316010402,"附柜=1","OF-123橡木浮雕OF-0721暖白绒面",1,"包","4-2",{"$f":"+VLOOKUP(A:A,[1]安全库存!A$1:I$65536,9,0)","v":{"$error":"#N/A"}},null,null,null,{"$f":"VLOOKUP(A:A,[1]进仓汇总!A$1:G$65536,7,0)","v":{"$error":"#N/A"}},"欧玛"]
[null,"欧玛D2主管桌\nAJOM-D2-(1608) 1600*800*760\n附柜：1600*500*615",316010403,"欧玛边脚=1\n附柜支撑脚=1","砂白",1,"包","4-3",{"$f":"+VLOOKUP(A:A,[1]安全库存!A$1:I$65536,9,0)","v":{"$error":"#N/A"}},null,null,null,{"$f":"VLOOKUP(A:A,[1]进仓汇总!A$1:G$65536,7,0)","v":{"$error":"#N/A"}},"欧玛"]
[null,"欧玛D2主管桌\nAJOM-D2-(1608) 1600*800*760\n附柜：1600*500*615",316010404,"欧玛拉杆=2","砂白",1,"包","4-4",{"$f":"+VLOOKUP(A:A,[1]安全库存!A$1:I$65536,9,0)","v":{"$error":"#N/A"}},null,null,null,{"$f":"VLOOKUP(A:A,[1]进仓汇总!A$1:G$65536,7,0)","v":{"$error":"#N/A"}},"欧玛"]
[null,"欧玛D2主管桌\nAJOM-D2-(1608) 1600*800*760\n附柜：1600*500*615",316010405,null,null,null,"包",null,{"$f":"+VLOOKUP(A:A,[1]安全库存!A$1:I$65536,9,0)","v":{"$error":"#N/A"}},null,null,null,{"$f":"VLOOKUP(A:A,[1]进仓汇总!A$1:G$65536,7,0)","v":{"$error":"#N/A"}},"欧玛"]
[316010500,"欧玛D2主管桌\nAJOM-D2-(1808)：1800*800*760             附柜：1600*500*615               左",316010501,"主台面板=1\n前挡板=1","OF-123橡木浮雕",1,"包","4-1",10,15,null,null,{"$f":"VLOOKUP(A:A,[1]进仓汇总!A$1:G$65536,7,0)","v":0},"欧玛"]
[null,"欧玛D2主管桌\nAJOM-D2-(1808)：1800*800*760             附柜：1600*500*615               左",316010502,"附柜=1","OF-123橡木浮雕OF-0721暖白绒面",1,"包","4-2",10,15,null,null,{"$f":"VLOOKUP(A:A,[1]进仓汇总!A$1:G$65536,7,0)","v":{"$error":"#N/A"}},"欧玛"]
[null,"欧玛D2主管桌\nAJOM-D2-(1808)：1800*800*760             附柜：1600*500*615               左",316010503,"欧玛边脚=1\n附柜支撑脚=1","砂白",1,"包","4-3",10,15,null,null,{"$f":"VLOOKUP(A:A,[1]进仓汇总!A$1:G$65536,7,0)","v":{"$error":"#N/A"}},"欧玛"]
[null,"欧玛D2主管桌\nAJOM-D2-(1808)：1800*800*760             附柜：1600*500*615               左",316010504,"欧玛拉杆=2","砂白",1,"包","4-4",10,15,null,null,{"$f":"VLOOKUP(A:A,[1]进仓汇总!A$1:G$65536,7,0)","v":{"$error":"#N/A"}},"欧玛"]
[null,"欧玛D2主管桌\nAJOM-D2-(1808)：1800*800*760             附柜：1600*500*615               左",316010505,"配件包＝1",null,1,"包","4-5",10,15,null,null,{"$f":"VLOOKUP(A:A,[1]进仓汇总!A$1:G$65536,7,0)","v":{"$error":"#N/A"}},"欧玛"]
[316010700,"欧玛D2主管桌\nAJOM-D2-(1808)：1800*800*760右附柜：1600*500*615            右",316010701,"主台面板=1\n前挡板=1","OF-123橡木浮雕",1,"包","4-1",10,15,null,null,{"$f":"VLOOKUP(A:A,[1]进仓汇总!A$1:G$65536,7,0)","v":0},"欧玛"]
[null,"欧玛D2主管桌\nAJOM-D2-(1808)：1800*800*760右附柜：1600*500*615            右",316010702,"附柜=1","OF-123橡木浮雕OF-0721暖白绒面",1,"包","4-2",10,15,null,null,{"$f":"VLOOKUP(A:A,[1]进仓汇总!A$1:G$65536,7,0)","v":{"$error":"#N/A"}},"欧玛"]
[null,"欧玛D2主管桌\nAJOM-D2-(1808)：1800*800*760右附柜：1600*500*615            右",316010703,"欧玛边脚=1\n附柜支撑脚=1","砂白",1,"包","4-3",10,15,null,null,{"$f":"VLOOKUP(A:A,[1]进仓汇总!A$1:G$65536,7,0)","v":{"$error":"#N/A"}},"欧玛"]
[null,"欧玛D2主管桌\nAJOM-D2-(1808)：1800*800*760右附柜：1600*500*615            右",316010704,"欧玛拉杆=2","砂白",1,"包","4-4",10,15,null,null,{"$f":"VLOOKUP(A:A,[1]进仓汇总!A$1:G$65536,7,0)","v":{"$error":"#N/A"}},"欧玛"]
[null,"欧玛D2主管桌\nAJOM-D2-(1808)：1800*800*760右附柜：1600*500*615            右",316010705,"配件包＝1",null,1,"包","4-5",10,15,null,null,{"$f":"VLOOKUP(A:A,[1]进仓汇总!A$1:G$65536,7,0)","v":{"$error":"#N/A"}},"欧玛"]
[316010600,"欧玛D2主管桌\nAJOM-D2-(2010) 2000*1000*760\n附柜：1800*500*615",316010601,"主台面板=1\n前挡板=1","OF-123橡木浮雕",1,"包","4-1",0,null,null,null,{"$f":"VLOOKUP(A:A,[1]进仓汇总!A$1:G$65536,7,0)","v":0},"欧玛"]
[null,"欧玛D2主管桌\nAJOM-D2-(2010) 2000*1000*760\n附柜：1800*500*615",316010602,"附柜=1","OF-123橡木浮雕OF-0721暖白绒面",1,"包","4-2",0,null,null,null,{"$f":"VLOOKUP(A:A,[1]进仓汇总!A$1:G$65536,7,0)","v":{"$error":"#N/A"}},"欧玛"]
[null,"欧玛D2主管桌\nAJOM-D2-(2010) 2000*1000*760\n附柜：1800*500*615",316010603,"欧玛边脚=1\n附柜支撑脚=1","砂白",1,"包","4-3",0,null,null,null,{"$f":"VLOOKUP(A:A,[1]进仓汇总!A$1:G$65536,7,0)","v":{"$error":"#N/A"}},"欧玛"]
[null,"欧玛D2主管桌\nAJOM-D2-(2010) 2000*1000*760\n附柜：1800*500*615",316010604,"欧玛拉杆=2","砂白",1,"包","4-4",0,null,null,null,{"$f":"VLOOKUP(A:A,[1]进仓汇总!A$1:G$65536,7,0)","v":{"$error":"#N/A"}},"欧玛"]
[null,"欧玛D2主管桌\nAJOM-D2-(2010) 2000*1000*760\n附柜：1800*500*615",316010605,null,null,null,"包",null,0,null,null,null,{"$f":"VLOOKUP(A:A,[1]进仓汇总!A$1:G$65536,7,0)","v":{"$error":"#N/A"}},"欧玛"]
[316020100,"欧玛LT1长茶几\nAJOM-LT1-(1206) 1200*600*420",316020101,"面板=1\n底板=1蓝色\n外侧=1\n中侧=1\n背板=1","OF-0721暖白绒面OF-A78蓝色绒面",1,"包","2-1",10,15,null,null,{"$f":"VLOOKUP(A:A,[1]进仓汇总!A$1:G$65536,7,0)","v":0},"欧玛"]
[null,"欧玛LT1长茶几\nAJOM-LT1-(1206) 1200*600*420",316020102,"茶几钢架=1","砂白",1,"包","2-2",10,15,null,null,{"$f":"VLOOKUP(A:A,[1]进仓汇总!A$1:G$65536,7,0)","v":{"$error":"#N/A"}},"欧玛"]
[316020200,"欧玛LT2长茶几\nAJOM-LT2-(1206) 1200*600*420\n",316020201,"面板=1\n底板=1\n外侧=1\n中侧=1\n背板=1","OF-123橡木浮雕OF-0721暖白绒面",1,"包","2-1",10,15,null,null,{"$f":"VLOOKUP(A:A,[1]进仓汇总!A$1:G$65536,7,0)","v":0},"欧玛"]
[null,"欧玛LT2长茶几\nAJOM-LT2-(1206) 1200*600*420\n",316020202,"茶几钢架=1","砂白",1,"包","2-2",10,15,null,null,{"$f":"VLOOKUP(A:A,[1]进仓汇总!A$1:G$65536,7,0)","v":{"$error":"#N/A"}},"欧玛"]
[316020300,"欧玛ST1方茶几\nAJOM-ST1-(0606) 600*600*420",316020301,"面板=1\n底板=1\n外侧=1\n","OF-0721暖白绒面",1,"包","2-1",10,15,null,null,{"$f":"VLOOKUP(A:A,[1]进仓汇总!A$1:G$65536,7,0)","v":0},"欧玛"]
[null,"欧玛ST1方茶几\nAJOM-ST1-(0606) 600*600*420",316020302,"茶几钢架=1","砂白",1,"包","2-2",10,15,null,null,{"$f":"VLOOKUP(A:A,[1]进仓汇总!A$1:G$65536,7,0)","v":{"$error":"#N/A"}},"欧玛"]
[316020400,"欧玛ST2方茶几\nAJOM-LT2-(0606) 600*600*420",316020401,"面板=1\n底板=1\n外侧=1\n","OF-123橡木浮雕",1,"包","2-1",10,15,null,220,{"$f":"VLOOKUP(A:A,[1]进仓汇总!A$1:G$65536,7,0)","v":0},"欧玛"]
[null,"欧玛ST2方茶几\nAJOM-LT2-(0606) 600*600*420",316020402,"茶几钢架=1","砂白",1,"包","2-2",10,15,null,0,{"$f":"VLOOKUP(A:A,[1]进仓汇总!A$1:G$65536,7,0)","v":{"$error":"#N/A"}},"欧玛"]
[316030100,"欧玛T1会议桌\nAJOM-T1-(2210)  2200*1000*760",316030101,"台面=1","OF-0721暖白绒面",1,"包","3-1",0,null,null,null,{"$f":"VLOOKUP(A:A,[1]进仓汇总!A$1:G$65536,7,0)","v":0},"欧玛"]
[null,"欧玛T1会议桌\nAJOM-T1-(2210)  2200*1000*760",316030102,"欧玛钢脚=2","砂白",1,"包","3-2",0,null,null,null,{"$f":"VLOOKUP(A:A,[1]进仓汇总!A$1:G$65536,7,0)","v":{"$error":"#N/A"}},"欧玛"]
[null,"欧玛T1会议桌\nAJOM-T1-(2210)  2200*1000*760",316030103,"拉杆=2","砂白",1,"包","3-3",0,null,null,null,{"$f":"VLOOKUP(A:A,[1]进仓汇总!A$1:G$65536,7,0)","v":{"$error":"#N/A"}},"欧玛"]
[316030200,"欧玛T2会议桌\nAJOM-T2-(2412) 2400*1200*760",316030201,"面板=1","OF-0721暖白绒面",1,"包","4-1",0,null,null,null,{"$f":"VLOOKUP(A:A,[1]进仓汇总!A$1:G$65536,7,0)","v":0},"欧玛"]
[null,"欧玛T2会议桌\nAJOM-T2-(2412) 2400*1200*760",316030202,"欧玛边脚=2","砂白",1,"包","4-2",0,null,null,null,{"$f":"VLOOKUP(A:A,[1]进仓汇总!A$1:G$65536,7,0)","v":{"$error":"#N/A"}},"欧玛"]
[null,"欧玛T2会议桌\nAJOM-T2-(2412) 2400*1200*760",316030203,"拉杆=2\n横杆=2","砂白",1,"包","4-3",0,null,null,null,{"$f":"VLOOKUP(A:A,[1]进仓汇总!A$1:G$65536,7,0)","v":{"$error":"#N/A"}},"欧玛"]
[null,"欧玛T2会议桌\nAJOM-T2-(2412) 2400*1200*760",316030204,"集成走线箱","砂白",1,"包","4-4",0,null,null,null,{"$f":"VLOOKUP(A:A,[1]进仓汇总!A$1:G$65536,7,0)","v":{"$error":"#N/A"}},"欧玛"]
[316030300,"欧玛T3会议桌\nAJOM-T3-(2812)  2800*1200*760",316030301,"台面=2","OF-0721暖白绒面",1,"包","5-1",10,15,null,null,{"$f":"VLOOKUP(A:A,[1]进仓汇总!A$1:G$65536,7,0)","v":0},"欧玛"]
[null,"欧玛T3会议桌\nAJOM-T3-(2812)  2800*1200*760",316030302,"装饰板=1","OF-A78蓝色绒面",1,"包","5-2",10,15,null,null,{"$f":"VLOOKUP(A:A,[1]进仓汇总!A$1:G$65536,7,0)","v":{"$error":"#N/A"}},"欧玛"]
[null,"欧玛T3会议桌\nAJOM-T3-(2812)  2800*1200*760",316030303,"欧玛钢架=2","砂白",1,"包","5-3",10,15,null,null,{"$f":"VLOOKUP(A:A,[1]进仓汇总!A$1:G$65536,7,0)","v":{"$error":"#N/A"}},"欧玛"]
[null,"欧玛T3会议桌\nAJOM-T3-(2812)  2800*1200*760",316030304,"拉杆=2\n横杆=2","砂白",1,"包","5-4",10,15,null,null,{"$f":"VLOOKUP(A:A,[1]进仓汇总!A$1:G$65536,7,0)","v":{"$error":"#N/A"}},"欧玛"]
[null,"欧玛T3会议桌\nAJOM-T3-(2812)  2800*1200*760",316030305,"集成走线箱","砂白",1,"包","5-5",10,15,null,null,{"$f":"VLOOKUP(A:A,[1]进仓汇总!A$1:G$65536,7,0)","v":{"$error":"#N/A"}},"欧玛"]
[316040100,"欧玛LY4直行四人位\nAJOM-LY4-(2812)  2800*1200*760",316040101,"台面=2","OF-0721暖白绒面",1,"包","7-1",10,15,null,null,{"$f":"VLOOKUP(A:A,[1]进仓汇总!A$1:G$65536,7,0)","v":0},"欧玛"]
[null,"欧玛LY4直行四人位\nAJOM-LY4-(2812)  2800*1200*760",316040102,"装饰板=1","OF-A78蓝色绒面",1,"包","7-2",10,15,null,null,{"$f":"VLOOKUP(A:A,[1]进仓汇总!A$1:G$65536,7,0)","v":{"$error":"#N/A"}},"欧玛"]
[null,"欧玛LY4直行四人位\nAJOM-LY4-(2812)  2800*1200*760",316040103,"桌上屏风=2","OF-A78蓝色绒面",1,"包","7-3",10,15,null,null,{"$f":"VLOOKUP(A:A,[1]进仓汇总!A$1:G$65536,7,0)","v":{"$error":"#N/A"}},"欧玛"]
[null,"欧玛LY4直行四人位\nAJOM-LY4-(2812)  2800*1200*760",316040104,"欧玛边脚=2","砂白",1,"包","7-4",10,15,null,null,{"$f":"VLOOKUP(A:A,[1]进仓汇总!A$1:G$65536,7,0)","v":{"$error":"#N/A"}},"欧玛"]
[null,"欧玛LY4直行四人位\nAJOM-LY4-(2812)  2800*1200*760",316040105,"拉杆=2\n横杆=2","砂白",1,"包","7-5",10,15,null,null,{"$f":"VLOOKUP(A:A,[1]进仓汇总!A$1:G$65536,7,0)","v":{"$error":"#N/A"}},"欧玛"]
[null,"欧玛LY4直行四人位\nAJOM-LY4-(2812)  2800*1200*760",316040106,"集成走线箱","砂白",1,"包","7-6",10,15,null,null,{"$f":"VLOOKUP(A:A,[1]进仓汇总!A$1:G$65536,7,0)","v":{"$error":"#N/A"}},"欧玛"]
[null,"欧玛LY4直行四人位\nAJOM-LY4-(2812)  2800*1200*760",316040107,"屏风支撑架=2","砂白",1,"包","7-7",10,15,null,null,{"$f":"VLOOKUP(A:A,[1]进仓汇总!A$1:G$65536,7,0)","v":{"$error":"#N/A"}},"欧玛"]
[316040200,"欧玛HS4直行四人位\nAJOM-HS4-(2412)  2400*1200*760\n附柜：1200*500*615",316040201,"面板=4","OF-123橡木浮雕",2,"包","12-1（2）",0,null,null,1880,{"$f":"VLOOKUP(A:A,[1]进仓汇总!A$1:G$65536,7,0)","v":0},"欧玛"]
[null,"欧玛HS4直行四人位\nAJOM-HS4-(2412)  2400*1200*760\n附柜：1200*500*615",316040202,"桌面屏风=2","OF-0721暖白绒面",1,"包","12-3",0,null,null,0,{"$f":"VLOOKUP(A:A,[1]进仓汇总!A$1:G$65536,7,0)","v":{"$error":"#N/A"}},"欧玛"]
[null,"欧玛HS4直行四人位\nAJOM-HS4-(2412)  2400*1200*760\n附柜：1200*500*615",316040203,"附柜=2","OF-123橡木浮雕OF-0721暖白绒面",2,"包","12-4（5）",0,null,null,0,{"$f":"VLOOKUP(A:A,[1]进仓汇总!A$1:G$65536,7,0)","v":{"$error":"#N/A"}},"欧玛"]
[null,"欧玛HS4直行四人位\nAJOM-HS4-(2412)  2400*1200*760\n附柜：1200*500*615",316040204,"附柜抽屉=12","OF-0721暖白绒面",4,"包","12-6（7）\n（8）（9）",0,null,null,0,{"$f":"VLOOKUP(A:A,[1]进仓汇总!A$1:G$65536,7,0)","v":{"$error":"#N/A"}},"欧玛"]
[null,"欧玛HS4直行四人位\nAJOM-HS4-(2412)  2400*1200*760\n附柜：1200*500*615",316040205,"欧玛钢架=2","砂白",1,"包","12-10",0,null,null,0,{"$f":"VLOOKUP(A:A,[1]进仓汇总!A$1:G$65536,7,0)","v":{"$error":"#N/A"}},"欧玛"]
[null,"欧玛HS4直行四人位\nAJOM-HS4-(2412)  2400*1200*760\n附柜：1200*500*615",316040206,"欧玛中脚=1","砂白",1,"包","12-11",0,null,null,0,{"$f":"VLOOKUP(A:A,[1]进仓汇总!A$1:G$65536,7,0)","v":{"$error":"#N/A"}},"欧玛"]
[null,"欧玛HS4直行四人位\nAJOM-HS4-(2412)  2400*1200*760\n附柜：1200*500*615",316040207,"拉杆=1\n功能梁=2","砂白\n氧化",1,"包","12-12",0,null,null,0,{"$f":"VLOOKUP(A:A,[1]进仓汇总!A$1:G$65536,7,0)","v":{"$error":"#N/A"}},"欧玛"]
[316040300,"欧玛HS4直行四人位\nAJOM-HS4-(2812)   2800*1200*760",316040301,"台面=2","OF-0721暖白绒面",1,"包","7-1",0,null,null,null,{"$f":"VLOOKUP(A:A,[1]进仓汇总!A$1:G$65536,7,0)","v":0},"欧玛"]
[null,"欧玛HS4直行四人位\nAJOM-HS4-(2812)   2800*1200*760",316040302,"装饰板=1","OF-A78蓝色绒面",1,"包","7-2",0,null,null,null,{"$f":"VLOOKUP(A:A,[1]进仓汇总!A$1:G$65536,7,0)","v":{"$error":"#N/A"}},"欧玛"]
[null,"欧玛HS4直行四人位\nAJOM-HS4-(2812)   2800*1200*760",316040303,"桌上屏风=2","OF-A78蓝色绒面",1,"包","7-3",0,null,null,null,{"$f":"VLOOKUP(A:A,[1]进仓汇总!A$1:G$65536,7,0)","v":{"$error":"#N/A"}},"欧玛"]
[null,"欧玛HS4直行四人位\nAJOM-HS4-(2812)   2800*1200*760",316040304,"欧玛边脚=2","砂白",1,"包","7-4",0,null,null,null,{"$f":"VLOOKUP(A:A,[1]进仓汇总!A$1:G$65536,7,0)","v":{"$error":"#N/A"}},"欧玛"]
[null,"欧玛HS4直行四人位\nAJOM-HS4-(2812)   2800*1200*760",316040305,"拉杆=2\n横杆=2","砂白",1,"包","7-5",0,null,null,null,{"$f":"VLOOKUP(A:A,[1]进仓汇总!A$1:G$65536,7,0)","v":{"$error":"#N/A"}},"欧玛"]
[null,"欧玛HS4直行四人位\nAJOM-HS4-(2812)   2800*1200*760",316040306,"集成走线箱","砂白",1,"包","7-6",0,null,null,null,{"$f":"VLOOKUP(A:A,[1]进仓汇总!A$1:G$65536,7,0)","v":{"$error":"#N/A"}},"欧玛"]
[null,"欧玛HS4直行四人位\nAJOM-HS4-(2812)   2800*1200*760",316040307,"屏风支撑架=2","砂白",1,"包","7-7",0,null,null,null,{"$f":"VLOOKUP(A:A,[1]进仓汇总!A$1:G$65536,7,0)","v":{"$error":"#N/A"}},"欧玛"]
[316040308,"欧玛直行四人位活动柜",null,"活动柜＝4","暖白+蓝色",4,"包","4-1，2，3，4",0,null,null,null,{"$f":"VLOOKUP(A:A,[1]进仓汇总!A$1:G$65536,7,0)","v":18},"欧玛",-8]
[316050100,"欧玛C1A文件柜\nAJOM-C1A-(0816)  800*400*1600\n左",316050101,"顶板=1\n固层=1\n活层=2\n底板=1","OF-0721暖白绒面",1,"包","3-1",5,10,null,null,{"$f":"VLOOKUP(A:A,[1]进仓汇总!A$1:G$65536,7,0)","v":0},"欧玛"]
[null,"欧玛C1A文件柜\nAJOM-C1A-(0816)  800*400*1600\n左",316050102,"背板=1\n侧板=2\n掩门=4","OF-0721暖白绒面\nOF-A78蓝色绒面",1,"包","3-2",5,10,null,null,{"$f":"VLOOKUP(A:A,[1]进仓汇总!A$1:G$65536,7,0)","v":{"$error":"#N/A"}},"欧玛"]
[null,"欧玛C1A文件柜\nAJOM-C1A-(0816)  800*400*1600\n左",316050103,"欧玛柜脚=1\n铝方脚=2","砂白\n氧化",1,"包","3-3",5,10,null,null,{"$f":"VLOOKUP(A:A,[1]进仓汇总!A$1:G$65536,7,0)","v":{"$error":"#N/A"}},"欧玛"]
[3160500500,"欧玛C1A文件柜\nAJOM-C1A-(0816)    800*400*1600\n右",3160500501,"顶板=1\n固层=1\n活层=2\n底板=1","OF-0721暖白绒面",1,"包","3-1",5,10,null,null,{"$f":"VLOOKUP(A:A,[1]进仓汇总!A$1:G$65536,7,0)","v":0},"欧玛"]
[null,"欧玛C1A文件柜\nAJOM-C1A-(0816)    800*400*1600\n右",3160500502,"背板=1\n侧板=2\n掩门=4","OF-0721暖白绒面\nOF-A78蓝色绒面",1,"包","3-2",5,10,null,null,{"$f":"VLOOKUP(A:A,[1]进仓汇总!A$1:G$65536,7,0)","v":{"$error":"#N/A"}},"欧玛"]
[null,"欧玛C1A文件柜\nAJOM-C1A-(0816)    800*400*1600\n右",3160500503,"欧玛柜脚=1\n铝方脚=2","砂白\n氧化",1,"包","3-3",5,10,null,null,{"$f":"VLOOKUP(A:A,[1]进仓汇总!A$1:G$65536,7,0)","v":{"$error":"#N/A"}},"欧玛"]
[316050200,"欧玛C1B文件柜\nAJOM-C1B-(0816)  800*400*1600",316050201,"顶板=1\n固层=1\n活层=2\n底板=1","OF-0721暖白绒面",1,"包","3-1",10,20,null,580,{"$f":"VLOOKUP(A:A,[1]进仓汇总!A$1:G$65536,7,0)","v":0},"欧玛"]
[null,"欧玛C1B文件柜\nAJOM-C1B-(0816)  800*400*1600",316050202,"背板=1\n侧板=2\n掩门=4","OF-123橡木浮雕OF-0721暖白绒面",1,"包","3-2",10,20,null,0,{"$f":"VLOOKUP(A:A,[1]进仓汇总!A$1:G$65536,7,0)","v":{"$error":"#N/A"}},"欧玛"]
[null,"欧玛C1B文件柜\nAJOM-C1B-(0816)  800*400*1600",316050204,"欧玛柜脚=1\n铝方脚=2","砂白",1,"包","3-3",10,20,null,0,{"$f":"VLOOKUP(A:A,[1]进仓汇总!A$1:G$65536,7,0)","v":{"$error":"#N/A"}},"欧玛"]
[316050300,"欧玛C2A文件柜\nAJOM-C2A-(0816)  800*400*1600",316050301,"顶板=1\n固层=1\n活层=2\n底板=1","OF-0721暖白绒面",1,"包","4-1",5,10,null,null,{"$f":"VLOOKUP(A:A,[1]进仓汇总!A$1:G$65536,7,0)","v":0},"欧玛"]
[null,"欧玛C2A文件柜\nAJOM-C2A-(0816)  800*400*1600",316050302,"背板=1\n侧板=2\n掩门=4","OF-0721暖白绒面",1,"包","4-2",5,10,null,null,{"$f":"VLOOKUP(A:A,[1]进仓汇总!A$1:G$65536,7,0)","v":{"$error":"#N/A"}},"欧玛"]
[null,"欧玛C2A文件柜\nAJOM-C2A-(0816)  800*400*1600",316050303,"欧玛柜脚=1\n铝方脚=2","砂白\n氧化",1,"包","4-3",5,10,null,null,{"$f":"VLOOKUP(A:A,[1]进仓汇总!A$1:G$65536,7,0)","v":{"$error":"#N/A"}},"欧玛"]
[null,"欧玛C2A文件柜\nAJOM-C2A-(0816)  800*400*1600",316050304,"铝框门=2","砂白",1,"包","4-4",5,10,null,null,{"$f":"VLOOKUP(A:A,[1]进仓汇总!A$1:G$65536,7,0)","v":{"$error":"#N/A"}},"欧玛"]
[316050400,"欧玛C2B文件柜\nAJOM-C2B-(0816)    800*400*1600",316050401,"顶板=1\n固层=1\n活层=2\n底板=1","OF-0721暖白绒面",1,"包","4-1",10,20,null,720,{"$f":"VLOOKUP(A:A,[1]进仓汇总!A$1:G$65536,7,0)","v":0},"欧玛"]
[null,"欧玛C2B文件柜\nAJOM-C2B-(0816)    800*400*1600",316050402,"背板=1\n侧板=2\n掩门=4","OF-123橡木浮雕OF-0721暖白绒面",1,"包","4-2",10,20,null,0,{"$f":"VLOOKUP(A:A,[1]进仓汇总!A$1:G$65536,7,0)","v":{"$error":"#N/A"}},"欧玛"]
[null,"欧玛C2B文件柜\nAJOM-C2B-(0816)    800*400*1600",316050403,"欧玛柜脚=1\n铝方脚=2","砂白\n氧化",1,"包","4-3",10,20,null,0,{"$f":"VLOOKUP(A:A,[1]进仓汇总!A$1:G$65536,7,0)","v":{"$error":"#N/A"}},"欧玛"]
[null,"欧玛C2B文件柜\nAJOM-C2B-(0816)    800*400*1600",316050404,"铝框门=2","砂白",1,"包","4-4",10,20,null,0,{"$f":"VLOOKUP(A:A,[1]进仓汇总!A$1:G$65536,7,0)","v":{"$error":"#N/A"}},"欧玛"]
[316030400,"欧玛QT900洽谈桌\nAJOM-QT-(900)            Ø900*750",316030401,"面板=1","OF-0721暖白绒面",1,"包","2-1",10,15,null,null,{"$f":"VLOOKUP(A:A,[1]进仓汇总!A$1:G$65536,7,0)","v":0},"欧玛"]
[null,"欧玛QT900洽谈桌\nAJOM-QT-(900)            Ø900*750",316030402,"钢脚=3","砂白",1,"包","2-2",10,15,null,null,{"$f":"VLOOKUP(A:A,[1]进仓汇总!A$1:G$65536,7,0)","v":{"$error":"#N/A"}},"欧玛"]
[316030500,"欧玛QT1000洽谈桌\nAJOM-QT-(1000)           Ø1000*750",316030501,"面板=1","OF-0721暖白绒面",1,"包","2-1",0,null,null,null,{"$f":"VLOOKUP(A:A,[1]进仓汇总!A$1:G$65536,7,0)","v":0},"欧玛"]
[null,"欧玛QT1000洽谈桌\nAJOM-QT-(1000)           Ø1000*750",316030502,"钢脚=3","砂白",1,"包","2-2",0,null,null,null,{"$f":"VLOOKUP(A:A,[1]进仓汇总!A$1:G$65536,7,0)","v":{"$error":"#N/A"}},"欧玛"]
["318330001","梵龙沙发B1",null,"单人位","SF-2224+OL-2908",1,"张","1--1",{"$f":"+VLOOKUP(A:A,[1]安全库存!A$1:I$65536,9,0)","v":{"$error":"#N/A"}},25,"C3",null,{"$f":"VLOOKUP(A:A,[1]进仓汇总!A$1:G$65536,7,0)","v":{"$error":"#N/A"}},"转椅"]
["318330002","梵龙沙发B2",null,"单人位","SF-2224+OL-2908",1,"张","1--1",{"$f":"+VLOOKUP(A:A,[1]安全库存!A$1:I$65536,9,0)","v":{"$error":"#N/A"}},25,"C2",null,{"$f":"VLOOKUP(A:A,[1]进仓汇总!A$1:G$65536,7,0)","v":{"$error":"#N/A"}},"转椅"]
["318330003","梵龙沙发A1",null,"单人位","SF-2226+OL-2906",1,"张","1--1",{"$f":"+VLOOKUP(A:A,[1]安全库存!A$1:I$65536,9,0)","v":{"$error":"#N/A"}},25,"C3",null,{"$f":"VLOOKUP(A:A,[1]进仓汇总!A$1:G$65536,7,0)","v":{"$error":"#N/A"}},"转椅"]
["318330004","梵龙沙发A2",null,"单人位","SF-2226+OL-2906",1,"张","1--1",{"$f":"+VLOOKUP(A:A,[1]安全库存!A$1:I$65536,9,0)","v":{"$error":"#N/A"}},25,"C2",null,{"$f":"VLOOKUP(A:A,[1]进仓汇总!A$1:G$65536,7,0)","v":{"$error":"#N/A"}},"转椅"]
["318330005","梵高沙发",null,"单人位","OF-28-66/OF-28-61",1,"张","1--1",{"$f":"+VLOOKUP(A:A,[1]安全库存!A$1:I$65536,9,0)","v":{"$error":"#N/A"}},30,"C4",756,{"$f":"VLOOKUP(A:A,[1]进仓汇总!A$1:G$65536,7,0)","v":{"$error":"#N/A"}},"转椅"]
["318330006","梵高沙发",null,"三人位","OF-28-66/OF-28-61",1,"张","1--1",{"$f":"+VLOOKUP(A:A,[1]安全库存!A$1:I$65536,9,0)","v":{"$error":"#N/A"}},15,"C4",1290,{"$f":"VLOOKUP(A:A,[1]进仓汇总!A$1:G$65536,7,0)","v":{"$error":"#N/A"}},"转椅"]
["318330007","欧扬沙发",null,"单人位","LN-537",1,"张","1--1",{"$f":"+VLOOKUP(A:A,[1]安全库存!A$1:I$65536,9,0)","v":{"$error":"#N/A"}},20,"C4",480,{"$f":"VLOOKUP(A:A,[1]进仓汇总!A$1:G$65536,7,0)","v":{"$error":"#N/A"}},"转椅"]
["318330008","欧扬沙发",null,"三人位","LN-537",1,"张","1--1",{"$f":"+VLOOKUP(A:A,[1]安全库存!A$1:I$65536,9,0)","v":{"$error":"#N/A"}},10,"C4",890,{"$f":"VLOOKUP(A:A,[1]进仓汇总!A$1:G$65536,7,0)","v":{"$error":"#N/A"}},"转椅"]
["318330009","柱天下沙发",null,"单人位","灰色/米黄",1,"张","1--1",0,0,"C6",null,{"$f":"VLOOKUP(A:A,[1]进仓汇总!A$1:G$65536,7,0)","v":{"$error":"#N/A"}},"转椅"]
["318330010","柱天下沙发",null,"三人位","灰色/米黄",1,"张","1--1",0,0,"C6",null,{"$f":"VLOOKUP(A:A,[1]进仓汇总!A$1:G$65536,7,0)","v":{"$error":"#N/A"}},"转椅"]
["318330011","欧尚沙发-B款",null,"单人位","黑色+纯白钢架",1,"张","1--1",{"$f":"+VLOOKUP(A:A,[1]安全库存!A$1:I$65536,9,0)","v":{"$error":"#N/A"}},10,"C4",680,{"$f":"VLOOKUP(A:A,[1]进仓汇总!A$1:G$65536,7,0)","v":{"$error":"#N/A"}},"转椅"]
["318330012","欧尚沙发-B款",null,"三人位","黑色+纯白钢架",1,"张","1--1",{"$f":"+VLOOKUP(A:A,[1]安全库存!A$1:I$65536,9,0)","v":{"$error":"#N/A"}},5,"C4",null,{"$f":"VLOOKUP(A:A,[1]进仓汇总!A$1:G$65536,7,0)","v":{"$error":"#N/A"}},"转椅"]
["318210009","大班椅",null,"OF-CH102A 靠背","黑色/灰色条纹",1,"包","2-1",{"$f":"+VLOOKUP(A:A,[1]安全库存!A$1:I$65536,9,0)","v":{"$error":"#N/A"}},"30","c4",498,{"$f":"VLOOKUP(A:A,[1]进仓汇总!A$1:G$65536,7,0)","v":{"$error":"#N/A"}},"转椅"]
["318210009-1","大班椅",null,"OF-CH103A 椅脚","黑色/灰色条纹",1,"包","2-2",20,"30","c4",null,{"$f":"VLOOKUP(A:A,[1]进仓汇总!A$1:G$65536,7,0)","v":0},"转椅"]
["318220003","中班椅",null,"OF-CH102B 靠背","黑色/灰色条纹",1,"包","2-1",0,"30","c4",null,{"$f":"VLOOKUP(A:A,[1]进仓汇总!A$1:G$65536,7,0)","v":{"$error":"#N/A"}},"转椅"]
["318220044","中班椅",null,"OF-CH102B 椅脚","黑色/灰色条纹",1,"包","2-2",0,"30","c4",null,{"$f":"VLOOKUP(A:A,[1]进仓汇总!A$1:G$65536,7,0)","v":{"$error":"#N/A"}},"转椅"]
["318230003","会议椅",null,"OF-CH102C","黑色/灰色条纹",2,"张","1--1",0,50,"C1",276,{"$f":"VLOOKUP(A:A,[1]进仓汇总!A$1:G$65536,7,0)","v":{"$error":"#N/A"}},"转椅"]
["318210004","大班椅",null,"OF-CH102A","黑色/橙色",1,"张","1--1",0,null,"C1",498,{"$f":"VLOOKUP(A:A,[1]进仓汇总!A$1:G$65536,7,0)","v":0},"转椅"]
["318220004","   中班椅",null,"OF-CH107B","黑色/橙色",2,"张","1--1",0,40,"C1",null,{"$f":"VLOOKUP(A:A,[1]进仓汇总!A$1:G$65536,7,0)","v":{"$error":"#N/A"}},"转椅"]
["318230004","班前椅",null,"OF-CH107C","黑色/橙色",2,"张","1--1",{"$f":"+VLOOKUP(A:A,[1]安全库存!A$1:I$65536,9,0)","v":{"$error":"#N/A"}},null,"C1",300,{"$f":"VLOOKUP(A:A,[1]进仓汇总!A$1:G$65536,7,0)","v":{"$error":"#N/A"}},"转椅"]
["318220007","职员椅A",null,"OF-CH158B","橙座/灰背",2,"张","1--1",0,null,"C1",null,{"$f":"VLOOKUP(A:A,[1]进仓汇总!A$1:G$65536,7,0)","v":{"$error":"#N/A"}},"转椅"]
["318220008","职员椅A",null,"OF-CH158B","黑座/橙背",2,"张","1--1",0,null,"C1",null,{"$f":"VLOOKUP(A:A,[1]进仓汇总!A$1:G$65536,7,0)","v":{"$error":"#N/A"}},"转椅"]
["318220005","职员椅",null,"OF-CH109","黑色/橙色",2,"张",null,0,null,null,null,{"$f":"VLOOKUP(A:A,[1]进仓汇总!A$1:G$65536,7,0)","v":{"$error":"#N/A"}},"转椅"]
["318330016","梵点沙发",null,"常规","科一咖啡色5072-10",1,"张","1--1",0,null,0,null,{"$f":"VLOOKUP(A:A,[1]进仓汇总!A$1:G$65536,7,0)","v":{"$error":"#N/A"}},"转椅"]
["318330025","欧典沙发",null,"单人位","科一色卡15412-10",1,"张","1--1",{"$f":"+VLOOKUP(A:A,[1]安全库存!A$1:I$65536,9,0)","v":{"$error":"#N/A"}},30,"C4",670,{"$f":"VLOOKUP(A:A,[1]进仓汇总!A$1:G$65536,7,0)","v":{"$error":"#N/A"}},"转椅"]
["318330026","欧典沙发",null,"三人位","科一色卡15412-10",1,"张","1--1",{"$f":"+VLOOKUP(A:A,[1]安全库存!A$1:I$65536,9,0)","v":{"$error":"#N/A"}},15,"C4",1196,{"$f":"VLOOKUP(A:A,[1]进仓汇总!A$1:G$65536,7,0)","v":{"$error":"#N/A"}},"转椅"]
["318330031","欧典沙发（凯越）",null,"单人位","浅棕色",null,"张",null,{"$f":"+VLOOKUP(A:A,[1]安全库存!A$1:I$65536,9,0)","v":10},10,"c5",710,{"$f":"VLOOKUP(A:A,[1]进仓汇总!A$1:G$65536,7,0)","v":10},"转椅"]
["318330032","欧典沙发（凯越）",null,"三人位","浅棕色",null,"张",null,{"$f":"+VLOOKUP(A:A,[1]安全库存!A$1:I$65536,9,0)","v":5},5,"c5",1260,{"$f":"VLOOKUP(A:A,[1]进仓汇总!A$1:G$65536,7,0)","v":5},"转椅"]
["318220011","欧典职员椅A",null,"OF-CH163B★","黑色背/红色座",2,"张","1--1",0,null,"C1",null,{"$f":"VLOOKUP(A:A,[1]进仓汇总!A$1:G$65536,7,0)","v":{"$error":"#N/A"}},"转椅"]
["318220012","梵高职员椅A",null,"OF-CH161A★","深灰/黑色",2,"张","1--1",{"$f":"+VLOOKUP(A:A,[1]安全库存!A$1:I$65536,9,0)","v":{"$error":"#N/A"}},50,"C",220,{"$f":"VLOOKUP(A:A,[1]进仓汇总!A$1:G$65536,7,0)","v":{"$error":"#N/A"}},"转椅"]
["318230007","梵高会议椅B",null,"OF-CH161C★","深灰/黑色",2,"张","1--1",{"$f":"+VLOOKUP(A:A,[1]安全库存!A$1:I$65536,9,0)","v":{"$error":"#N/A"}},50,"C",null,{"$f":"VLOOKUP(A:A,[1]进仓汇总!A$1:G$65536,7,0)","v":{"$error":"#N/A"}},"转椅"]
["318220013","欧典职员椅A",null,"163B","全黑色",2,"张","1--1",0,null,"C5",null,{"$f":"VLOOKUP(A:A,[1]进仓汇总!A$1:G$65536,7,0)","v":{"$error":"#N/A"}},"转椅"]
["318220014","柱天下职员椅",null,"OF-CH159B★","全黑色",2,"张","1--1",0,null,"C1",null,{"$f":"VLOOKUP(A:A,[1]进仓汇总!A$1:G$65536,7,0)","v":{"$error":"#N/A"}},"转椅"]
["318220015","柱天下职员椅",null,"OF-CH159B★","黑坐/橙背",2,"张","1--1",0,null,"C1",null,{"$f":"VLOOKUP(A:A,[1]进仓汇总!A$1:G$65536,7,0)","v":{"$error":"#N/A"}},"转椅"]
["318210007","大班椅",null,"190A","全黑真皮",2,"张","1--1",{"$f":"+VLOOKUP(A:A,[1]安全库存!A$1:I$65536,9,0)","v":{"$error":"#N/A"}},10,"C1",{"$f":"8436/2","v":4218},{"$f":"VLOOKUP(A:A,[1]进仓汇总!A$1:G$65536,7,0)","v":{"$error":"#N/A"}},"转椅"]
["318210008","大班椅",null,"190A","黑色/西皮",2,"张","1--1",{"$f":"+VLOOKUP(A:A,[1]安全库存!A$1:I$65536,9,0)","v":{"$error":"#N/A"}},10,"C1",null,{"$f":"VLOOKUP(A:A,[1]进仓汇总!A$1:G$65536,7,0)","v":{"$error":"#N/A"}},"转椅"]
["318230008","班前椅",null,"190C","黑色/西皮",2,"张","1--1",{"$f":"+VLOOKUP(A:A,[1]安全库存!A$1:I$65536,9,0)","v":{"$error":"#N/A"}},10,"C1",null,{"$f":"VLOOKUP(A:A,[1]进仓汇总!A$1:G$65536,7,0)","v":{"$error":"#N/A"}},"转椅"]
["318230010","吧椅",null,"ZY-C02","西皮/圆盘底座",2,"张","1--1",0,20,"C1",null,{"$f":"VLOOKUP(A:A,[1]进仓汇总!A$1:G$65536,7,0)","v":0},"转椅"]
["318330021-21","清花瓷沙发                                                                                                                         HQ-SF1S",null,"单人位","白色/灰色",1,"张","1--1",0,10,"C6",null,{"$f":"VLOOKUP(A:A,[1]进仓汇总!A$1:G$65536,7,0)","v":0},"转椅"]
["318330022","清花瓷沙发                                                                                                                         HQ-SF3S",null,"三人位","白色/灰色",1,"张","1--1",0,5,"C6",null,{"$f":"VLOOKUP(A:A,[1]进仓汇总!A$1:G$65536,7,0)","v":{"$error":"#N/A"}},"转椅"]
["318330021-22","清花瓷沙发                                                                                                                         HQ-SF1S",null,"单人位","白色/灰色(带印花）",1,"张","1--1",0,10,"C6",null,{"$f":"VLOOKUP(A:A,[1]进仓汇总!A$1:G$65536,7,0)","v":0},"转椅"]
["318330023","凯威沙发",null,"单人位","棕色",1,"张",null,0,10,"c6",null,{"$f":"VLOOKUP(A:A,[1]进仓汇总!A$1:G$65536,7,0)","v":{"$error":"#N/A"}},"转椅"]
["318330024","凯威沙发",null,"三人位","棕色",1,"张",null,0,5,"c6",null,{"$f":"VLOOKUP(A:A,[1]进仓汇总!A$1:G$65536,7,0)","v":{"$error":"#N/A"}},"转椅"]
["318330013","君悦沙发",null,"单人位",null,1,"张",null,0,10,"c5",null,{"$f":"VLOOKUP(A:A,[1]进仓汇总!A$1:G$65536,7,0)","v":{"$error":"#N/A"}},"转椅"]
["318330014","君悦沙发",null,"三人位",null,1,"张",null,0,5,"c5",null,{"$f":"VLOOKUP(A:A,[1]进仓汇总!A$1:G$65536,7,0)","v":{"$error":"#N/A"}},"转椅"]
["318330027","欧玛沙发",null,"单人位","蓝色",1,"张",null,{"$f":"+VLOOKUP(A:A,[1]安全库存!A$1:I$65536,9,0)","v":{"$error":"#N/A"}},10,"c6",780,{"$f":"VLOOKUP(A:A,[1]进仓汇总!A$1:G$65536,7,0)","v":{"$error":"#N/A"}},"转椅"]
["318330028","欧玛沙发",null,"三人位","蓝色",1,"张",null,{"$f":"+VLOOKUP(A:A,[1]安全库存!A$1:I$65536,9,0)","v":{"$error":"#N/A"}},5,"c6",1350,{"$f":"VLOOKUP(A:A,[1]进仓汇总!A$1:G$65536,7,0)","v":{"$error":"#N/A"}},"转椅"]
["318330029","欧玛沙发",null,"单人位","浅棕色",1,"张",20,{"$f":"+VLOOKUP(A:A,[1]安全库存!A$1:I$65536,9,0)","v":{"$error":"#N/A"}},10,"c6",null,{"$f":"VLOOKUP(A:A,[1]进仓汇总!A$1:G$65536,7,0)","v":{"$error":"#N/A"}},"转椅"]
["318330030","欧玛沙发",null,"三人位","浅棕色",1,"张",10,{"$f":"+VLOOKUP(A:A,[1]安全库存!A$1:I$65536,9,0)","v":{"$error":"#N/A"}},5,"c6",null,{"$f":"VLOOKUP(A:A,[1]进仓汇总!A$1:G$65536,7,0)","v":{"$error":"#N/A"}},"转椅"]
["318250001","主管椅",null,"OF-CH207A","蓝色",1,"张",null,{"$f":"+VLOOKUP(A:A,[1]安全库存!A$1:I$65536,9,0)","v":0},10,"c4",null,{"$f":"VLOOKUP(A:A,[1]进仓汇总!A$1:G$65536,7,0)","v":0},"转椅"]
["318220017","职员椅",null,"OF-CH207B","蓝色",1,"张",null,{"$f":"+VLOOKUP(A:A,[1]安全库存!A$1:I$65536,9,0)","v":0},10,"c4",null,{"$f":"VLOOKUP(A:A,[1]进仓汇总!A$1:G$65536,7,0)","v":0},"转椅"]
["318250002","主管椅",null,"OF-CH206A","蓝色",2,"张",null,{"$f":"+VLOOKUP(A:A,[1]安全库存!A$1:I$65536,9,0)","v":0},null,"c4",null,{"$f":"VLOOKUP(A:A,[1]进仓汇总!A$1:G$65536,7,0)","v":0},"转椅"]
["318220018","职员椅",null,"OF-CH206B","蓝色",2,"张",null,{"$f":"+VLOOKUP(A:A,[1]安全库存!A$1:I$65536,9,0)","v":0},10,"c4",null,{"$f":"VLOOKUP(A:A,[1]进仓汇总!A$1:G$65536,7,0)","v":0},"转椅"]
["318210011","大班椅",null,"180A","黑色真皮",2,"张",null,{"$f":"+VLOOKUP(A:A,[1]安全库存!A$1:I$65536,9,0)","v":3},10,null,null,{"$f":"VLOOKUP(A:A,[1]进仓汇总!A$1:G$65536,7,0)","v":0},"转椅"]
["318210012","大班椅",null,"180A","黑色西皮",2,"张",null,{"$f":"+VLOOKUP(A:A,[1]安全库存!A$1:I$65536,9,0)","v":5},10,null,null,{"$f":"VLOOKUP(A:A,[1]进仓汇总!A$1:G$65536,7,0)","v":0},"转椅"]
["318230010","班前椅",null,"180c","黑色真皮",2,"张",null,{"$f":"+VLOOKUP(A:A,[1]安全库存!A$1:I$65536,9,0)","v":0},null,"c4",null,{"$f":"VLOOKUP(A:A,[1]进仓汇总!A$1:G$65536,7,0)","v":0},"转椅"]
["318230011","班前椅",null,"180c","黑色西皮",2,"张",null,{"$f":"+VLOOKUP(A:A,[1]安全库存!A$1:I$65536,9,0)","v":0},null,"c4",null,{"$f":"VLOOKUP(A:A,[1]进仓汇总!A$1:G$65536,7,0)","v":0},"转椅"]
["318230012","会客椅",null,"OF-CH101C","黑色+米黄",2,"张",null,{"$f":"+VLOOKUP(A:A,[1]安全库存!A$1:I$65536,9,0)","v":0},null,null,null,{"$f":"VLOOKUP(A:A,[1]进仓汇总!A$1:G$65536,7,0)","v":0},"转椅"]
["318270001","实木椅",null,null,null,1,"张",null,{"$f":"+VLOOKUP(A:A,[1]安全库存!A$1:I$65536,9,0)","v":{"$error":"#N/A"}},0,"c4",null,{"$f":"VLOOKUP(A:A,[1]进仓汇总!A$1:G$65536,7,0)","v":{"$error":"#N/A"}},"转椅"]
["315000001","投标展标箱",null,null,null,1,"个","1-1",{"$f":"+VLOOKUP(A:A,[1]安全库存!A$1:I$65536,9,0)","v":{"$error":"#N/A"}},null,"301C",null,{"$f":"VLOOKUP(A:A,[1]进仓汇总!A$1:G$65536,7,0)","v":{"$error":"#N/A"}},"广告示品"]
["315000002","欧梵标志",null,null,"400#",1,"个","1-1",null,null,"301C",null,{"$f":"VLOOKUP(A:A,[1]进仓汇总!A$1:G$65536,7,0)","v":{"$error":"#N/A"}},"广告示品"]
["315000003","欧梵标志",null,null,"600#",1,"个","1-1",null,null,"301C",null,{"$f":"VLOOKUP(A:A,[1]进仓汇总!A$1:G$65536,7,0)","v":{"$error":"#N/A"}},"广告示品"]
["315000004","天花灯箱",null,null,null,"1套","个","1-1",null,null,"转椅仓",null,{"$f":"VLOOKUP(A:A,[1]进仓汇总!A$1:G$65536,7,0)","v":{"$error":"#N/A"}},"广告示品"]
["315000007","历程文化墙          （历程广告）  1200*400*60",null,"1200*400*60=4",null,1,"包","2-1",null,null,"403C",null,{"$f":"VLOOKUP(A:A,[1]进仓汇总!A$1:G$65536,7,0)","v":{"$error":"#N/A"}},"广告示品"]
["315000008","历程文化墙          （历程广告）  1200*400*60",null,"配件",null,1,"包","2-2",null,null,"403C",null,{"$f":"VLOOKUP(A:A,[1]进仓汇总!A$1:G$65536,7,0)","v":{"$error":"#N/A"}},"广告示品"]
["315000010","墙体广告            （媒体广告）   2200*1100*60",null," A:2200*1100*60",null,1,"包","3-1",null,null,"405C",null,{"$f":"VLOOKUP(A:A,[1]进仓汇总!A$1:G$65536,7,0)","v":{"$error":"#N/A"}},"广告示品"]
["315000011","墙体广告            （媒体广告）   2200*1100*60",null," B:2200*1100*60",null,1,"包","3-2",null,null,"405C",null,{"$f":"VLOOKUP(A:A,[1]进仓汇总!A$1:G$65536,7,0)","v":{"$error":"#N/A"}},"广告示品"]
["315000014","文化墙              （区域隔断）   2000*600*60",null," A:2000*600",null,1,"包","3-1",null,null,"305C",null,{"$f":"VLOOKUP(A:A,[1]进仓汇总!A$1:G$65536,7,0)","v":{"$error":"#N/A"}},"广告示品"]
["315000015","文化墙              （区域隔断）   2000*600*60",null,"B:2000*600"," ",1,"包","3-2",null,null,"305C",null,{"$f":"VLOOKUP(A:A,[1]进仓汇总!A$1:G$65536,7,0)","v":{"$error":"#N/A"}},"广告示品"]
["315000016","文化墙              （区域隔断）   2000*600*60",null,"广告脚",null,1,"包","3-3",null,null,"305C",null,{"$f":"VLOOKUP(A:A,[1]进仓汇总!A$1:G$65536,7,0)","v":{"$error":"#N/A"}},"广告示品"]
["315000017","门头雕刻LOGO",null,null,null,"50套","包","1-1",null,null,"407C",null,{"$f":"VLOOKUP(A:A,[1]进仓汇总!A$1:G$65536,7,0)","v":{"$error":"#N/A"}},"广告示品"]
["315000018","色板墙的色板",null,null,null,1,"包","1-1",null,null,"605C",null,{"$f":"VLOOKUP(A:A,[1]进仓汇总!A$1:G$65536,7,0)","v":{"$error":"#N/A"}},"广告示品"]
["315000019","色板格的色板",null,null,null,1,"包","1-1",null,null,"605C",null,{"$f":"VLOOKUP(A:A,[1]进仓汇总!A$1:G$65536,7,0)","v":{"$error":"#N/A"}},"广告示品"]
["315000021","808第二代形像墙3800*2800*80",null,"板：2168*915=4     ",null,2,"包","13-1、2",10,"5","508B",null,{"$f":"VLOOKUP(A:A,[1]进仓汇总!A$1:G$65536,7,0)","v":{"$error":"#N/A"}},"广告示品"]
["315000022","808第二代形像墙3800*2800*80",null,"板： 426*915=4",null,1,"包","13-3",5,"5","508C",null,{"$f":"VLOOKUP(A:A,[1]进仓汇总!A$1:G$65536,7,0)","v":{"$error":"#N/A"}},"广告示品"]
["315000023","808第二代形像墙3800*2800*80",null,"板：426*915=12",null,3,"包","13-4、5、6",15,"5","508C",null,{"$f":"VLOOKUP(A:A,[1]进仓汇总!A$1:G$65536,7,0)","v":{"$error":"#N/A"}},"广告示品"]
["315000024","808第二代形像墙3800*2800*80",null,"玻璃架428*917=12   光管=12",null,2,"包","13-7、8",10,"5","507C",null,{"$f":"VLOOKUP(A:A,[1]进仓汇总!A$1:G$65536,7,0)","v":{"$error":"#N/A"}},"广告示品"]
["315000025","808第二代形像墙3800*2800*80",null,"亚克力",null,2,"包","13-9、10",10,"5","507C",null,{"$f":"VLOOKUP(A:A,[1]进仓汇总!A$1:G$65536,7,0)","v":{"$error":"#N/A"}},"广告示品"]
["315000026","808第二代形像墙3800*2800*80",null,"铝材A:",null,1,"包","13-11",5,"5","508CE",null,{"$f":"VLOOKUP(A:A,[1]进仓汇总!A$1:G$65536,7,0)","v":{"$error":"#N/A"}},"广告示品"]
["315000027","808第二代形像墙3800*2800*80",null,"铝材B",null,1,"包","13-12",5,"5","508CE",null,{"$f":"VLOOKUP(A:A,[1]进仓汇总!A$1:G$65536,7,0)","v":{"$error":"#N/A"}},"广告示品"]
["315000028","808第二代形像墙3800*2800*80",null,"配件",null,1,"包","13-13",5,"5","508B",null,{"$f":"VLOOKUP(A:A,[1]进仓汇总!A$1:G$65536,7,0)","v":{"$error":"#N/A"}},"广告示品"]
["315000029","地毯",null,null,"TB-101","20块","包",null,null,null,0,null,{"$f":"VLOOKUP(A:A,[1]进仓汇总!A$1:G$65536,7,0)","v":{"$error":"#N/A"}},"广告示品"]
["315000030","地毯",null,null,"TB-102","20块","包",null,null,null,0,null,{"$f":"VLOOKUP(A:A,[1]进仓汇总!A$1:G$65536,7,0)","v":{"$error":"#N/A"}},"广告示品"]
["315000031","专卖店螺配件",null,null,null,null,"包",null,null,null,"407C",null,{"$f":"VLOOKUP(A:A,[1]进仓汇总!A$1:G$65536,7,0)","v":{"$error":"#N/A"}},"广告示品"]
["315000033-1","屏风小样",null,"368+608款",null,null,"包","2-1",20,"20","305C",null,{"$f":"VLOOKUP(A:A,[1]进仓汇总!A$1:G$65536,7,0)","v":0},"广告示品"]
["315000036","胶板小样",null,"368+608款",null,null,"包","2-2",20,"20","305C",null,{"$f":"VLOOKUP(A:A,[1]进仓汇总!A$1:G$65536,7,0)","v":{"$error":"#N/A"}},"广告示品"]
["315000034-1","屏风小样",null,"40+60款",null,null,"包","2-1",0,null,"305C",null,{"$f":"VLOOKUP(A:A,[1]进仓汇总!A$1:G$65536,7,0)","v":0},"广告示品"]
["315000037","胶板小样",null,"40+60款",null,null,"包","2-2",0,null,"305C",null,{"$f":"VLOOKUP(A:A,[1]进仓汇总!A$1:G$65536,7,0)","v":{"$error":"#N/A"}},"广告示品"]
["315000035-1","屏风小样",null,"168款",null,null,"包","2-1",20,"20","305C",null,{"$f":"VLOOKUP(A:A,[1]进仓汇总!A$1:G$65536,7,0)","v":0},"广告示品"]
["315000038","胶板小样",null,"168款",null,null,"包","2-2",20,"20","305C",null,{"$f":"VLOOKUP(A:A,[1]进仓汇总!A$1:G$65536,7,0)","v":{"$error":"#N/A"}},"广告示品"]
["315000039","168屏风",null,null,"砂白",null,null,null,{"$f":"+VLOOKUP(A:A,[1]安全库存!A$1:I$65536,9,0)","v":0},null,null,null,{"$f":"VLOOKUP(A:A,[1]进仓汇总!A$1:G$65536,7,0)","v":0},"广告示品"]

{"sheet":"Sheet1","index":1,"n_rows":4,"n_cols":1,"rows_kept":4,"cut":false,"hidden":false,"merged":[]}
["行路难，行路难"]
["多歧路，今安在"]
["乘风破浪会有时"]
["直挂云帆济沧海"]